BEGIN:VCALENDAR
VERSION:2.0
PRODID:-//FBC Lithonia - ECPv6.15.20//NONSGML v1.0//EN
CALSCALE:GREGORIAN
METHOD:PUBLISH
X-ORIGINAL-URL:https://fbclithonia.org
X-WR-CALDESC:Events for FBC Lithonia
REFRESH-INTERVAL;VALUE=DURATION:PT1H
X-Robots-Tag:noindex
X-PUBLISHED-TTL:PT1H
BEGIN:VTIMEZONE
TZID:UTC
BEGIN:STANDARD
TZOFFSETFROM:+0000
TZOFFSETTO:+0000
TZNAME:UTC
DTSTART:20210101T000000
END:STANDARD
END:VTIMEZONE
BEGIN:VTIMEZONE
TZID:America/New_York
BEGIN:DAYLIGHT
TZOFFSETFROM:-0500
TZOFFSETTO:-0400
TZNAME:EDT
DTSTART:20210314T070000
END:DAYLIGHT
BEGIN:STANDARD
TZOFFSETFROM:-0400
TZOFFSETTO:-0500
TZNAME:EST
DTSTART:20211107T060000
END:STANDARD
BEGIN:DAYLIGHT
TZOFFSETFROM:-0500
TZOFFSETTO:-0400
TZNAME:EDT
DTSTART:20220313T070000
END:DAYLIGHT
BEGIN:STANDARD
TZOFFSETFROM:-0400
TZOFFSETTO:-0500
TZNAME:EST
DTSTART:20221106T060000
END:STANDARD
BEGIN:DAYLIGHT
TZOFFSETFROM:-0500
TZOFFSETTO:-0400
TZNAME:EDT
DTSTART:20230312T070000
END:DAYLIGHT
BEGIN:STANDARD
TZOFFSETFROM:-0400
TZOFFSETTO:-0500
TZNAME:EST
DTSTART:20231105T060000
END:STANDARD
END:VTIMEZONE
BEGIN:VEVENT
DTSTART;TZID=UTC:20220601T103000
DTEND;TZID=UTC:20220601T113000
DTSTAMP:20260423T075312
CREATED:20170816T212741Z
LAST-MODIFIED:20260204T131120Z
UID:10003342-1654079400-1654083000@fbclithonia.org
SUMMARY:Adult Prayer & Bible Study
DESCRIPTION:
URL:https://fbclithonia.org/event/adult-prayer-bible-study/2022-06-01/
LOCATION:First Baptist Church\, 6616 Hillandale Dr.\, Lithonia\, GA\, 30058\, United States
GEO:33.7038088;-84.1193421
X-APPLE-STRUCTURED-LOCATION;VALUE=URI;X-ADDRESS=First Baptist Church 6616 Hillandale Dr. Lithonia GA 30058 United States;X-APPLE-RADIUS=500;X-TITLE=6616 Hillandale Dr.:geo:-84.1193421,33.7038088
END:VEVENT
BEGIN:VEVENT
DTSTART;TZID=UTC:20220601T180000
DTEND;TZID=UTC:20220601T191500
DTSTAMP:20260423T075312
CREATED:20170816T211854Z
LAST-MODIFIED:20260204T131702Z
UID:10003715-1654106400-1654110900@fbclithonia.org
SUMMARY:Team Kids
DESCRIPTION:For kids in 1st-6th grades
URL:https://fbclithonia.org/event/team-kids/2022-06-01/
LOCATION:First Baptist Church\, 6616 Hillandale Dr.\, Lithonia\, GA\, 30058\, United States
GEO:33.7038088;-84.1193421
X-APPLE-STRUCTURED-LOCATION;VALUE=URI;X-ADDRESS=First Baptist Church 6616 Hillandale Dr. Lithonia GA 30058 United States;X-APPLE-RADIUS=500;X-TITLE=6616 Hillandale Dr.:geo:-84.1193421,33.7038088
END:VEVENT
BEGIN:VEVENT
DTSTART;TZID=UTC:20220601T180000
DTEND;TZID=UTC:20220601T191500
DTSTAMP:20260423T075312
CREATED:20170816T212350Z
LAST-MODIFIED:20260204T131821Z
UID:10004088-1654106400-1654110900@fbclithonia.org
SUMMARY:Youth Group
DESCRIPTION:For students in 7th grade and up
URL:https://fbclithonia.org/event/youth-group/2022-06-01/
LOCATION:First Baptist Church\, 6616 Hillandale Dr.\, Lithonia\, GA\, 30058\, United States
GEO:33.7038088;-84.1193421
X-APPLE-STRUCTURED-LOCATION;VALUE=URI;X-ADDRESS=First Baptist Church 6616 Hillandale Dr. Lithonia GA 30058 United States;X-APPLE-RADIUS=500;X-TITLE=6616 Hillandale Dr.:geo:-84.1193421,33.7038088
END:VEVENT
BEGIN:VEVENT
DTSTART;TZID=UTC:20220601T181500
DTEND;TZID=UTC:20220601T191500
DTSTAMP:20260423T075312
CREATED:20231009T173321Z
LAST-MODIFIED:20260204T125112Z
UID:10002223-1654107300-1654110900@fbclithonia.org
SUMMARY:Adult Prayer & Bible Study
DESCRIPTION:
URL:https://fbclithonia.org/event/adult-prayer-bible-study-2/2022-06-01/
LOCATION:First Baptist Church\, 6616 Hillandale Dr.\, Lithonia\, GA\, 30058\, United States
GEO:33.7038088;-84.1193421
X-APPLE-STRUCTURED-LOCATION;VALUE=URI;X-ADDRESS=First Baptist Church 6616 Hillandale Dr. Lithonia GA 30058 United States;X-APPLE-RADIUS=500;X-TITLE=6616 Hillandale Dr.:geo:-84.1193421,33.7038088
END:VEVENT
BEGIN:VEVENT
DTSTART;TZID=UTC:20220601T193000
DTEND;TZID=UTC:20220601T203000
DTSTAMP:20260423T075312
CREATED:20170816T215603Z
LAST-MODIFIED:20260204T132116Z
UID:10004462-1654111800-1654115400@fbclithonia.org
SUMMARY:Choir Practice
DESCRIPTION:
URL:https://fbclithonia.org/event/choir-practice/2022-06-01/
LOCATION:First Baptist Church\, 6616 Hillandale Dr.\, Lithonia\, GA\, 30058\, United States
GEO:33.7038088;-84.1193421
X-APPLE-STRUCTURED-LOCATION;VALUE=URI;X-ADDRESS=First Baptist Church 6616 Hillandale Dr. Lithonia GA 30058 United States;X-APPLE-RADIUS=500;X-TITLE=6616 Hillandale Dr.:geo:-84.1193421,33.7038088
END:VEVENT
BEGIN:VEVENT
DTSTART;TZID=UTC:20220605T091500
DTEND;TZID=UTC:20220605T101500
DTSTAMP:20260423T075312
CREATED:20170816T211047Z
LAST-MODIFIED:20260204T130503Z
UID:10002968-1654420500-1654424100@fbclithonia.org
SUMMARY:Sunday School
DESCRIPTION:
URL:https://fbclithonia.org/event/sunday-school/2022-06-05/
LOCATION:First Baptist Church\, 6616 Hillandale Dr.\, Lithonia\, GA\, 30058\, United States
ORGANIZER;CN="Robert Lindsay":MAILTO:pastorboblindsay@outlook.com
GEO:33.7038088;-84.1193421
X-APPLE-STRUCTURED-LOCATION;VALUE=URI;X-ADDRESS=First Baptist Church 6616 Hillandale Dr. Lithonia GA 30058 United States;X-APPLE-RADIUS=500;X-TITLE=6616 Hillandale Dr.:geo:-84.1193421,33.7038088
END:VEVENT
BEGIN:VEVENT
DTSTART;TZID=UTC:20220605T103000
DTEND;TZID=UTC:20220605T120000
DTSTAMP:20260423T075312
CREATED:20170816T211245Z
LAST-MODIFIED:20260204T125301Z
UID:10002596-1654425000-1654430400@fbclithonia.org
SUMMARY:Worship Service
DESCRIPTION:
URL:https://fbclithonia.org/event/worship-service/2022-06-05/
LOCATION:First Baptist Church\, 6616 Hillandale Dr.\, Lithonia\, GA\, 30058\, United States
ORGANIZER;CN="Robert Lindsay":MAILTO:pastorboblindsay@outlook.com
GEO:33.7038088;-84.1193421
X-APPLE-STRUCTURED-LOCATION;VALUE=URI;X-ADDRESS=First Baptist Church 6616 Hillandale Dr. Lithonia GA 30058 United States;X-APPLE-RADIUS=500;X-TITLE=6616 Hillandale Dr.:geo:-84.1193421,33.7038088
END:VEVENT
BEGIN:VEVENT
DTSTART;TZID=UTC:20220608T103000
DTEND;TZID=UTC:20220608T113000
DTSTAMP:20260423T075312
CREATED:20170816T212741Z
LAST-MODIFIED:20260204T131120Z
UID:10003343-1654684200-1654687800@fbclithonia.org
SUMMARY:Adult Prayer & Bible Study
DESCRIPTION:
URL:https://fbclithonia.org/event/adult-prayer-bible-study/2022-06-08/
LOCATION:First Baptist Church\, 6616 Hillandale Dr.\, Lithonia\, GA\, 30058\, United States
GEO:33.7038088;-84.1193421
X-APPLE-STRUCTURED-LOCATION;VALUE=URI;X-ADDRESS=First Baptist Church 6616 Hillandale Dr. Lithonia GA 30058 United States;X-APPLE-RADIUS=500;X-TITLE=6616 Hillandale Dr.:geo:-84.1193421,33.7038088
END:VEVENT
BEGIN:VEVENT
DTSTART;TZID=UTC:20220608T180000
DTEND;TZID=UTC:20220608T191500
DTSTAMP:20260423T075312
CREATED:20170816T211854Z
LAST-MODIFIED:20260204T131702Z
UID:10003716-1654711200-1654715700@fbclithonia.org
SUMMARY:Team Kids
DESCRIPTION:For kids in 1st-6th grades
URL:https://fbclithonia.org/event/team-kids/2022-06-08/
LOCATION:First Baptist Church\, 6616 Hillandale Dr.\, Lithonia\, GA\, 30058\, United States
GEO:33.7038088;-84.1193421
X-APPLE-STRUCTURED-LOCATION;VALUE=URI;X-ADDRESS=First Baptist Church 6616 Hillandale Dr. Lithonia GA 30058 United States;X-APPLE-RADIUS=500;X-TITLE=6616 Hillandale Dr.:geo:-84.1193421,33.7038088
END:VEVENT
BEGIN:VEVENT
DTSTART;TZID=UTC:20220608T180000
DTEND;TZID=UTC:20220608T191500
DTSTAMP:20260423T075312
CREATED:20170816T212350Z
LAST-MODIFIED:20260204T131821Z
UID:10004089-1654711200-1654715700@fbclithonia.org
SUMMARY:Youth Group
DESCRIPTION:For students in 7th grade and up
URL:https://fbclithonia.org/event/youth-group/2022-06-08/
LOCATION:First Baptist Church\, 6616 Hillandale Dr.\, Lithonia\, GA\, 30058\, United States
GEO:33.7038088;-84.1193421
X-APPLE-STRUCTURED-LOCATION;VALUE=URI;X-ADDRESS=First Baptist Church 6616 Hillandale Dr. Lithonia GA 30058 United States;X-APPLE-RADIUS=500;X-TITLE=6616 Hillandale Dr.:geo:-84.1193421,33.7038088
END:VEVENT
BEGIN:VEVENT
DTSTART;TZID=UTC:20220608T181500
DTEND;TZID=UTC:20220608T191500
DTSTAMP:20260423T075312
CREATED:20231009T173321Z
LAST-MODIFIED:20260204T125112Z
UID:10002224-1654712100-1654715700@fbclithonia.org
SUMMARY:Adult Prayer & Bible Study
DESCRIPTION:
URL:https://fbclithonia.org/event/adult-prayer-bible-study-2/2022-06-08/
LOCATION:First Baptist Church\, 6616 Hillandale Dr.\, Lithonia\, GA\, 30058\, United States
GEO:33.7038088;-84.1193421
X-APPLE-STRUCTURED-LOCATION;VALUE=URI;X-ADDRESS=First Baptist Church 6616 Hillandale Dr. Lithonia GA 30058 United States;X-APPLE-RADIUS=500;X-TITLE=6616 Hillandale Dr.:geo:-84.1193421,33.7038088
END:VEVENT
BEGIN:VEVENT
DTSTART;TZID=UTC:20220608T193000
DTEND;TZID=UTC:20220608T203000
DTSTAMP:20260423T075312
CREATED:20170816T215603Z
LAST-MODIFIED:20260204T132116Z
UID:10004463-1654716600-1654720200@fbclithonia.org
SUMMARY:Choir Practice
DESCRIPTION:
URL:https://fbclithonia.org/event/choir-practice/2022-06-08/
LOCATION:First Baptist Church\, 6616 Hillandale Dr.\, Lithonia\, GA\, 30058\, United States
GEO:33.7038088;-84.1193421
X-APPLE-STRUCTURED-LOCATION;VALUE=URI;X-ADDRESS=First Baptist Church 6616 Hillandale Dr. Lithonia GA 30058 United States;X-APPLE-RADIUS=500;X-TITLE=6616 Hillandale Dr.:geo:-84.1193421,33.7038088
END:VEVENT
BEGIN:VEVENT
DTSTART;TZID=UTC:20220611T103000
DTEND;TZID=UTC:20220611T123000
DTSTAMP:20260423T075312
CREATED:20170816T213638Z
LAST-MODIFIED:20260204T124637Z
UID:10001946-1654943400-1654950600@fbclithonia.org
SUMMARY:WMU Active Baptist Women
DESCRIPTION:For mature women
URL:https://fbclithonia.org/event/wmu-active-baptist-women/2022-06-11/
LOCATION:First Baptist Church\, 6616 Hillandale Dr.\, Lithonia\, GA\, 30058\, United States
GEO:33.7038088;-84.1193421
X-APPLE-STRUCTURED-LOCATION;VALUE=URI;X-ADDRESS=First Baptist Church 6616 Hillandale Dr. Lithonia GA 30058 United States;X-APPLE-RADIUS=500;X-TITLE=6616 Hillandale Dr.:geo:-84.1193421,33.7038088
END:VEVENT
BEGIN:VEVENT
DTSTART;TZID=UTC:20220612T091500
DTEND;TZID=UTC:20220612T101500
DTSTAMP:20260423T075312
CREATED:20170816T211047Z
LAST-MODIFIED:20260204T130503Z
UID:10002969-1655025300-1655028900@fbclithonia.org
SUMMARY:Sunday School
DESCRIPTION:
URL:https://fbclithonia.org/event/sunday-school/2022-06-12/
LOCATION:First Baptist Church\, 6616 Hillandale Dr.\, Lithonia\, GA\, 30058\, United States
ORGANIZER;CN="Robert Lindsay":MAILTO:pastorboblindsay@outlook.com
GEO:33.7038088;-84.1193421
X-APPLE-STRUCTURED-LOCATION;VALUE=URI;X-ADDRESS=First Baptist Church 6616 Hillandale Dr. Lithonia GA 30058 United States;X-APPLE-RADIUS=500;X-TITLE=6616 Hillandale Dr.:geo:-84.1193421,33.7038088
END:VEVENT
BEGIN:VEVENT
DTSTART;TZID=UTC:20220612T103000
DTEND;TZID=UTC:20220612T120000
DTSTAMP:20260423T075312
CREATED:20170816T211245Z
LAST-MODIFIED:20260204T125301Z
UID:10002597-1655029800-1655035200@fbclithonia.org
SUMMARY:Worship Service
DESCRIPTION:
URL:https://fbclithonia.org/event/worship-service/2022-06-12/
LOCATION:First Baptist Church\, 6616 Hillandale Dr.\, Lithonia\, GA\, 30058\, United States
ORGANIZER;CN="Robert Lindsay":MAILTO:pastorboblindsay@outlook.com
GEO:33.7038088;-84.1193421
X-APPLE-STRUCTURED-LOCATION;VALUE=URI;X-ADDRESS=First Baptist Church 6616 Hillandale Dr. Lithonia GA 30058 United States;X-APPLE-RADIUS=500;X-TITLE=6616 Hillandale Dr.:geo:-84.1193421,33.7038088
END:VEVENT
BEGIN:VEVENT
DTSTART;TZID=UTC:20220612T120000
DTEND;TZID=UTC:20220612T130000
DTSTAMP:20260423T075312
CREATED:20170816T215310Z
LAST-MODIFIED:20260204T124418Z
UID:10001861-1655035200-1655038800@fbclithonia.org
SUMMARY:Deacon Meeting
DESCRIPTION:
URL:https://fbclithonia.org/event/deacon-meeting/2022-06-12/
LOCATION:First Baptist Church\, 6616 Hillandale Dr.\, Lithonia\, GA\, 30058\, United States
GEO:33.7038088;-84.1193421
X-APPLE-STRUCTURED-LOCATION;VALUE=URI;X-ADDRESS=First Baptist Church 6616 Hillandale Dr. Lithonia GA 30058 United States;X-APPLE-RADIUS=500;X-TITLE=6616 Hillandale Dr.:geo:-84.1193421,33.7038088
END:VEVENT
BEGIN:VEVENT
DTSTART;TZID=UTC:20220612T120000
DTEND;TZID=UTC:20220612T130000
DTSTAMP:20260423T075313
CREATED:20170816T215440Z
LAST-MODIFIED:20260204T122927Z
UID:10001776-1655035200-1655038800@fbclithonia.org
SUMMARY:WMU Leadership Meeting
DESCRIPTION:
URL:https://fbclithonia.org/event/wmu-leadership-meeting/2022-06-12/
LOCATION:First Baptist Church\, 6616 Hillandale Dr.\, Lithonia\, GA\, 30058\, United States
GEO:33.7038088;-84.1193421
X-APPLE-STRUCTURED-LOCATION;VALUE=URI;X-ADDRESS=First Baptist Church 6616 Hillandale Dr. Lithonia GA 30058 United States;X-APPLE-RADIUS=500;X-TITLE=6616 Hillandale Dr.:geo:-84.1193421,33.7038088
END:VEVENT
BEGIN:VEVENT
DTSTART;TZID=America/New_York:20220612T180000
DTEND;TZID=America/New_York:20220612T203000
DTSTAMP:20260423T075313
CREATED:20220428T151531Z
LAST-MODIFIED:20260204T105608Z
UID:10001209-1655056800-1655065800@fbclithonia.org
SUMMARY:Vacation Bible School
DESCRIPTION:Vacation Bible School will be a week of fun\, games\, crafts\, Bible stories\, worship\, snacks\, growth for all ages! This year we will be taking a trip to Spark Studios where we will discover that we have been Created! Designed! and Empowered! By an amazing God. Don’t miss the Big Kick-Off Event on Saturday at 1PM!
URL:https://fbclithonia.org/event/vacation-bible-school-5/2022-06-12/
LOCATION:First Baptist Church\, 6616 Hillandale Dr.\, Lithonia\, GA\, 30058\, United States
CATEGORIES:Featured
ATTACH;FMTTYPE=image/webp:https://fbclithonia.org/wp-content/uploads/2022/04/Spark-Studios.webp
GEO:33.7038088;-84.1193421
X-APPLE-STRUCTURED-LOCATION;VALUE=URI;X-ADDRESS=First Baptist Church 6616 Hillandale Dr. Lithonia GA 30058 United States;X-APPLE-RADIUS=500;X-TITLE=6616 Hillandale Dr.:geo:-84.1193421,33.7038088
END:VEVENT
BEGIN:VEVENT
DTSTART;TZID=America/New_York:20220613T180000
DTEND;TZID=America/New_York:20220613T203000
DTSTAMP:20260423T075313
CREATED:20220428T151531Z
LAST-MODIFIED:20260204T105608Z
UID:10001210-1655143200-1655152200@fbclithonia.org
SUMMARY:Vacation Bible School
DESCRIPTION:Vacation Bible School will be a week of fun\, games\, crafts\, Bible stories\, worship\, snacks\, growth for all ages! This year we will be taking a trip to Spark Studios where we will discover that we have been Created! Designed! and Empowered! By an amazing God. Don’t miss the Big Kick-Off Event on Saturday at 1PM!
URL:https://fbclithonia.org/event/vacation-bible-school-5/2022-06-13/
LOCATION:First Baptist Church\, 6616 Hillandale Dr.\, Lithonia\, GA\, 30058\, United States
CATEGORIES:Featured
ATTACH;FMTTYPE=image/webp:https://fbclithonia.org/wp-content/uploads/2022/04/Spark-Studios.webp
GEO:33.7038088;-84.1193421
X-APPLE-STRUCTURED-LOCATION;VALUE=URI;X-ADDRESS=First Baptist Church 6616 Hillandale Dr. Lithonia GA 30058 United States;X-APPLE-RADIUS=500;X-TITLE=6616 Hillandale Dr.:geo:-84.1193421,33.7038088
END:VEVENT
BEGIN:VEVENT
DTSTART;TZID=UTC:20220613T193000
DTEND;TZID=UTC:20220613T210000
DTSTAMP:20260423T075313
CREATED:20170816T213405Z
LAST-MODIFIED:20260204T122657Z
UID:10001691-1655148600-1655154000@fbclithonia.org
SUMMARY:WMU Baptist Middle Women
DESCRIPTION:For younger women
URL:https://fbclithonia.org/event/wmu-baptist-middle-women/2022-06-13/
LOCATION:GA
END:VEVENT
BEGIN:VEVENT
DTSTART;TZID=UTC:20220614T103000
DTEND;TZID=UTC:20220614T123000
DTSTAMP:20260423T075313
CREATED:20170816T214937Z
LAST-MODIFIED:20260204T120014Z
UID:10001530-1655202600-1655209800@fbclithonia.org
SUMMARY:WMU Dayspring Baptist Women
DESCRIPTION:For senior adult women
URL:https://fbclithonia.org/event/wmu-dayspring-baptist-women/2022-06-14/
LOCATION:Yellow Brick House\, 6903 Main St.\, Lithonia\, GA\, 30058\, United States
GEO:33.7096255;-84.1080099
X-APPLE-STRUCTURED-LOCATION;VALUE=URI;X-ADDRESS=Yellow Brick House 6903 Main St. Lithonia GA 30058 United States;X-APPLE-RADIUS=500;X-TITLE=6903 Main St.:geo:-84.1080099,33.7096255
END:VEVENT
BEGIN:VEVENT
DTSTART;TZID=America/New_York:20220614T180000
DTEND;TZID=America/New_York:20220614T203000
DTSTAMP:20260423T075313
CREATED:20220428T151531Z
LAST-MODIFIED:20260204T105608Z
UID:10001211-1655229600-1655238600@fbclithonia.org
SUMMARY:Vacation Bible School
DESCRIPTION:Vacation Bible School will be a week of fun\, games\, crafts\, Bible stories\, worship\, snacks\, growth for all ages! This year we will be taking a trip to Spark Studios where we will discover that we have been Created! Designed! and Empowered! By an amazing God. Don’t miss the Big Kick-Off Event on Saturday at 1PM!
URL:https://fbclithonia.org/event/vacation-bible-school-5/2022-06-14/
LOCATION:First Baptist Church\, 6616 Hillandale Dr.\, Lithonia\, GA\, 30058\, United States
CATEGORIES:Featured
ATTACH;FMTTYPE=image/webp:https://fbclithonia.org/wp-content/uploads/2022/04/Spark-Studios.webp
GEO:33.7038088;-84.1193421
X-APPLE-STRUCTURED-LOCATION;VALUE=URI;X-ADDRESS=First Baptist Church 6616 Hillandale Dr. Lithonia GA 30058 United States;X-APPLE-RADIUS=500;X-TITLE=6616 Hillandale Dr.:geo:-84.1193421,33.7038088
END:VEVENT
BEGIN:VEVENT
DTSTART;TZID=UTC:20220615T103000
DTEND;TZID=UTC:20220615T113000
DTSTAMP:20260423T075313
CREATED:20170816T212741Z
LAST-MODIFIED:20260204T131120Z
UID:10003344-1655289000-1655292600@fbclithonia.org
SUMMARY:Adult Prayer & Bible Study
DESCRIPTION:
URL:https://fbclithonia.org/event/adult-prayer-bible-study/2022-06-15/
LOCATION:First Baptist Church\, 6616 Hillandale Dr.\, Lithonia\, GA\, 30058\, United States
GEO:33.7038088;-84.1193421
X-APPLE-STRUCTURED-LOCATION;VALUE=URI;X-ADDRESS=First Baptist Church 6616 Hillandale Dr. Lithonia GA 30058 United States;X-APPLE-RADIUS=500;X-TITLE=6616 Hillandale Dr.:geo:-84.1193421,33.7038088
END:VEVENT
BEGIN:VEVENT
DTSTART;TZID=UTC:20220615T180000
DTEND;TZID=UTC:20220615T191500
DTSTAMP:20260423T075313
CREATED:20170816T211854Z
LAST-MODIFIED:20260204T131702Z
UID:10003717-1655316000-1655320500@fbclithonia.org
SUMMARY:Team Kids
DESCRIPTION:For kids in 1st-6th grades
URL:https://fbclithonia.org/event/team-kids/2022-06-15/
LOCATION:First Baptist Church\, 6616 Hillandale Dr.\, Lithonia\, GA\, 30058\, United States
GEO:33.7038088;-84.1193421
X-APPLE-STRUCTURED-LOCATION;VALUE=URI;X-ADDRESS=First Baptist Church 6616 Hillandale Dr. Lithonia GA 30058 United States;X-APPLE-RADIUS=500;X-TITLE=6616 Hillandale Dr.:geo:-84.1193421,33.7038088
END:VEVENT
BEGIN:VEVENT
DTSTART;TZID=UTC:20220615T180000
DTEND;TZID=UTC:20220615T191500
DTSTAMP:20260423T075313
CREATED:20170816T212350Z
LAST-MODIFIED:20260204T131821Z
UID:10004090-1655316000-1655320500@fbclithonia.org
SUMMARY:Youth Group
DESCRIPTION:For students in 7th grade and up
URL:https://fbclithonia.org/event/youth-group/2022-06-15/
LOCATION:First Baptist Church\, 6616 Hillandale Dr.\, Lithonia\, GA\, 30058\, United States
GEO:33.7038088;-84.1193421
X-APPLE-STRUCTURED-LOCATION;VALUE=URI;X-ADDRESS=First Baptist Church 6616 Hillandale Dr. Lithonia GA 30058 United States;X-APPLE-RADIUS=500;X-TITLE=6616 Hillandale Dr.:geo:-84.1193421,33.7038088
END:VEVENT
BEGIN:VEVENT
DTSTART;TZID=America/New_York:20220615T180000
DTEND;TZID=America/New_York:20220615T203000
DTSTAMP:20260423T075313
CREATED:20220428T151531Z
LAST-MODIFIED:20260204T105608Z
UID:10001212-1655316000-1655325000@fbclithonia.org
SUMMARY:Vacation Bible School
DESCRIPTION:Vacation Bible School will be a week of fun\, games\, crafts\, Bible stories\, worship\, snacks\, growth for all ages! This year we will be taking a trip to Spark Studios where we will discover that we have been Created! Designed! and Empowered! By an amazing God. Don’t miss the Big Kick-Off Event on Saturday at 1PM!
URL:https://fbclithonia.org/event/vacation-bible-school-5/2022-06-15/
LOCATION:First Baptist Church\, 6616 Hillandale Dr.\, Lithonia\, GA\, 30058\, United States
CATEGORIES:Featured
ATTACH;FMTTYPE=image/webp:https://fbclithonia.org/wp-content/uploads/2022/04/Spark-Studios.webp
GEO:33.7038088;-84.1193421
X-APPLE-STRUCTURED-LOCATION;VALUE=URI;X-ADDRESS=First Baptist Church 6616 Hillandale Dr. Lithonia GA 30058 United States;X-APPLE-RADIUS=500;X-TITLE=6616 Hillandale Dr.:geo:-84.1193421,33.7038088
END:VEVENT
BEGIN:VEVENT
DTSTART;TZID=UTC:20220615T181500
DTEND;TZID=UTC:20220615T191500
DTSTAMP:20260423T075313
CREATED:20231009T173321Z
LAST-MODIFIED:20260204T125112Z
UID:10002225-1655316900-1655320500@fbclithonia.org
SUMMARY:Adult Prayer & Bible Study
DESCRIPTION:
URL:https://fbclithonia.org/event/adult-prayer-bible-study-2/2022-06-15/
LOCATION:First Baptist Church\, 6616 Hillandale Dr.\, Lithonia\, GA\, 30058\, United States
GEO:33.7038088;-84.1193421
X-APPLE-STRUCTURED-LOCATION;VALUE=URI;X-ADDRESS=First Baptist Church 6616 Hillandale Dr. Lithonia GA 30058 United States;X-APPLE-RADIUS=500;X-TITLE=6616 Hillandale Dr.:geo:-84.1193421,33.7038088
END:VEVENT
BEGIN:VEVENT
DTSTART;TZID=UTC:20220615T193000
DTEND;TZID=UTC:20220615T203000
DTSTAMP:20260423T075313
CREATED:20170816T215603Z
LAST-MODIFIED:20260204T132116Z
UID:10004464-1655321400-1655325000@fbclithonia.org
SUMMARY:Choir Practice
DESCRIPTION:
URL:https://fbclithonia.org/event/choir-practice/2022-06-15/
LOCATION:First Baptist Church\, 6616 Hillandale Dr.\, Lithonia\, GA\, 30058\, United States
GEO:33.7038088;-84.1193421
X-APPLE-STRUCTURED-LOCATION;VALUE=URI;X-ADDRESS=First Baptist Church 6616 Hillandale Dr. Lithonia GA 30058 United States;X-APPLE-RADIUS=500;X-TITLE=6616 Hillandale Dr.:geo:-84.1193421,33.7038088
END:VEVENT
BEGIN:VEVENT
DTSTART;TZID=UTC:20220616T120000
DTEND;TZID=UTC:20220616T140000
DTSTAMP:20260423T075313
CREATED:20170909T223624Z
LAST-MODIFIED:20260204T111401Z
UID:10001378-1655380800-1655388000@fbclithonia.org
SUMMARY:Young At Heart
DESCRIPTION:We would like to invite you to come and be a part of a special ministry to those 55 and older. We have a great time fellow shipping around the tables\, playing games\, enjoying guest musicians\, or hearing from other interesting special talented people. Typically everyone who is able brings a covered dish recipe to share with the whole group. There is always bunches of laughter and fun with our friends. Everyone is welcome!!
URL:https://fbclithonia.org/event/young-at-heart/2022-06-16/
LOCATION:First Baptist Church\, 6616 Hillandale Dr.\, Lithonia\, GA\, 30058\, United States
ATTACH;FMTTYPE=image/webp:https://fbclithonia.org/wp-content/uploads/2017/09/20181207_195233.webp
GEO:33.7038088;-84.1193421
X-APPLE-STRUCTURED-LOCATION;VALUE=URI;X-ADDRESS=First Baptist Church 6616 Hillandale Dr. Lithonia GA 30058 United States;X-APPLE-RADIUS=500;X-TITLE=6616 Hillandale Dr.:geo:-84.1193421,33.7038088
END:VEVENT
BEGIN:VEVENT
DTSTART;TZID=UTC:20220616T120000
DTEND;TZID=UTC:20220616T140000
DTSTAMP:20260423T075313
CREATED:20170909T223624Z
LAST-MODIFIED:20260204T111005Z
UID:10001320-1655380800-1655388000@fbclithonia.org
SUMMARY:Young At Heart
DESCRIPTION:We would like to invite you to come and be a part of a special ministry to those 55 and older. We have a great time fellow shipping around the tables\, playing games\, enjoying guest musicians\, or hearing from other interesting special talented people. Typically everyone who is able brings a covered dish recipe to share with the whole group. There is always bunches of laughter and fun with our friends. Everyone is welcome!!
URL:https://fbclithonia.org/event/young-at-heart-2021-01-21/2022-06-16/
LOCATION:First Baptist Church\, 6616 Hillandale Dr.\, Lithonia\, GA\, 30058\, United States
ATTACH;FMTTYPE=image/webp:https://fbclithonia.org/wp-content/uploads/2017/09/20181207_195233.webp
GEO:33.7038088;-84.1193421
X-APPLE-STRUCTURED-LOCATION;VALUE=URI;X-ADDRESS=First Baptist Church 6616 Hillandale Dr. Lithonia GA 30058 United States;X-APPLE-RADIUS=500;X-TITLE=6616 Hillandale Dr.:geo:-84.1193421,33.7038088
END:VEVENT
END:VCALENDAR