BEGIN:VCALENDAR
VERSION:2.0
PRODID:-//FBC Lithonia - ECPv6.15.20//NONSGML v1.0//EN
CALSCALE:GREGORIAN
METHOD:PUBLISH
X-ORIGINAL-URL:https://fbclithonia.org
X-WR-CALDESC:Events for FBC Lithonia
REFRESH-INTERVAL;VALUE=DURATION:PT1H
X-Robots-Tag:noindex
X-PUBLISHED-TTL:PT1H
BEGIN:VTIMEZONE
TZID:UTC
BEGIN:STANDARD
TZOFFSETFROM:+0000
TZOFFSETTO:+0000
TZNAME:UTC
DTSTART:20220101T000000
END:STANDARD
END:VTIMEZONE
BEGIN:VEVENT
DTSTART;TZID=UTC:20230201T103000
DTEND;TZID=UTC:20230201T113000
DTSTAMP:20260421T204200
CREATED:20170816T212741Z
LAST-MODIFIED:20260204T131120Z
UID:10003377-1675247400-1675251000@fbclithonia.org
SUMMARY:Adult Prayer & Bible Study
DESCRIPTION:
URL:https://fbclithonia.org/event/adult-prayer-bible-study/2023-02-01/
LOCATION:First Baptist Church\, 6616 Hillandale Dr.\, Lithonia\, GA\, 30058\, United States
GEO:33.7038088;-84.1193421
X-APPLE-STRUCTURED-LOCATION;VALUE=URI;X-ADDRESS=First Baptist Church 6616 Hillandale Dr. Lithonia GA 30058 United States;X-APPLE-RADIUS=500;X-TITLE=6616 Hillandale Dr.:geo:-84.1193421,33.7038088
END:VEVENT
BEGIN:VEVENT
DTSTART;TZID=UTC:20230201T180000
DTEND;TZID=UTC:20230201T191500
DTSTAMP:20260421T204200
CREATED:20170816T211854Z
LAST-MODIFIED:20260204T131702Z
UID:10003750-1675274400-1675278900@fbclithonia.org
SUMMARY:Team Kids
DESCRIPTION:For kids in 1st-6th grades
URL:https://fbclithonia.org/event/team-kids/2023-02-01/
LOCATION:First Baptist Church\, 6616 Hillandale Dr.\, Lithonia\, GA\, 30058\, United States
GEO:33.7038088;-84.1193421
X-APPLE-STRUCTURED-LOCATION;VALUE=URI;X-ADDRESS=First Baptist Church 6616 Hillandale Dr. Lithonia GA 30058 United States;X-APPLE-RADIUS=500;X-TITLE=6616 Hillandale Dr.:geo:-84.1193421,33.7038088
END:VEVENT
BEGIN:VEVENT
DTSTART;TZID=UTC:20230201T180000
DTEND;TZID=UTC:20230201T191500
DTSTAMP:20260421T204200
CREATED:20170816T212350Z
LAST-MODIFIED:20260204T131821Z
UID:10004123-1675274400-1675278900@fbclithonia.org
SUMMARY:Youth Group
DESCRIPTION:For students in 7th grade and up
URL:https://fbclithonia.org/event/youth-group/2023-02-01/
LOCATION:First Baptist Church\, 6616 Hillandale Dr.\, Lithonia\, GA\, 30058\, United States
GEO:33.7038088;-84.1193421
X-APPLE-STRUCTURED-LOCATION;VALUE=URI;X-ADDRESS=First Baptist Church 6616 Hillandale Dr. Lithonia GA 30058 United States;X-APPLE-RADIUS=500;X-TITLE=6616 Hillandale Dr.:geo:-84.1193421,33.7038088
END:VEVENT
BEGIN:VEVENT
DTSTART;TZID=UTC:20230201T181500
DTEND;TZID=UTC:20230201T191500
DTSTAMP:20260421T204200
CREATED:20231009T173321Z
LAST-MODIFIED:20260204T125112Z
UID:10002258-1675275300-1675278900@fbclithonia.org
SUMMARY:Adult Prayer & Bible Study
DESCRIPTION:
URL:https://fbclithonia.org/event/adult-prayer-bible-study-2/2023-02-01/
LOCATION:First Baptist Church\, 6616 Hillandale Dr.\, Lithonia\, GA\, 30058\, United States
GEO:33.7038088;-84.1193421
X-APPLE-STRUCTURED-LOCATION;VALUE=URI;X-ADDRESS=First Baptist Church 6616 Hillandale Dr. Lithonia GA 30058 United States;X-APPLE-RADIUS=500;X-TITLE=6616 Hillandale Dr.:geo:-84.1193421,33.7038088
END:VEVENT
BEGIN:VEVENT
DTSTART;TZID=UTC:20230201T193000
DTEND;TZID=UTC:20230201T203000
DTSTAMP:20260421T204200
CREATED:20170816T215603Z
LAST-MODIFIED:20260204T132116Z
UID:10004497-1675279800-1675283400@fbclithonia.org
SUMMARY:Choir Practice
DESCRIPTION:
URL:https://fbclithonia.org/event/choir-practice/2023-02-01/
LOCATION:First Baptist Church\, 6616 Hillandale Dr.\, Lithonia\, GA\, 30058\, United States
GEO:33.7038088;-84.1193421
X-APPLE-STRUCTURED-LOCATION;VALUE=URI;X-ADDRESS=First Baptist Church 6616 Hillandale Dr. Lithonia GA 30058 United States;X-APPLE-RADIUS=500;X-TITLE=6616 Hillandale Dr.:geo:-84.1193421,33.7038088
END:VEVENT
BEGIN:VEVENT
DTSTART;TZID=UTC:20230205T091500
DTEND;TZID=UTC:20230205T101500
DTSTAMP:20260421T204200
CREATED:20170816T211047Z
LAST-MODIFIED:20260204T130503Z
UID:10003003-1675588500-1675592100@fbclithonia.org
SUMMARY:Sunday School
DESCRIPTION:
URL:https://fbclithonia.org/event/sunday-school/2023-02-05/
LOCATION:First Baptist Church\, 6616 Hillandale Dr.\, Lithonia\, GA\, 30058\, United States
ORGANIZER;CN="Robert Lindsay":MAILTO:pastorboblindsay@outlook.com
GEO:33.7038088;-84.1193421
X-APPLE-STRUCTURED-LOCATION;VALUE=URI;X-ADDRESS=First Baptist Church 6616 Hillandale Dr. Lithonia GA 30058 United States;X-APPLE-RADIUS=500;X-TITLE=6616 Hillandale Dr.:geo:-84.1193421,33.7038088
END:VEVENT
BEGIN:VEVENT
DTSTART;TZID=UTC:20230205T103000
DTEND;TZID=UTC:20230205T120000
DTSTAMP:20260421T204200
CREATED:20170816T211245Z
LAST-MODIFIED:20260204T125301Z
UID:10002631-1675593000-1675598400@fbclithonia.org
SUMMARY:Worship Service
DESCRIPTION:
URL:https://fbclithonia.org/event/worship-service/2023-02-05/
LOCATION:First Baptist Church\, 6616 Hillandale Dr.\, Lithonia\, GA\, 30058\, United States
ORGANIZER;CN="Robert Lindsay":MAILTO:pastorboblindsay@outlook.com
GEO:33.7038088;-84.1193421
X-APPLE-STRUCTURED-LOCATION;VALUE=URI;X-ADDRESS=First Baptist Church 6616 Hillandale Dr. Lithonia GA 30058 United States;X-APPLE-RADIUS=500;X-TITLE=6616 Hillandale Dr.:geo:-84.1193421,33.7038088
END:VEVENT
BEGIN:VEVENT
DTSTART;TZID=UTC:20230205T103000
DTEND;TZID=UTC:20230205T120000
DTSTAMP:20260421T204200
CREATED:20260204T110221Z
LAST-MODIFIED:20260204T110359Z
UID:10000773-1675593000-1675598400@fbclithonia.org
SUMMARY:Worship Service
DESCRIPTION:
URL:https://fbclithonia.org/event/worship-service-2023-02-05-2/2023-02-05/
LOCATION:First Baptist Church\, 6616 Hillandale Dr.\, Lithonia\, GA\, 30058\, United States
ORGANIZER;CN="Robert Lindsay":MAILTO:pastorboblindsay@outlook.com
GEO:33.7038088;-84.1193421
X-APPLE-STRUCTURED-LOCATION;VALUE=URI;X-ADDRESS=First Baptist Church 6616 Hillandale Dr. Lithonia GA 30058 United States;X-APPLE-RADIUS=500;X-TITLE=6616 Hillandale Dr.:geo:-84.1193421,33.7038088
END:VEVENT
BEGIN:VEVENT
DTSTART;TZID=UTC:20230208T103000
DTEND;TZID=UTC:20230208T113000
DTSTAMP:20260421T204200
CREATED:20170816T212741Z
LAST-MODIFIED:20260204T131120Z
UID:10003378-1675852200-1675855800@fbclithonia.org
SUMMARY:Adult Prayer & Bible Study
DESCRIPTION:
URL:https://fbclithonia.org/event/adult-prayer-bible-study/2023-02-08/
LOCATION:First Baptist Church\, 6616 Hillandale Dr.\, Lithonia\, GA\, 30058\, United States
GEO:33.7038088;-84.1193421
X-APPLE-STRUCTURED-LOCATION;VALUE=URI;X-ADDRESS=First Baptist Church 6616 Hillandale Dr. Lithonia GA 30058 United States;X-APPLE-RADIUS=500;X-TITLE=6616 Hillandale Dr.:geo:-84.1193421,33.7038088
END:VEVENT
BEGIN:VEVENT
DTSTART;TZID=UTC:20230208T180000
DTEND;TZID=UTC:20230208T191500
DTSTAMP:20260421T204200
CREATED:20170816T211854Z
LAST-MODIFIED:20260204T131702Z
UID:10003751-1675879200-1675883700@fbclithonia.org
SUMMARY:Team Kids
DESCRIPTION:For kids in 1st-6th grades
URL:https://fbclithonia.org/event/team-kids/2023-02-08/
LOCATION:First Baptist Church\, 6616 Hillandale Dr.\, Lithonia\, GA\, 30058\, United States
GEO:33.7038088;-84.1193421
X-APPLE-STRUCTURED-LOCATION;VALUE=URI;X-ADDRESS=First Baptist Church 6616 Hillandale Dr. Lithonia GA 30058 United States;X-APPLE-RADIUS=500;X-TITLE=6616 Hillandale Dr.:geo:-84.1193421,33.7038088
END:VEVENT
BEGIN:VEVENT
DTSTART;TZID=UTC:20230208T180000
DTEND;TZID=UTC:20230208T191500
DTSTAMP:20260421T204200
CREATED:20170816T212350Z
LAST-MODIFIED:20260204T131821Z
UID:10004124-1675879200-1675883700@fbclithonia.org
SUMMARY:Youth Group
DESCRIPTION:For students in 7th grade and up
URL:https://fbclithonia.org/event/youth-group/2023-02-08/
LOCATION:First Baptist Church\, 6616 Hillandale Dr.\, Lithonia\, GA\, 30058\, United States
GEO:33.7038088;-84.1193421
X-APPLE-STRUCTURED-LOCATION;VALUE=URI;X-ADDRESS=First Baptist Church 6616 Hillandale Dr. Lithonia GA 30058 United States;X-APPLE-RADIUS=500;X-TITLE=6616 Hillandale Dr.:geo:-84.1193421,33.7038088
END:VEVENT
BEGIN:VEVENT
DTSTART;TZID=UTC:20230208T181500
DTEND;TZID=UTC:20230208T191500
DTSTAMP:20260421T204200
CREATED:20231009T173321Z
LAST-MODIFIED:20260204T125112Z
UID:10002259-1675880100-1675883700@fbclithonia.org
SUMMARY:Adult Prayer & Bible Study
DESCRIPTION:
URL:https://fbclithonia.org/event/adult-prayer-bible-study-2/2023-02-08/
LOCATION:First Baptist Church\, 6616 Hillandale Dr.\, Lithonia\, GA\, 30058\, United States
GEO:33.7038088;-84.1193421
X-APPLE-STRUCTURED-LOCATION;VALUE=URI;X-ADDRESS=First Baptist Church 6616 Hillandale Dr. Lithonia GA 30058 United States;X-APPLE-RADIUS=500;X-TITLE=6616 Hillandale Dr.:geo:-84.1193421,33.7038088
END:VEVENT
BEGIN:VEVENT
DTSTART;TZID=UTC:20230208T193000
DTEND;TZID=UTC:20230208T203000
DTSTAMP:20260421T204200
CREATED:20170816T215603Z
LAST-MODIFIED:20260204T132116Z
UID:10004498-1675884600-1675888200@fbclithonia.org
SUMMARY:Choir Practice
DESCRIPTION:
URL:https://fbclithonia.org/event/choir-practice/2023-02-08/
LOCATION:First Baptist Church\, 6616 Hillandale Dr.\, Lithonia\, GA\, 30058\, United States
GEO:33.7038088;-84.1193421
X-APPLE-STRUCTURED-LOCATION;VALUE=URI;X-ADDRESS=First Baptist Church 6616 Hillandale Dr. Lithonia GA 30058 United States;X-APPLE-RADIUS=500;X-TITLE=6616 Hillandale Dr.:geo:-84.1193421,33.7038088
END:VEVENT
BEGIN:VEVENT
DTSTART;TZID=UTC:20230211T103000
DTEND;TZID=UTC:20230211T123000
DTSTAMP:20260421T204200
CREATED:20170816T213638Z
LAST-MODIFIED:20260204T124637Z
UID:10001954-1676111400-1676118600@fbclithonia.org
SUMMARY:WMU Active Baptist Women
DESCRIPTION:For mature women
URL:https://fbclithonia.org/event/wmu-active-baptist-women/2023-02-11/
LOCATION:First Baptist Church\, 6616 Hillandale Dr.\, Lithonia\, GA\, 30058\, United States
GEO:33.7038088;-84.1193421
X-APPLE-STRUCTURED-LOCATION;VALUE=URI;X-ADDRESS=First Baptist Church 6616 Hillandale Dr. Lithonia GA 30058 United States;X-APPLE-RADIUS=500;X-TITLE=6616 Hillandale Dr.:geo:-84.1193421,33.7038088
END:VEVENT
BEGIN:VEVENT
DTSTART;TZID=UTC:20230212T091500
DTEND;TZID=UTC:20230212T101500
DTSTAMP:20260421T204200
CREATED:20170816T211047Z
LAST-MODIFIED:20260204T130503Z
UID:10003004-1676193300-1676196900@fbclithonia.org
SUMMARY:Sunday School
DESCRIPTION:
URL:https://fbclithonia.org/event/sunday-school/2023-02-12/
LOCATION:First Baptist Church\, 6616 Hillandale Dr.\, Lithonia\, GA\, 30058\, United States
ORGANIZER;CN="Robert Lindsay":MAILTO:pastorboblindsay@outlook.com
GEO:33.7038088;-84.1193421
X-APPLE-STRUCTURED-LOCATION;VALUE=URI;X-ADDRESS=First Baptist Church 6616 Hillandale Dr. Lithonia GA 30058 United States;X-APPLE-RADIUS=500;X-TITLE=6616 Hillandale Dr.:geo:-84.1193421,33.7038088
END:VEVENT
BEGIN:VEVENT
DTSTART;TZID=UTC:20230212T103000
DTEND;TZID=UTC:20230212T120000
DTSTAMP:20260421T204200
CREATED:20170816T211245Z
LAST-MODIFIED:20260204T125301Z
UID:10002632-1676197800-1676203200@fbclithonia.org
SUMMARY:Worship Service
DESCRIPTION:
URL:https://fbclithonia.org/event/worship-service/2023-02-12/
LOCATION:First Baptist Church\, 6616 Hillandale Dr.\, Lithonia\, GA\, 30058\, United States
ORGANIZER;CN="Robert Lindsay":MAILTO:pastorboblindsay@outlook.com
GEO:33.7038088;-84.1193421
X-APPLE-STRUCTURED-LOCATION;VALUE=URI;X-ADDRESS=First Baptist Church 6616 Hillandale Dr. Lithonia GA 30058 United States;X-APPLE-RADIUS=500;X-TITLE=6616 Hillandale Dr.:geo:-84.1193421,33.7038088
END:VEVENT
BEGIN:VEVENT
DTSTART;TZID=UTC:20230212T103000
DTEND;TZID=UTC:20230212T120000
DTSTAMP:20260421T204200
CREATED:20260204T110221Z
LAST-MODIFIED:20260204T110359Z
UID:10001215-1676197800-1676203200@fbclithonia.org
SUMMARY:Worship Service
DESCRIPTION:
URL:https://fbclithonia.org/event/worship-service-2023-02-05-2/2023-02-12/
LOCATION:First Baptist Church\, 6616 Hillandale Dr.\, Lithonia\, GA\, 30058\, United States
ORGANIZER;CN="Robert Lindsay":MAILTO:pastorboblindsay@outlook.com
GEO:33.7038088;-84.1193421
X-APPLE-STRUCTURED-LOCATION;VALUE=URI;X-ADDRESS=First Baptist Church 6616 Hillandale Dr. Lithonia GA 30058 United States;X-APPLE-RADIUS=500;X-TITLE=6616 Hillandale Dr.:geo:-84.1193421,33.7038088
END:VEVENT
BEGIN:VEVENT
DTSTART;TZID=UTC:20230212T120000
DTEND;TZID=UTC:20230212T130000
DTSTAMP:20260421T204200
CREATED:20170816T215310Z
LAST-MODIFIED:20260204T124418Z
UID:10001869-1676203200-1676206800@fbclithonia.org
SUMMARY:Deacon Meeting
DESCRIPTION:
URL:https://fbclithonia.org/event/deacon-meeting/2023-02-12/
LOCATION:First Baptist Church\, 6616 Hillandale Dr.\, Lithonia\, GA\, 30058\, United States
GEO:33.7038088;-84.1193421
X-APPLE-STRUCTURED-LOCATION;VALUE=URI;X-ADDRESS=First Baptist Church 6616 Hillandale Dr. Lithonia GA 30058 United States;X-APPLE-RADIUS=500;X-TITLE=6616 Hillandale Dr.:geo:-84.1193421,33.7038088
END:VEVENT
BEGIN:VEVENT
DTSTART;TZID=UTC:20230212T120000
DTEND;TZID=UTC:20230212T130000
DTSTAMP:20260421T204200
CREATED:20170816T215440Z
LAST-MODIFIED:20260204T122927Z
UID:10001784-1676203200-1676206800@fbclithonia.org
SUMMARY:WMU Leadership Meeting
DESCRIPTION:
URL:https://fbclithonia.org/event/wmu-leadership-meeting/2023-02-12/
LOCATION:First Baptist Church\, 6616 Hillandale Dr.\, Lithonia\, GA\, 30058\, United States
GEO:33.7038088;-84.1193421
X-APPLE-STRUCTURED-LOCATION;VALUE=URI;X-ADDRESS=First Baptist Church 6616 Hillandale Dr. Lithonia GA 30058 United States;X-APPLE-RADIUS=500;X-TITLE=6616 Hillandale Dr.:geo:-84.1193421,33.7038088
END:VEVENT
BEGIN:VEVENT
DTSTART;TZID=UTC:20230213T193000
DTEND;TZID=UTC:20230213T210000
DTSTAMP:20260421T204200
CREATED:20170816T213405Z
LAST-MODIFIED:20260204T122657Z
UID:10001699-1676316600-1676322000@fbclithonia.org
SUMMARY:WMU Baptist Middle Women
DESCRIPTION:For younger women
URL:https://fbclithonia.org/event/wmu-baptist-middle-women/2023-02-13/
LOCATION:GA
END:VEVENT
BEGIN:VEVENT
DTSTART;TZID=UTC:20230214T103000
DTEND;TZID=UTC:20230214T123000
DTSTAMP:20260421T204200
CREATED:20170816T214937Z
LAST-MODIFIED:20260204T120014Z
UID:10001538-1676370600-1676377800@fbclithonia.org
SUMMARY:WMU Dayspring Baptist Women
DESCRIPTION:For senior adult women
URL:https://fbclithonia.org/event/wmu-dayspring-baptist-women/2023-02-14/
LOCATION:Yellow Brick House\, 6903 Main St.\, Lithonia\, GA\, 30058\, United States
GEO:33.7096255;-84.1080099
X-APPLE-STRUCTURED-LOCATION;VALUE=URI;X-ADDRESS=Yellow Brick House 6903 Main St. Lithonia GA 30058 United States;X-APPLE-RADIUS=500;X-TITLE=6903 Main St.:geo:-84.1080099,33.7096255
END:VEVENT
BEGIN:VEVENT
DTSTART;TZID=UTC:20230215T103000
DTEND;TZID=UTC:20230215T113000
DTSTAMP:20260421T204200
CREATED:20170816T212741Z
LAST-MODIFIED:20260204T131120Z
UID:10003379-1676457000-1676460600@fbclithonia.org
SUMMARY:Adult Prayer & Bible Study
DESCRIPTION:
URL:https://fbclithonia.org/event/adult-prayer-bible-study/2023-02-15/
LOCATION:First Baptist Church\, 6616 Hillandale Dr.\, Lithonia\, GA\, 30058\, United States
GEO:33.7038088;-84.1193421
X-APPLE-STRUCTURED-LOCATION;VALUE=URI;X-ADDRESS=First Baptist Church 6616 Hillandale Dr. Lithonia GA 30058 United States;X-APPLE-RADIUS=500;X-TITLE=6616 Hillandale Dr.:geo:-84.1193421,33.7038088
END:VEVENT
BEGIN:VEVENT
DTSTART;TZID=UTC:20230215T180000
DTEND;TZID=UTC:20230215T191500
DTSTAMP:20260421T204200
CREATED:20170816T211854Z
LAST-MODIFIED:20260204T131702Z
UID:10003752-1676484000-1676488500@fbclithonia.org
SUMMARY:Team Kids
DESCRIPTION:For kids in 1st-6th grades
URL:https://fbclithonia.org/event/team-kids/2023-02-15/
LOCATION:First Baptist Church\, 6616 Hillandale Dr.\, Lithonia\, GA\, 30058\, United States
GEO:33.7038088;-84.1193421
X-APPLE-STRUCTURED-LOCATION;VALUE=URI;X-ADDRESS=First Baptist Church 6616 Hillandale Dr. Lithonia GA 30058 United States;X-APPLE-RADIUS=500;X-TITLE=6616 Hillandale Dr.:geo:-84.1193421,33.7038088
END:VEVENT
BEGIN:VEVENT
DTSTART;TZID=UTC:20230215T180000
DTEND;TZID=UTC:20230215T191500
DTSTAMP:20260421T204200
CREATED:20170816T212350Z
LAST-MODIFIED:20260204T131821Z
UID:10004125-1676484000-1676488500@fbclithonia.org
SUMMARY:Youth Group
DESCRIPTION:For students in 7th grade and up
URL:https://fbclithonia.org/event/youth-group/2023-02-15/
LOCATION:First Baptist Church\, 6616 Hillandale Dr.\, Lithonia\, GA\, 30058\, United States
GEO:33.7038088;-84.1193421
X-APPLE-STRUCTURED-LOCATION;VALUE=URI;X-ADDRESS=First Baptist Church 6616 Hillandale Dr. Lithonia GA 30058 United States;X-APPLE-RADIUS=500;X-TITLE=6616 Hillandale Dr.:geo:-84.1193421,33.7038088
END:VEVENT
BEGIN:VEVENT
DTSTART;TZID=UTC:20230215T181500
DTEND;TZID=UTC:20230215T191500
DTSTAMP:20260421T204200
CREATED:20231009T173321Z
LAST-MODIFIED:20260204T125112Z
UID:10002260-1676484900-1676488500@fbclithonia.org
SUMMARY:Adult Prayer & Bible Study
DESCRIPTION:
URL:https://fbclithonia.org/event/adult-prayer-bible-study-2/2023-02-15/
LOCATION:First Baptist Church\, 6616 Hillandale Dr.\, Lithonia\, GA\, 30058\, United States
GEO:33.7038088;-84.1193421
X-APPLE-STRUCTURED-LOCATION;VALUE=URI;X-ADDRESS=First Baptist Church 6616 Hillandale Dr. Lithonia GA 30058 United States;X-APPLE-RADIUS=500;X-TITLE=6616 Hillandale Dr.:geo:-84.1193421,33.7038088
END:VEVENT
BEGIN:VEVENT
DTSTART;TZID=UTC:20230215T193000
DTEND;TZID=UTC:20230215T203000
DTSTAMP:20260421T204200
CREATED:20170816T215603Z
LAST-MODIFIED:20260204T132116Z
UID:10004499-1676489400-1676493000@fbclithonia.org
SUMMARY:Choir Practice
DESCRIPTION:
URL:https://fbclithonia.org/event/choir-practice/2023-02-15/
LOCATION:First Baptist Church\, 6616 Hillandale Dr.\, Lithonia\, GA\, 30058\, United States
GEO:33.7038088;-84.1193421
X-APPLE-STRUCTURED-LOCATION;VALUE=URI;X-ADDRESS=First Baptist Church 6616 Hillandale Dr. Lithonia GA 30058 United States;X-APPLE-RADIUS=500;X-TITLE=6616 Hillandale Dr.:geo:-84.1193421,33.7038088
END:VEVENT
BEGIN:VEVENT
DTSTART;TZID=UTC:20230216T120000
DTEND;TZID=UTC:20230216T140000
DTSTAMP:20260421T204200
CREATED:20170909T223624Z
LAST-MODIFIED:20260204T111005Z
UID:10001328-1676548800-1676556000@fbclithonia.org
SUMMARY:Young At Heart
DESCRIPTION:We would like to invite you to come and be a part of a special ministry to those 55 and older. We have a great time fellow shipping around the tables\, playing games\, enjoying guest musicians\, or hearing from other interesting special talented people. Typically everyone who is able brings a covered dish recipe to share with the whole group. There is always bunches of laughter and fun with our friends. Everyone is welcome!!
URL:https://fbclithonia.org/event/young-at-heart-2021-01-21/2023-02-16/
LOCATION:First Baptist Church\, 6616 Hillandale Dr.\, Lithonia\, GA\, 30058\, United States
ATTACH;FMTTYPE=image/webp:https://fbclithonia.org/wp-content/uploads/2017/09/20181207_195233.webp
GEO:33.7038088;-84.1193421
X-APPLE-STRUCTURED-LOCATION;VALUE=URI;X-ADDRESS=First Baptist Church 6616 Hillandale Dr. Lithonia GA 30058 United States;X-APPLE-RADIUS=500;X-TITLE=6616 Hillandale Dr.:geo:-84.1193421,33.7038088
END:VEVENT
BEGIN:VEVENT
DTSTART;TZID=UTC:20230216T120000
DTEND;TZID=UTC:20230216T140000
DTSTAMP:20260421T204200
CREATED:20170909T223624Z
LAST-MODIFIED:20260204T111401Z
UID:10001386-1676548800-1676556000@fbclithonia.org
SUMMARY:Young At Heart
DESCRIPTION:We would like to invite you to come and be a part of a special ministry to those 55 and older. We have a great time fellow shipping around the tables\, playing games\, enjoying guest musicians\, or hearing from other interesting special talented people. Typically everyone who is able brings a covered dish recipe to share with the whole group. There is always bunches of laughter and fun with our friends. Everyone is welcome!!
URL:https://fbclithonia.org/event/young-at-heart/2023-02-16/
LOCATION:First Baptist Church\, 6616 Hillandale Dr.\, Lithonia\, GA\, 30058\, United States
ATTACH;FMTTYPE=image/webp:https://fbclithonia.org/wp-content/uploads/2017/09/20181207_195233.webp
GEO:33.7038088;-84.1193421
X-APPLE-STRUCTURED-LOCATION;VALUE=URI;X-ADDRESS=First Baptist Church 6616 Hillandale Dr. Lithonia GA 30058 United States;X-APPLE-RADIUS=500;X-TITLE=6616 Hillandale Dr.:geo:-84.1193421,33.7038088
END:VEVENT
BEGIN:VEVENT
DTSTART;TZID=UTC:20230219T091500
DTEND;TZID=UTC:20230219T101500
DTSTAMP:20260421T204200
CREATED:20170816T211047Z
LAST-MODIFIED:20260204T130503Z
UID:10003005-1676798100-1676801700@fbclithonia.org
SUMMARY:Sunday School
DESCRIPTION:
URL:https://fbclithonia.org/event/sunday-school/2023-02-19/
LOCATION:First Baptist Church\, 6616 Hillandale Dr.\, Lithonia\, GA\, 30058\, United States
ORGANIZER;CN="Robert Lindsay":MAILTO:pastorboblindsay@outlook.com
GEO:33.7038088;-84.1193421
X-APPLE-STRUCTURED-LOCATION;VALUE=URI;X-ADDRESS=First Baptist Church 6616 Hillandale Dr. Lithonia GA 30058 United States;X-APPLE-RADIUS=500;X-TITLE=6616 Hillandale Dr.:geo:-84.1193421,33.7038088
END:VEVENT
BEGIN:VEVENT
DTSTART;TZID=UTC:20230219T103000
DTEND;TZID=UTC:20230219T120000
DTSTAMP:20260421T204200
CREATED:20170816T211245Z
LAST-MODIFIED:20260204T125301Z
UID:10002633-1676802600-1676808000@fbclithonia.org
SUMMARY:Worship Service
DESCRIPTION:
URL:https://fbclithonia.org/event/worship-service/2023-02-19/
LOCATION:First Baptist Church\, 6616 Hillandale Dr.\, Lithonia\, GA\, 30058\, United States
ORGANIZER;CN="Robert Lindsay":MAILTO:pastorboblindsay@outlook.com
GEO:33.7038088;-84.1193421
X-APPLE-STRUCTURED-LOCATION;VALUE=URI;X-ADDRESS=First Baptist Church 6616 Hillandale Dr. Lithonia GA 30058 United States;X-APPLE-RADIUS=500;X-TITLE=6616 Hillandale Dr.:geo:-84.1193421,33.7038088
END:VEVENT
END:VCALENDAR