BEGIN:VCALENDAR
VERSION:2.0
PRODID:-//FBC Lithonia - ECPv6.15.20//NONSGML v1.0//EN
CALSCALE:GREGORIAN
METHOD:PUBLISH
X-ORIGINAL-URL:https://fbclithonia.org
X-WR-CALDESC:Events for FBC Lithonia
REFRESH-INTERVAL;VALUE=DURATION:PT1H
X-Robots-Tag:noindex
X-PUBLISHED-TTL:PT1H
BEGIN:VTIMEZONE
TZID:UTC
BEGIN:STANDARD
TZOFFSETFROM:+0000
TZOFFSETTO:+0000
TZNAME:UTC
DTSTART:20210101T000000
END:STANDARD
END:VTIMEZONE
BEGIN:VEVENT
DTSTART;TZID=UTC:20220515T103000
DTEND;TZID=UTC:20220515T120000
DTSTAMP:20260423T214353
CREATED:20170816T211245Z
LAST-MODIFIED:20260204T125301Z
UID:10002593-1652610600-1652616000@fbclithonia.org
SUMMARY:Worship Service
DESCRIPTION:
URL:https://fbclithonia.org/event/worship-service/2022-05-15/
LOCATION:First Baptist Church\, 6616 Hillandale Dr.\, Lithonia\, GA\, 30058\, United States
ORGANIZER;CN="Robert Lindsay":MAILTO:pastorboblindsay@outlook.com
GEO:33.7038088;-84.1193421
X-APPLE-STRUCTURED-LOCATION;VALUE=URI;X-ADDRESS=First Baptist Church 6616 Hillandale Dr. Lithonia GA 30058 United States;X-APPLE-RADIUS=500;X-TITLE=6616 Hillandale Dr.:geo:-84.1193421,33.7038088
END:VEVENT
BEGIN:VEVENT
DTSTART;TZID=UTC:20220518T103000
DTEND;TZID=UTC:20220518T113000
DTSTAMP:20260423T214353
CREATED:20170816T212741Z
LAST-MODIFIED:20260204T131120Z
UID:10003340-1652869800-1652873400@fbclithonia.org
SUMMARY:Adult Prayer & Bible Study
DESCRIPTION:
URL:https://fbclithonia.org/event/adult-prayer-bible-study/2022-05-18/
LOCATION:First Baptist Church\, 6616 Hillandale Dr.\, Lithonia\, GA\, 30058\, United States
GEO:33.7038088;-84.1193421
X-APPLE-STRUCTURED-LOCATION;VALUE=URI;X-ADDRESS=First Baptist Church 6616 Hillandale Dr. Lithonia GA 30058 United States;X-APPLE-RADIUS=500;X-TITLE=6616 Hillandale Dr.:geo:-84.1193421,33.7038088
END:VEVENT
BEGIN:VEVENT
DTSTART;TZID=UTC:20220518T180000
DTEND;TZID=UTC:20220518T191500
DTSTAMP:20260423T214353
CREATED:20170816T211854Z
LAST-MODIFIED:20260204T131702Z
UID:10003713-1652896800-1652901300@fbclithonia.org
SUMMARY:Team Kids
DESCRIPTION:For kids in 1st-6th grades
URL:https://fbclithonia.org/event/team-kids/2022-05-18/
LOCATION:First Baptist Church\, 6616 Hillandale Dr.\, Lithonia\, GA\, 30058\, United States
GEO:33.7038088;-84.1193421
X-APPLE-STRUCTURED-LOCATION;VALUE=URI;X-ADDRESS=First Baptist Church 6616 Hillandale Dr. Lithonia GA 30058 United States;X-APPLE-RADIUS=500;X-TITLE=6616 Hillandale Dr.:geo:-84.1193421,33.7038088
END:VEVENT
BEGIN:VEVENT
DTSTART;TZID=UTC:20220518T180000
DTEND;TZID=UTC:20220518T191500
DTSTAMP:20260423T214353
CREATED:20170816T212350Z
LAST-MODIFIED:20260204T131821Z
UID:10004086-1652896800-1652901300@fbclithonia.org
SUMMARY:Youth Group
DESCRIPTION:For students in 7th grade and up
URL:https://fbclithonia.org/event/youth-group/2022-05-18/
LOCATION:First Baptist Church\, 6616 Hillandale Dr.\, Lithonia\, GA\, 30058\, United States
GEO:33.7038088;-84.1193421
X-APPLE-STRUCTURED-LOCATION;VALUE=URI;X-ADDRESS=First Baptist Church 6616 Hillandale Dr. Lithonia GA 30058 United States;X-APPLE-RADIUS=500;X-TITLE=6616 Hillandale Dr.:geo:-84.1193421,33.7038088
END:VEVENT
BEGIN:VEVENT
DTSTART;TZID=UTC:20220518T181500
DTEND;TZID=UTC:20220518T191500
DTSTAMP:20260423T214353
CREATED:20231009T173321Z
LAST-MODIFIED:20260204T125112Z
UID:10002221-1652897700-1652901300@fbclithonia.org
SUMMARY:Adult Prayer & Bible Study
DESCRIPTION:
URL:https://fbclithonia.org/event/adult-prayer-bible-study-2/2022-05-18/
LOCATION:First Baptist Church\, 6616 Hillandale Dr.\, Lithonia\, GA\, 30058\, United States
GEO:33.7038088;-84.1193421
X-APPLE-STRUCTURED-LOCATION;VALUE=URI;X-ADDRESS=First Baptist Church 6616 Hillandale Dr. Lithonia GA 30058 United States;X-APPLE-RADIUS=500;X-TITLE=6616 Hillandale Dr.:geo:-84.1193421,33.7038088
END:VEVENT
BEGIN:VEVENT
DTSTART;TZID=UTC:20220518T193000
DTEND;TZID=UTC:20220518T203000
DTSTAMP:20260423T214353
CREATED:20170816T215603Z
LAST-MODIFIED:20260204T132116Z
UID:10004460-1652902200-1652905800@fbclithonia.org
SUMMARY:Choir Practice
DESCRIPTION:
URL:https://fbclithonia.org/event/choir-practice/2022-05-18/
LOCATION:First Baptist Church\, 6616 Hillandale Dr.\, Lithonia\, GA\, 30058\, United States
GEO:33.7038088;-84.1193421
X-APPLE-STRUCTURED-LOCATION;VALUE=URI;X-ADDRESS=First Baptist Church 6616 Hillandale Dr. Lithonia GA 30058 United States;X-APPLE-RADIUS=500;X-TITLE=6616 Hillandale Dr.:geo:-84.1193421,33.7038088
END:VEVENT
BEGIN:VEVENT
DTSTART;TZID=UTC:20220519T120000
DTEND;TZID=UTC:20220519T140000
DTSTAMP:20260423T214353
CREATED:20170909T223624Z
LAST-MODIFIED:20260204T111005Z
UID:10001319-1652961600-1652968800@fbclithonia.org
SUMMARY:Young At Heart
DESCRIPTION:We would like to invite you to come and be a part of a special ministry to those 55 and older. We have a great time fellow shipping around the tables\, playing games\, enjoying guest musicians\, or hearing from other interesting special talented people. Typically everyone who is able brings a covered dish recipe to share with the whole group. There is always bunches of laughter and fun with our friends. Everyone is welcome!!
URL:https://fbclithonia.org/event/young-at-heart-2021-01-21/2022-05-19/
LOCATION:First Baptist Church\, 6616 Hillandale Dr.\, Lithonia\, GA\, 30058\, United States
ATTACH;FMTTYPE=image/webp:https://fbclithonia.org/wp-content/uploads/2017/09/20181207_195233.webp
GEO:33.7038088;-84.1193421
X-APPLE-STRUCTURED-LOCATION;VALUE=URI;X-ADDRESS=First Baptist Church 6616 Hillandale Dr. Lithonia GA 30058 United States;X-APPLE-RADIUS=500;X-TITLE=6616 Hillandale Dr.:geo:-84.1193421,33.7038088
END:VEVENT
BEGIN:VEVENT
DTSTART;TZID=UTC:20220519T120000
DTEND;TZID=UTC:20220519T140000
DTSTAMP:20260423T214353
CREATED:20170909T223624Z
LAST-MODIFIED:20260204T111401Z
UID:10001377-1652961600-1652968800@fbclithonia.org
SUMMARY:Young At Heart
DESCRIPTION:We would like to invite you to come and be a part of a special ministry to those 55 and older. We have a great time fellow shipping around the tables\, playing games\, enjoying guest musicians\, or hearing from other interesting special talented people. Typically everyone who is able brings a covered dish recipe to share with the whole group. There is always bunches of laughter and fun with our friends. Everyone is welcome!!
URL:https://fbclithonia.org/event/young-at-heart/2022-05-19/
LOCATION:First Baptist Church\, 6616 Hillandale Dr.\, Lithonia\, GA\, 30058\, United States
ATTACH;FMTTYPE=image/webp:https://fbclithonia.org/wp-content/uploads/2017/09/20181207_195233.webp
GEO:33.7038088;-84.1193421
X-APPLE-STRUCTURED-LOCATION;VALUE=URI;X-ADDRESS=First Baptist Church 6616 Hillandale Dr. Lithonia GA 30058 United States;X-APPLE-RADIUS=500;X-TITLE=6616 Hillandale Dr.:geo:-84.1193421,33.7038088
END:VEVENT
BEGIN:VEVENT
DTSTART;TZID=UTC:20220522T091500
DTEND;TZID=UTC:20220522T101500
DTSTAMP:20260423T214353
CREATED:20170816T211047Z
LAST-MODIFIED:20260204T130503Z
UID:10002966-1653210900-1653214500@fbclithonia.org
SUMMARY:Sunday School
DESCRIPTION:
URL:https://fbclithonia.org/event/sunday-school/2022-05-22/
LOCATION:First Baptist Church\, 6616 Hillandale Dr.\, Lithonia\, GA\, 30058\, United States
ORGANIZER;CN="Robert Lindsay":MAILTO:pastorboblindsay@outlook.com
GEO:33.7038088;-84.1193421
X-APPLE-STRUCTURED-LOCATION;VALUE=URI;X-ADDRESS=First Baptist Church 6616 Hillandale Dr. Lithonia GA 30058 United States;X-APPLE-RADIUS=500;X-TITLE=6616 Hillandale Dr.:geo:-84.1193421,33.7038088
END:VEVENT
BEGIN:VEVENT
DTSTART;TZID=UTC:20220522T103000
DTEND;TZID=UTC:20220522T120000
DTSTAMP:20260423T214353
CREATED:20170816T211245Z
LAST-MODIFIED:20260204T125301Z
UID:10002594-1653215400-1653220800@fbclithonia.org
SUMMARY:Worship Service
DESCRIPTION:
URL:https://fbclithonia.org/event/worship-service/2022-05-22/
LOCATION:First Baptist Church\, 6616 Hillandale Dr.\, Lithonia\, GA\, 30058\, United States
ORGANIZER;CN="Robert Lindsay":MAILTO:pastorboblindsay@outlook.com
GEO:33.7038088;-84.1193421
X-APPLE-STRUCTURED-LOCATION;VALUE=URI;X-ADDRESS=First Baptist Church 6616 Hillandale Dr. Lithonia GA 30058 United States;X-APPLE-RADIUS=500;X-TITLE=6616 Hillandale Dr.:geo:-84.1193421,33.7038088
END:VEVENT
BEGIN:VEVENT
DTSTART;TZID=UTC:20220525T103000
DTEND;TZID=UTC:20220525T113000
DTSTAMP:20260423T214353
CREATED:20170816T212741Z
LAST-MODIFIED:20260204T131120Z
UID:10003341-1653474600-1653478200@fbclithonia.org
SUMMARY:Adult Prayer & Bible Study
DESCRIPTION:
URL:https://fbclithonia.org/event/adult-prayer-bible-study/2022-05-25/
LOCATION:First Baptist Church\, 6616 Hillandale Dr.\, Lithonia\, GA\, 30058\, United States
GEO:33.7038088;-84.1193421
X-APPLE-STRUCTURED-LOCATION;VALUE=URI;X-ADDRESS=First Baptist Church 6616 Hillandale Dr. Lithonia GA 30058 United States;X-APPLE-RADIUS=500;X-TITLE=6616 Hillandale Dr.:geo:-84.1193421,33.7038088
END:VEVENT
BEGIN:VEVENT
DTSTART;TZID=UTC:20220525T180000
DTEND;TZID=UTC:20220525T191500
DTSTAMP:20260423T214353
CREATED:20170816T211854Z
LAST-MODIFIED:20260204T131702Z
UID:10003714-1653501600-1653506100@fbclithonia.org
SUMMARY:Team Kids
DESCRIPTION:For kids in 1st-6th grades
URL:https://fbclithonia.org/event/team-kids/2022-05-25/
LOCATION:First Baptist Church\, 6616 Hillandale Dr.\, Lithonia\, GA\, 30058\, United States
GEO:33.7038088;-84.1193421
X-APPLE-STRUCTURED-LOCATION;VALUE=URI;X-ADDRESS=First Baptist Church 6616 Hillandale Dr. Lithonia GA 30058 United States;X-APPLE-RADIUS=500;X-TITLE=6616 Hillandale Dr.:geo:-84.1193421,33.7038088
END:VEVENT
BEGIN:VEVENT
DTSTART;TZID=UTC:20220525T180000
DTEND;TZID=UTC:20220525T191500
DTSTAMP:20260423T214353
CREATED:20170816T212350Z
LAST-MODIFIED:20260204T131821Z
UID:10004087-1653501600-1653506100@fbclithonia.org
SUMMARY:Youth Group
DESCRIPTION:For students in 7th grade and up
URL:https://fbclithonia.org/event/youth-group/2022-05-25/
LOCATION:First Baptist Church\, 6616 Hillandale Dr.\, Lithonia\, GA\, 30058\, United States
GEO:33.7038088;-84.1193421
X-APPLE-STRUCTURED-LOCATION;VALUE=URI;X-ADDRESS=First Baptist Church 6616 Hillandale Dr. Lithonia GA 30058 United States;X-APPLE-RADIUS=500;X-TITLE=6616 Hillandale Dr.:geo:-84.1193421,33.7038088
END:VEVENT
BEGIN:VEVENT
DTSTART;TZID=UTC:20220525T181500
DTEND;TZID=UTC:20220525T191500
DTSTAMP:20260423T214353
CREATED:20231009T173321Z
LAST-MODIFIED:20260204T125112Z
UID:10002222-1653502500-1653506100@fbclithonia.org
SUMMARY:Adult Prayer & Bible Study
DESCRIPTION:
URL:https://fbclithonia.org/event/adult-prayer-bible-study-2/2022-05-25/
LOCATION:First Baptist Church\, 6616 Hillandale Dr.\, Lithonia\, GA\, 30058\, United States
GEO:33.7038088;-84.1193421
X-APPLE-STRUCTURED-LOCATION;VALUE=URI;X-ADDRESS=First Baptist Church 6616 Hillandale Dr. Lithonia GA 30058 United States;X-APPLE-RADIUS=500;X-TITLE=6616 Hillandale Dr.:geo:-84.1193421,33.7038088
END:VEVENT
BEGIN:VEVENT
DTSTART;TZID=UTC:20220525T193000
DTEND;TZID=UTC:20220525T203000
DTSTAMP:20260423T214353
CREATED:20170816T215603Z
LAST-MODIFIED:20260204T132116Z
UID:10004461-1653507000-1653510600@fbclithonia.org
SUMMARY:Choir Practice
DESCRIPTION:
URL:https://fbclithonia.org/event/choir-practice/2022-05-25/
LOCATION:First Baptist Church\, 6616 Hillandale Dr.\, Lithonia\, GA\, 30058\, United States
GEO:33.7038088;-84.1193421
X-APPLE-STRUCTURED-LOCATION;VALUE=URI;X-ADDRESS=First Baptist Church 6616 Hillandale Dr. Lithonia GA 30058 United States;X-APPLE-RADIUS=500;X-TITLE=6616 Hillandale Dr.:geo:-84.1193421,33.7038088
END:VEVENT
BEGIN:VEVENT
DTSTART;TZID=UTC:20220529T091500
DTEND;TZID=UTC:20220529T101500
DTSTAMP:20260423T214353
CREATED:20170816T211047Z
LAST-MODIFIED:20260204T130503Z
UID:10002967-1653815700-1653819300@fbclithonia.org
SUMMARY:Sunday School
DESCRIPTION:
URL:https://fbclithonia.org/event/sunday-school/2022-05-29/
LOCATION:First Baptist Church\, 6616 Hillandale Dr.\, Lithonia\, GA\, 30058\, United States
ORGANIZER;CN="Robert Lindsay":MAILTO:pastorboblindsay@outlook.com
GEO:33.7038088;-84.1193421
X-APPLE-STRUCTURED-LOCATION;VALUE=URI;X-ADDRESS=First Baptist Church 6616 Hillandale Dr. Lithonia GA 30058 United States;X-APPLE-RADIUS=500;X-TITLE=6616 Hillandale Dr.:geo:-84.1193421,33.7038088
END:VEVENT
BEGIN:VEVENT
DTSTART;TZID=UTC:20220529T103000
DTEND;TZID=UTC:20220529T120000
DTSTAMP:20260423T214353
CREATED:20170816T211245Z
LAST-MODIFIED:20260204T125301Z
UID:10002595-1653820200-1653825600@fbclithonia.org
SUMMARY:Worship Service
DESCRIPTION:
URL:https://fbclithonia.org/event/worship-service/2022-05-29/
LOCATION:First Baptist Church\, 6616 Hillandale Dr.\, Lithonia\, GA\, 30058\, United States
ORGANIZER;CN="Robert Lindsay":MAILTO:pastorboblindsay@outlook.com
GEO:33.7038088;-84.1193421
X-APPLE-STRUCTURED-LOCATION;VALUE=URI;X-ADDRESS=First Baptist Church 6616 Hillandale Dr. Lithonia GA 30058 United States;X-APPLE-RADIUS=500;X-TITLE=6616 Hillandale Dr.:geo:-84.1193421,33.7038088
END:VEVENT
BEGIN:VEVENT
DTSTART;TZID=UTC:20220601T103000
DTEND;TZID=UTC:20220601T113000
DTSTAMP:20260423T214353
CREATED:20170816T212741Z
LAST-MODIFIED:20260204T131120Z
UID:10003342-1654079400-1654083000@fbclithonia.org
SUMMARY:Adult Prayer & Bible Study
DESCRIPTION:
URL:https://fbclithonia.org/event/adult-prayer-bible-study/2022-06-01/
LOCATION:First Baptist Church\, 6616 Hillandale Dr.\, Lithonia\, GA\, 30058\, United States
GEO:33.7038088;-84.1193421
X-APPLE-STRUCTURED-LOCATION;VALUE=URI;X-ADDRESS=First Baptist Church 6616 Hillandale Dr. Lithonia GA 30058 United States;X-APPLE-RADIUS=500;X-TITLE=6616 Hillandale Dr.:geo:-84.1193421,33.7038088
END:VEVENT
BEGIN:VEVENT
DTSTART;TZID=UTC:20220601T180000
DTEND;TZID=UTC:20220601T191500
DTSTAMP:20260423T214353
CREATED:20170816T211854Z
LAST-MODIFIED:20260204T131702Z
UID:10003715-1654106400-1654110900@fbclithonia.org
SUMMARY:Team Kids
DESCRIPTION:For kids in 1st-6th grades
URL:https://fbclithonia.org/event/team-kids/2022-06-01/
LOCATION:First Baptist Church\, 6616 Hillandale Dr.\, Lithonia\, GA\, 30058\, United States
GEO:33.7038088;-84.1193421
X-APPLE-STRUCTURED-LOCATION;VALUE=URI;X-ADDRESS=First Baptist Church 6616 Hillandale Dr. Lithonia GA 30058 United States;X-APPLE-RADIUS=500;X-TITLE=6616 Hillandale Dr.:geo:-84.1193421,33.7038088
END:VEVENT
BEGIN:VEVENT
DTSTART;TZID=UTC:20220601T180000
DTEND;TZID=UTC:20220601T191500
DTSTAMP:20260423T214353
CREATED:20170816T212350Z
LAST-MODIFIED:20260204T131821Z
UID:10004088-1654106400-1654110900@fbclithonia.org
SUMMARY:Youth Group
DESCRIPTION:For students in 7th grade and up
URL:https://fbclithonia.org/event/youth-group/2022-06-01/
LOCATION:First Baptist Church\, 6616 Hillandale Dr.\, Lithonia\, GA\, 30058\, United States
GEO:33.7038088;-84.1193421
X-APPLE-STRUCTURED-LOCATION;VALUE=URI;X-ADDRESS=First Baptist Church 6616 Hillandale Dr. Lithonia GA 30058 United States;X-APPLE-RADIUS=500;X-TITLE=6616 Hillandale Dr.:geo:-84.1193421,33.7038088
END:VEVENT
BEGIN:VEVENT
DTSTART;TZID=UTC:20220601T181500
DTEND;TZID=UTC:20220601T191500
DTSTAMP:20260423T214353
CREATED:20231009T173321Z
LAST-MODIFIED:20260204T125112Z
UID:10002223-1654107300-1654110900@fbclithonia.org
SUMMARY:Adult Prayer & Bible Study
DESCRIPTION:
URL:https://fbclithonia.org/event/adult-prayer-bible-study-2/2022-06-01/
LOCATION:First Baptist Church\, 6616 Hillandale Dr.\, Lithonia\, GA\, 30058\, United States
GEO:33.7038088;-84.1193421
X-APPLE-STRUCTURED-LOCATION;VALUE=URI;X-ADDRESS=First Baptist Church 6616 Hillandale Dr. Lithonia GA 30058 United States;X-APPLE-RADIUS=500;X-TITLE=6616 Hillandale Dr.:geo:-84.1193421,33.7038088
END:VEVENT
BEGIN:VEVENT
DTSTART;TZID=UTC:20220601T193000
DTEND;TZID=UTC:20220601T203000
DTSTAMP:20260423T214353
CREATED:20170816T215603Z
LAST-MODIFIED:20260204T132116Z
UID:10004462-1654111800-1654115400@fbclithonia.org
SUMMARY:Choir Practice
DESCRIPTION:
URL:https://fbclithonia.org/event/choir-practice/2022-06-01/
LOCATION:First Baptist Church\, 6616 Hillandale Dr.\, Lithonia\, GA\, 30058\, United States
GEO:33.7038088;-84.1193421
X-APPLE-STRUCTURED-LOCATION;VALUE=URI;X-ADDRESS=First Baptist Church 6616 Hillandale Dr. Lithonia GA 30058 United States;X-APPLE-RADIUS=500;X-TITLE=6616 Hillandale Dr.:geo:-84.1193421,33.7038088
END:VEVENT
BEGIN:VEVENT
DTSTART;TZID=UTC:20220605T091500
DTEND;TZID=UTC:20220605T101500
DTSTAMP:20260423T214353
CREATED:20170816T211047Z
LAST-MODIFIED:20260204T130503Z
UID:10002968-1654420500-1654424100@fbclithonia.org
SUMMARY:Sunday School
DESCRIPTION:
URL:https://fbclithonia.org/event/sunday-school/2022-06-05/
LOCATION:First Baptist Church\, 6616 Hillandale Dr.\, Lithonia\, GA\, 30058\, United States
ORGANIZER;CN="Robert Lindsay":MAILTO:pastorboblindsay@outlook.com
GEO:33.7038088;-84.1193421
X-APPLE-STRUCTURED-LOCATION;VALUE=URI;X-ADDRESS=First Baptist Church 6616 Hillandale Dr. Lithonia GA 30058 United States;X-APPLE-RADIUS=500;X-TITLE=6616 Hillandale Dr.:geo:-84.1193421,33.7038088
END:VEVENT
BEGIN:VEVENT
DTSTART;TZID=UTC:20220605T103000
DTEND;TZID=UTC:20220605T120000
DTSTAMP:20260423T214353
CREATED:20170816T211245Z
LAST-MODIFIED:20260204T125301Z
UID:10002596-1654425000-1654430400@fbclithonia.org
SUMMARY:Worship Service
DESCRIPTION:
URL:https://fbclithonia.org/event/worship-service/2022-06-05/
LOCATION:First Baptist Church\, 6616 Hillandale Dr.\, Lithonia\, GA\, 30058\, United States
ORGANIZER;CN="Robert Lindsay":MAILTO:pastorboblindsay@outlook.com
GEO:33.7038088;-84.1193421
X-APPLE-STRUCTURED-LOCATION;VALUE=URI;X-ADDRESS=First Baptist Church 6616 Hillandale Dr. Lithonia GA 30058 United States;X-APPLE-RADIUS=500;X-TITLE=6616 Hillandale Dr.:geo:-84.1193421,33.7038088
END:VEVENT
BEGIN:VEVENT
DTSTART;TZID=UTC:20220608T103000
DTEND;TZID=UTC:20220608T113000
DTSTAMP:20260423T214353
CREATED:20170816T212741Z
LAST-MODIFIED:20260204T131120Z
UID:10003343-1654684200-1654687800@fbclithonia.org
SUMMARY:Adult Prayer & Bible Study
DESCRIPTION:
URL:https://fbclithonia.org/event/adult-prayer-bible-study/2022-06-08/
LOCATION:First Baptist Church\, 6616 Hillandale Dr.\, Lithonia\, GA\, 30058\, United States
GEO:33.7038088;-84.1193421
X-APPLE-STRUCTURED-LOCATION;VALUE=URI;X-ADDRESS=First Baptist Church 6616 Hillandale Dr. Lithonia GA 30058 United States;X-APPLE-RADIUS=500;X-TITLE=6616 Hillandale Dr.:geo:-84.1193421,33.7038088
END:VEVENT
BEGIN:VEVENT
DTSTART;TZID=UTC:20220608T180000
DTEND;TZID=UTC:20220608T191500
DTSTAMP:20260423T214353
CREATED:20170816T211854Z
LAST-MODIFIED:20260204T131702Z
UID:10003716-1654711200-1654715700@fbclithonia.org
SUMMARY:Team Kids
DESCRIPTION:For kids in 1st-6th grades
URL:https://fbclithonia.org/event/team-kids/2022-06-08/
LOCATION:First Baptist Church\, 6616 Hillandale Dr.\, Lithonia\, GA\, 30058\, United States
GEO:33.7038088;-84.1193421
X-APPLE-STRUCTURED-LOCATION;VALUE=URI;X-ADDRESS=First Baptist Church 6616 Hillandale Dr. Lithonia GA 30058 United States;X-APPLE-RADIUS=500;X-TITLE=6616 Hillandale Dr.:geo:-84.1193421,33.7038088
END:VEVENT
BEGIN:VEVENT
DTSTART;TZID=UTC:20220608T180000
DTEND;TZID=UTC:20220608T191500
DTSTAMP:20260423T214353
CREATED:20170816T212350Z
LAST-MODIFIED:20260204T131821Z
UID:10004089-1654711200-1654715700@fbclithonia.org
SUMMARY:Youth Group
DESCRIPTION:For students in 7th grade and up
URL:https://fbclithonia.org/event/youth-group/2022-06-08/
LOCATION:First Baptist Church\, 6616 Hillandale Dr.\, Lithonia\, GA\, 30058\, United States
GEO:33.7038088;-84.1193421
X-APPLE-STRUCTURED-LOCATION;VALUE=URI;X-ADDRESS=First Baptist Church 6616 Hillandale Dr. Lithonia GA 30058 United States;X-APPLE-RADIUS=500;X-TITLE=6616 Hillandale Dr.:geo:-84.1193421,33.7038088
END:VEVENT
BEGIN:VEVENT
DTSTART;TZID=UTC:20220608T181500
DTEND;TZID=UTC:20220608T191500
DTSTAMP:20260423T214353
CREATED:20231009T173321Z
LAST-MODIFIED:20260204T125112Z
UID:10002224-1654712100-1654715700@fbclithonia.org
SUMMARY:Adult Prayer & Bible Study
DESCRIPTION:
URL:https://fbclithonia.org/event/adult-prayer-bible-study-2/2022-06-08/
LOCATION:First Baptist Church\, 6616 Hillandale Dr.\, Lithonia\, GA\, 30058\, United States
GEO:33.7038088;-84.1193421
X-APPLE-STRUCTURED-LOCATION;VALUE=URI;X-ADDRESS=First Baptist Church 6616 Hillandale Dr. Lithonia GA 30058 United States;X-APPLE-RADIUS=500;X-TITLE=6616 Hillandale Dr.:geo:-84.1193421,33.7038088
END:VEVENT
BEGIN:VEVENT
DTSTART;TZID=UTC:20220608T193000
DTEND;TZID=UTC:20220608T203000
DTSTAMP:20260423T214353
CREATED:20170816T215603Z
LAST-MODIFIED:20260204T132116Z
UID:10004463-1654716600-1654720200@fbclithonia.org
SUMMARY:Choir Practice
DESCRIPTION:
URL:https://fbclithonia.org/event/choir-practice/2022-06-08/
LOCATION:First Baptist Church\, 6616 Hillandale Dr.\, Lithonia\, GA\, 30058\, United States
GEO:33.7038088;-84.1193421
X-APPLE-STRUCTURED-LOCATION;VALUE=URI;X-ADDRESS=First Baptist Church 6616 Hillandale Dr. Lithonia GA 30058 United States;X-APPLE-RADIUS=500;X-TITLE=6616 Hillandale Dr.:geo:-84.1193421,33.7038088
END:VEVENT
BEGIN:VEVENT
DTSTART;TZID=UTC:20220611T103000
DTEND;TZID=UTC:20220611T123000
DTSTAMP:20260423T214353
CREATED:20170816T213638Z
LAST-MODIFIED:20260204T124637Z
UID:10001946-1654943400-1654950600@fbclithonia.org
SUMMARY:WMU Active Baptist Women
DESCRIPTION:For mature women
URL:https://fbclithonia.org/event/wmu-active-baptist-women/2022-06-11/
LOCATION:First Baptist Church\, 6616 Hillandale Dr.\, Lithonia\, GA\, 30058\, United States
GEO:33.7038088;-84.1193421
X-APPLE-STRUCTURED-LOCATION;VALUE=URI;X-ADDRESS=First Baptist Church 6616 Hillandale Dr. Lithonia GA 30058 United States;X-APPLE-RADIUS=500;X-TITLE=6616 Hillandale Dr.:geo:-84.1193421,33.7038088
END:VEVENT
END:VCALENDAR