BEGIN:VCALENDAR
VERSION:2.0
PRODID:-//FBC Lithonia - ECPv6.15.20//NONSGML v1.0//EN
CALSCALE:GREGORIAN
METHOD:PUBLISH
X-ORIGINAL-URL:https://fbclithonia.org
X-WR-CALDESC:Events for FBC Lithonia
REFRESH-INTERVAL;VALUE=DURATION:PT1H
X-Robots-Tag:noindex
X-PUBLISHED-TTL:PT1H
BEGIN:VTIMEZONE
TZID:UTC
BEGIN:STANDARD
TZOFFSETFROM:+0000
TZOFFSETTO:+0000
TZNAME:UTC
DTSTART:20210101T000000
END:STANDARD
END:VTIMEZONE
BEGIN:VEVENT
DTSTART;TZID=UTC:20220831T193000
DTEND;TZID=UTC:20220831T203000
DTSTAMP:20260423T034155
CREATED:20170816T215603Z
LAST-MODIFIED:20260204T132116Z
UID:10004475-1661974200-1661977800@fbclithonia.org
SUMMARY:Choir Practice
DESCRIPTION:
URL:https://fbclithonia.org/event/choir-practice/2022-08-31/
LOCATION:First Baptist Church\, 6616 Hillandale Dr.\, Lithonia\, GA\, 30058\, United States
GEO:33.7038088;-84.1193421
X-APPLE-STRUCTURED-LOCATION;VALUE=URI;X-ADDRESS=First Baptist Church 6616 Hillandale Dr. Lithonia GA 30058 United States;X-APPLE-RADIUS=500;X-TITLE=6616 Hillandale Dr.:geo:-84.1193421,33.7038088
END:VEVENT
BEGIN:VEVENT
DTSTART;TZID=UTC:20220831T181500
DTEND;TZID=UTC:20220831T191500
DTSTAMP:20260423T034155
CREATED:20231009T173321Z
LAST-MODIFIED:20260204T125112Z
UID:10002236-1661969700-1661973300@fbclithonia.org
SUMMARY:Adult Prayer & Bible Study
DESCRIPTION:
URL:https://fbclithonia.org/event/adult-prayer-bible-study-2/2022-08-31/
LOCATION:First Baptist Church\, 6616 Hillandale Dr.\, Lithonia\, GA\, 30058\, United States
GEO:33.7038088;-84.1193421
X-APPLE-STRUCTURED-LOCATION;VALUE=URI;X-ADDRESS=First Baptist Church 6616 Hillandale Dr. Lithonia GA 30058 United States;X-APPLE-RADIUS=500;X-TITLE=6616 Hillandale Dr.:geo:-84.1193421,33.7038088
END:VEVENT
BEGIN:VEVENT
DTSTART;TZID=UTC:20220831T180000
DTEND;TZID=UTC:20220831T191500
DTSTAMP:20260423T034155
CREATED:20170816T212350Z
LAST-MODIFIED:20260204T131821Z
UID:10004101-1661968800-1661973300@fbclithonia.org
SUMMARY:Youth Group
DESCRIPTION:For students in 7th grade and up
URL:https://fbclithonia.org/event/youth-group/2022-08-31/
LOCATION:First Baptist Church\, 6616 Hillandale Dr.\, Lithonia\, GA\, 30058\, United States
GEO:33.7038088;-84.1193421
X-APPLE-STRUCTURED-LOCATION;VALUE=URI;X-ADDRESS=First Baptist Church 6616 Hillandale Dr. Lithonia GA 30058 United States;X-APPLE-RADIUS=500;X-TITLE=6616 Hillandale Dr.:geo:-84.1193421,33.7038088
END:VEVENT
BEGIN:VEVENT
DTSTART;TZID=UTC:20220831T180000
DTEND;TZID=UTC:20220831T191500
DTSTAMP:20260423T034155
CREATED:20170816T211854Z
LAST-MODIFIED:20260204T131702Z
UID:10003728-1661968800-1661973300@fbclithonia.org
SUMMARY:Team Kids
DESCRIPTION:For kids in 1st-6th grades
URL:https://fbclithonia.org/event/team-kids/2022-08-31/
LOCATION:First Baptist Church\, 6616 Hillandale Dr.\, Lithonia\, GA\, 30058\, United States
GEO:33.7038088;-84.1193421
X-APPLE-STRUCTURED-LOCATION;VALUE=URI;X-ADDRESS=First Baptist Church 6616 Hillandale Dr. Lithonia GA 30058 United States;X-APPLE-RADIUS=500;X-TITLE=6616 Hillandale Dr.:geo:-84.1193421,33.7038088
END:VEVENT
BEGIN:VEVENT
DTSTART;TZID=UTC:20220831T103000
DTEND;TZID=UTC:20220831T113000
DTSTAMP:20260423T034155
CREATED:20170816T212741Z
LAST-MODIFIED:20260204T131120Z
UID:10003355-1661941800-1661945400@fbclithonia.org
SUMMARY:Adult Prayer & Bible Study
DESCRIPTION:
URL:https://fbclithonia.org/event/adult-prayer-bible-study/2022-08-31/
LOCATION:First Baptist Church\, 6616 Hillandale Dr.\, Lithonia\, GA\, 30058\, United States
GEO:33.7038088;-84.1193421
X-APPLE-STRUCTURED-LOCATION;VALUE=URI;X-ADDRESS=First Baptist Church 6616 Hillandale Dr. Lithonia GA 30058 United States;X-APPLE-RADIUS=500;X-TITLE=6616 Hillandale Dr.:geo:-84.1193421,33.7038088
END:VEVENT
BEGIN:VEVENT
DTSTART;TZID=UTC:20220829T110000
DTEND;TZID=UTC:20220829T120000
DTSTAMP:20260423T034155
CREATED:20170817T014733Z
LAST-MODIFIED:20260204T112420Z
UID:10001438-1661770800-1661774400@fbclithonia.org
SUMMARY:Prayer Team Meeting
DESCRIPTION:
URL:https://fbclithonia.org/event/prayer-team-meeting/2022-08-29/
LOCATION:First Baptist Church\, 6616 Hillandale Dr.\, Lithonia\, GA\, 30058\, United States
GEO:33.7038088;-84.1193421
X-APPLE-STRUCTURED-LOCATION;VALUE=URI;X-ADDRESS=First Baptist Church 6616 Hillandale Dr. Lithonia GA 30058 United States;X-APPLE-RADIUS=500;X-TITLE=6616 Hillandale Dr.:geo:-84.1193421,33.7038088
END:VEVENT
BEGIN:VEVENT
DTSTART;TZID=UTC:20220828T103000
DTEND;TZID=UTC:20220828T120000
DTSTAMP:20260423T034155
CREATED:20170816T211245Z
LAST-MODIFIED:20260204T125301Z
UID:10002608-1661682600-1661688000@fbclithonia.org
SUMMARY:Worship Service
DESCRIPTION:
URL:https://fbclithonia.org/event/worship-service/2022-08-28/
LOCATION:First Baptist Church\, 6616 Hillandale Dr.\, Lithonia\, GA\, 30058\, United States
ORGANIZER;CN="Robert Lindsay":MAILTO:pastorboblindsay@outlook.com
GEO:33.7038088;-84.1193421
X-APPLE-STRUCTURED-LOCATION;VALUE=URI;X-ADDRESS=First Baptist Church 6616 Hillandale Dr. Lithonia GA 30058 United States;X-APPLE-RADIUS=500;X-TITLE=6616 Hillandale Dr.:geo:-84.1193421,33.7038088
END:VEVENT
BEGIN:VEVENT
DTSTART;TZID=UTC:20220828T091500
DTEND;TZID=UTC:20220828T101500
DTSTAMP:20260423T034155
CREATED:20170816T211047Z
LAST-MODIFIED:20260204T130503Z
UID:10002980-1661678100-1661681700@fbclithonia.org
SUMMARY:Sunday School
DESCRIPTION:
URL:https://fbclithonia.org/event/sunday-school/2022-08-28/
LOCATION:First Baptist Church\, 6616 Hillandale Dr.\, Lithonia\, GA\, 30058\, United States
ORGANIZER;CN="Robert Lindsay":MAILTO:pastorboblindsay@outlook.com
GEO:33.7038088;-84.1193421
X-APPLE-STRUCTURED-LOCATION;VALUE=URI;X-ADDRESS=First Baptist Church 6616 Hillandale Dr. Lithonia GA 30058 United States;X-APPLE-RADIUS=500;X-TITLE=6616 Hillandale Dr.:geo:-84.1193421,33.7038088
END:VEVENT
BEGIN:VEVENT
DTSTART;TZID=UTC:20220824T193000
DTEND;TZID=UTC:20220824T203000
DTSTAMP:20260423T034155
CREATED:20170816T215603Z
LAST-MODIFIED:20260204T132116Z
UID:10004474-1661369400-1661373000@fbclithonia.org
SUMMARY:Choir Practice
DESCRIPTION:
URL:https://fbclithonia.org/event/choir-practice/2022-08-24/
LOCATION:First Baptist Church\, 6616 Hillandale Dr.\, Lithonia\, GA\, 30058\, United States
GEO:33.7038088;-84.1193421
X-APPLE-STRUCTURED-LOCATION;VALUE=URI;X-ADDRESS=First Baptist Church 6616 Hillandale Dr. Lithonia GA 30058 United States;X-APPLE-RADIUS=500;X-TITLE=6616 Hillandale Dr.:geo:-84.1193421,33.7038088
END:VEVENT
BEGIN:VEVENT
DTSTART;TZID=UTC:20220824T181500
DTEND;TZID=UTC:20220824T191500
DTSTAMP:20260423T034155
CREATED:20231009T173321Z
LAST-MODIFIED:20260204T125112Z
UID:10002235-1661364900-1661368500@fbclithonia.org
SUMMARY:Adult Prayer & Bible Study
DESCRIPTION:
URL:https://fbclithonia.org/event/adult-prayer-bible-study-2/2022-08-24/
LOCATION:First Baptist Church\, 6616 Hillandale Dr.\, Lithonia\, GA\, 30058\, United States
GEO:33.7038088;-84.1193421
X-APPLE-STRUCTURED-LOCATION;VALUE=URI;X-ADDRESS=First Baptist Church 6616 Hillandale Dr. Lithonia GA 30058 United States;X-APPLE-RADIUS=500;X-TITLE=6616 Hillandale Dr.:geo:-84.1193421,33.7038088
END:VEVENT
BEGIN:VEVENT
DTSTART;TZID=UTC:20220824T180000
DTEND;TZID=UTC:20220824T191500
DTSTAMP:20260423T034155
CREATED:20170816T212350Z
LAST-MODIFIED:20260204T131821Z
UID:10004100-1661364000-1661368500@fbclithonia.org
SUMMARY:Youth Group
DESCRIPTION:For students in 7th grade and up
URL:https://fbclithonia.org/event/youth-group/2022-08-24/
LOCATION:First Baptist Church\, 6616 Hillandale Dr.\, Lithonia\, GA\, 30058\, United States
GEO:33.7038088;-84.1193421
X-APPLE-STRUCTURED-LOCATION;VALUE=URI;X-ADDRESS=First Baptist Church 6616 Hillandale Dr. Lithonia GA 30058 United States;X-APPLE-RADIUS=500;X-TITLE=6616 Hillandale Dr.:geo:-84.1193421,33.7038088
END:VEVENT
BEGIN:VEVENT
DTSTART;TZID=UTC:20220824T180000
DTEND;TZID=UTC:20220824T191500
DTSTAMP:20260423T034155
CREATED:20170816T211854Z
LAST-MODIFIED:20260204T131702Z
UID:10003727-1661364000-1661368500@fbclithonia.org
SUMMARY:Team Kids
DESCRIPTION:For kids in 1st-6th grades
URL:https://fbclithonia.org/event/team-kids/2022-08-24/
LOCATION:First Baptist Church\, 6616 Hillandale Dr.\, Lithonia\, GA\, 30058\, United States
GEO:33.7038088;-84.1193421
X-APPLE-STRUCTURED-LOCATION;VALUE=URI;X-ADDRESS=First Baptist Church 6616 Hillandale Dr. Lithonia GA 30058 United States;X-APPLE-RADIUS=500;X-TITLE=6616 Hillandale Dr.:geo:-84.1193421,33.7038088
END:VEVENT
BEGIN:VEVENT
DTSTART;TZID=UTC:20220824T103000
DTEND;TZID=UTC:20220824T113000
DTSTAMP:20260423T034156
CREATED:20170816T212741Z
LAST-MODIFIED:20260204T131120Z
UID:10003354-1661337000-1661340600@fbclithonia.org
SUMMARY:Adult Prayer & Bible Study
DESCRIPTION:
URL:https://fbclithonia.org/event/adult-prayer-bible-study/2022-08-24/
LOCATION:First Baptist Church\, 6616 Hillandale Dr.\, Lithonia\, GA\, 30058\, United States
GEO:33.7038088;-84.1193421
X-APPLE-STRUCTURED-LOCATION;VALUE=URI;X-ADDRESS=First Baptist Church 6616 Hillandale Dr. Lithonia GA 30058 United States;X-APPLE-RADIUS=500;X-TITLE=6616 Hillandale Dr.:geo:-84.1193421,33.7038088
END:VEVENT
BEGIN:VEVENT
DTSTART;TZID=UTC:20220821T103000
DTEND;TZID=UTC:20220821T120000
DTSTAMP:20260423T034156
CREATED:20170816T211245Z
LAST-MODIFIED:20260204T125301Z
UID:10002607-1661077800-1661083200@fbclithonia.org
SUMMARY:Worship Service
DESCRIPTION:
URL:https://fbclithonia.org/event/worship-service/2022-08-21/
LOCATION:First Baptist Church\, 6616 Hillandale Dr.\, Lithonia\, GA\, 30058\, United States
ORGANIZER;CN="Robert Lindsay":MAILTO:pastorboblindsay@outlook.com
GEO:33.7038088;-84.1193421
X-APPLE-STRUCTURED-LOCATION;VALUE=URI;X-ADDRESS=First Baptist Church 6616 Hillandale Dr. Lithonia GA 30058 United States;X-APPLE-RADIUS=500;X-TITLE=6616 Hillandale Dr.:geo:-84.1193421,33.7038088
END:VEVENT
BEGIN:VEVENT
DTSTART;TZID=UTC:20220821T091500
DTEND;TZID=UTC:20220821T101500
DTSTAMP:20260423T034156
CREATED:20170816T211047Z
LAST-MODIFIED:20260204T130503Z
UID:10002979-1661073300-1661076900@fbclithonia.org
SUMMARY:Sunday School
DESCRIPTION:
URL:https://fbclithonia.org/event/sunday-school/2022-08-21/
LOCATION:First Baptist Church\, 6616 Hillandale Dr.\, Lithonia\, GA\, 30058\, United States
ORGANIZER;CN="Robert Lindsay":MAILTO:pastorboblindsay@outlook.com
GEO:33.7038088;-84.1193421
X-APPLE-STRUCTURED-LOCATION;VALUE=URI;X-ADDRESS=First Baptist Church 6616 Hillandale Dr. Lithonia GA 30058 United States;X-APPLE-RADIUS=500;X-TITLE=6616 Hillandale Dr.:geo:-84.1193421,33.7038088
END:VEVENT
BEGIN:VEVENT
DTSTART;TZID=UTC:20220818T120000
DTEND;TZID=UTC:20220818T140000
DTSTAMP:20260423T034156
CREATED:20170909T223624Z
LAST-MODIFIED:20260204T111005Z
UID:10001322-1660824000-1660831200@fbclithonia.org
SUMMARY:Young At Heart
DESCRIPTION:We would like to invite you to come and be a part of a special ministry to those 55 and older. We have a great time fellow shipping around the tables\, playing games\, enjoying guest musicians\, or hearing from other interesting special talented people. Typically everyone who is able brings a covered dish recipe to share with the whole group. There is always bunches of laughter and fun with our friends. Everyone is welcome!!
URL:https://fbclithonia.org/event/young-at-heart-2021-01-21/2022-08-18/
LOCATION:First Baptist Church\, 6616 Hillandale Dr.\, Lithonia\, GA\, 30058\, United States
ATTACH;FMTTYPE=image/webp:https://fbclithonia.org/wp-content/uploads/2017/09/20181207_195233.webp
GEO:33.7038088;-84.1193421
X-APPLE-STRUCTURED-LOCATION;VALUE=URI;X-ADDRESS=First Baptist Church 6616 Hillandale Dr. Lithonia GA 30058 United States;X-APPLE-RADIUS=500;X-TITLE=6616 Hillandale Dr.:geo:-84.1193421,33.7038088
END:VEVENT
BEGIN:VEVENT
DTSTART;TZID=UTC:20220818T120000
DTEND;TZID=UTC:20220818T140000
DTSTAMP:20260423T034156
CREATED:20170909T223624Z
LAST-MODIFIED:20260204T111401Z
UID:10001380-1660824000-1660831200@fbclithonia.org
SUMMARY:Young At Heart
DESCRIPTION:We would like to invite you to come and be a part of a special ministry to those 55 and older. We have a great time fellow shipping around the tables\, playing games\, enjoying guest musicians\, or hearing from other interesting special talented people. Typically everyone who is able brings a covered dish recipe to share with the whole group. There is always bunches of laughter and fun with our friends. Everyone is welcome!!
URL:https://fbclithonia.org/event/young-at-heart/2022-08-18/
LOCATION:First Baptist Church\, 6616 Hillandale Dr.\, Lithonia\, GA\, 30058\, United States
ATTACH;FMTTYPE=image/webp:https://fbclithonia.org/wp-content/uploads/2017/09/20181207_195233.webp
GEO:33.7038088;-84.1193421
X-APPLE-STRUCTURED-LOCATION;VALUE=URI;X-ADDRESS=First Baptist Church 6616 Hillandale Dr. Lithonia GA 30058 United States;X-APPLE-RADIUS=500;X-TITLE=6616 Hillandale Dr.:geo:-84.1193421,33.7038088
END:VEVENT
BEGIN:VEVENT
DTSTART;TZID=UTC:20220817T193000
DTEND;TZID=UTC:20220817T203000
DTSTAMP:20260423T034156
CREATED:20170816T215603Z
LAST-MODIFIED:20260204T132116Z
UID:10004473-1660764600-1660768200@fbclithonia.org
SUMMARY:Choir Practice
DESCRIPTION:
URL:https://fbclithonia.org/event/choir-practice/2022-08-17/
LOCATION:First Baptist Church\, 6616 Hillandale Dr.\, Lithonia\, GA\, 30058\, United States
GEO:33.7038088;-84.1193421
X-APPLE-STRUCTURED-LOCATION;VALUE=URI;X-ADDRESS=First Baptist Church 6616 Hillandale Dr. Lithonia GA 30058 United States;X-APPLE-RADIUS=500;X-TITLE=6616 Hillandale Dr.:geo:-84.1193421,33.7038088
END:VEVENT
BEGIN:VEVENT
DTSTART;TZID=UTC:20220817T181500
DTEND;TZID=UTC:20220817T191500
DTSTAMP:20260423T034156
CREATED:20231009T173321Z
LAST-MODIFIED:20260204T125112Z
UID:10002234-1660760100-1660763700@fbclithonia.org
SUMMARY:Adult Prayer & Bible Study
DESCRIPTION:
URL:https://fbclithonia.org/event/adult-prayer-bible-study-2/2022-08-17/
LOCATION:First Baptist Church\, 6616 Hillandale Dr.\, Lithonia\, GA\, 30058\, United States
GEO:33.7038088;-84.1193421
X-APPLE-STRUCTURED-LOCATION;VALUE=URI;X-ADDRESS=First Baptist Church 6616 Hillandale Dr. Lithonia GA 30058 United States;X-APPLE-RADIUS=500;X-TITLE=6616 Hillandale Dr.:geo:-84.1193421,33.7038088
END:VEVENT
BEGIN:VEVENT
DTSTART;TZID=UTC:20220817T180000
DTEND;TZID=UTC:20220817T191500
DTSTAMP:20260423T034156
CREATED:20170816T212350Z
LAST-MODIFIED:20260204T131821Z
UID:10004099-1660759200-1660763700@fbclithonia.org
SUMMARY:Youth Group
DESCRIPTION:For students in 7th grade and up
URL:https://fbclithonia.org/event/youth-group/2022-08-17/
LOCATION:First Baptist Church\, 6616 Hillandale Dr.\, Lithonia\, GA\, 30058\, United States
GEO:33.7038088;-84.1193421
X-APPLE-STRUCTURED-LOCATION;VALUE=URI;X-ADDRESS=First Baptist Church 6616 Hillandale Dr. Lithonia GA 30058 United States;X-APPLE-RADIUS=500;X-TITLE=6616 Hillandale Dr.:geo:-84.1193421,33.7038088
END:VEVENT
BEGIN:VEVENT
DTSTART;TZID=UTC:20220817T180000
DTEND;TZID=UTC:20220817T191500
DTSTAMP:20260423T034156
CREATED:20170816T211854Z
LAST-MODIFIED:20260204T131702Z
UID:10003726-1660759200-1660763700@fbclithonia.org
SUMMARY:Team Kids
DESCRIPTION:For kids in 1st-6th grades
URL:https://fbclithonia.org/event/team-kids/2022-08-17/
LOCATION:First Baptist Church\, 6616 Hillandale Dr.\, Lithonia\, GA\, 30058\, United States
GEO:33.7038088;-84.1193421
X-APPLE-STRUCTURED-LOCATION;VALUE=URI;X-ADDRESS=First Baptist Church 6616 Hillandale Dr. Lithonia GA 30058 United States;X-APPLE-RADIUS=500;X-TITLE=6616 Hillandale Dr.:geo:-84.1193421,33.7038088
END:VEVENT
BEGIN:VEVENT
DTSTART;TZID=UTC:20220817T103000
DTEND;TZID=UTC:20220817T113000
DTSTAMP:20260423T034156
CREATED:20170816T212741Z
LAST-MODIFIED:20260204T131120Z
UID:10003353-1660732200-1660735800@fbclithonia.org
SUMMARY:Adult Prayer & Bible Study
DESCRIPTION:
URL:https://fbclithonia.org/event/adult-prayer-bible-study/2022-08-17/
LOCATION:First Baptist Church\, 6616 Hillandale Dr.\, Lithonia\, GA\, 30058\, United States
GEO:33.7038088;-84.1193421
X-APPLE-STRUCTURED-LOCATION;VALUE=URI;X-ADDRESS=First Baptist Church 6616 Hillandale Dr. Lithonia GA 30058 United States;X-APPLE-RADIUS=500;X-TITLE=6616 Hillandale Dr.:geo:-84.1193421,33.7038088
END:VEVENT
BEGIN:VEVENT
DTSTART;TZID=UTC:20220814T120000
DTEND;TZID=UTC:20220814T130000
DTSTAMP:20260423T034156
CREATED:20170816T215440Z
LAST-MODIFIED:20260204T122927Z
UID:10001778-1660478400-1660482000@fbclithonia.org
SUMMARY:WMU Leadership Meeting
DESCRIPTION:
URL:https://fbclithonia.org/event/wmu-leadership-meeting/2022-08-14/
LOCATION:First Baptist Church\, 6616 Hillandale Dr.\, Lithonia\, GA\, 30058\, United States
GEO:33.7038088;-84.1193421
X-APPLE-STRUCTURED-LOCATION;VALUE=URI;X-ADDRESS=First Baptist Church 6616 Hillandale Dr. Lithonia GA 30058 United States;X-APPLE-RADIUS=500;X-TITLE=6616 Hillandale Dr.:geo:-84.1193421,33.7038088
END:VEVENT
BEGIN:VEVENT
DTSTART;TZID=UTC:20220814T120000
DTEND;TZID=UTC:20220814T130000
DTSTAMP:20260423T034156
CREATED:20170816T215310Z
LAST-MODIFIED:20260204T124418Z
UID:10001863-1660478400-1660482000@fbclithonia.org
SUMMARY:Deacon Meeting
DESCRIPTION:
URL:https://fbclithonia.org/event/deacon-meeting/2022-08-14/
LOCATION:First Baptist Church\, 6616 Hillandale Dr.\, Lithonia\, GA\, 30058\, United States
GEO:33.7038088;-84.1193421
X-APPLE-STRUCTURED-LOCATION;VALUE=URI;X-ADDRESS=First Baptist Church 6616 Hillandale Dr. Lithonia GA 30058 United States;X-APPLE-RADIUS=500;X-TITLE=6616 Hillandale Dr.:geo:-84.1193421,33.7038088
END:VEVENT
BEGIN:VEVENT
DTSTART;TZID=UTC:20220814T103000
DTEND;TZID=UTC:20220814T120000
DTSTAMP:20260423T034156
CREATED:20170816T211245Z
LAST-MODIFIED:20260204T125301Z
UID:10002606-1660473000-1660478400@fbclithonia.org
SUMMARY:Worship Service
DESCRIPTION:
URL:https://fbclithonia.org/event/worship-service/2022-08-14/
LOCATION:First Baptist Church\, 6616 Hillandale Dr.\, Lithonia\, GA\, 30058\, United States
ORGANIZER;CN="Robert Lindsay":MAILTO:pastorboblindsay@outlook.com
GEO:33.7038088;-84.1193421
X-APPLE-STRUCTURED-LOCATION;VALUE=URI;X-ADDRESS=First Baptist Church 6616 Hillandale Dr. Lithonia GA 30058 United States;X-APPLE-RADIUS=500;X-TITLE=6616 Hillandale Dr.:geo:-84.1193421,33.7038088
END:VEVENT
BEGIN:VEVENT
DTSTART;TZID=UTC:20220814T091500
DTEND;TZID=UTC:20220814T101500
DTSTAMP:20260423T034156
CREATED:20170816T211047Z
LAST-MODIFIED:20260204T130503Z
UID:10002978-1660468500-1660472100@fbclithonia.org
SUMMARY:Sunday School
DESCRIPTION:
URL:https://fbclithonia.org/event/sunday-school/2022-08-14/
LOCATION:First Baptist Church\, 6616 Hillandale Dr.\, Lithonia\, GA\, 30058\, United States
ORGANIZER;CN="Robert Lindsay":MAILTO:pastorboblindsay@outlook.com
GEO:33.7038088;-84.1193421
X-APPLE-STRUCTURED-LOCATION;VALUE=URI;X-ADDRESS=First Baptist Church 6616 Hillandale Dr. Lithonia GA 30058 United States;X-APPLE-RADIUS=500;X-TITLE=6616 Hillandale Dr.:geo:-84.1193421,33.7038088
END:VEVENT
BEGIN:VEVENT
DTSTART;TZID=UTC:20220813T103000
DTEND;TZID=UTC:20220813T123000
DTSTAMP:20260423T034156
CREATED:20170816T213638Z
LAST-MODIFIED:20260204T124637Z
UID:10001948-1660386600-1660393800@fbclithonia.org
SUMMARY:WMU Active Baptist Women
DESCRIPTION:For mature women
URL:https://fbclithonia.org/event/wmu-active-baptist-women/2022-08-13/
LOCATION:First Baptist Church\, 6616 Hillandale Dr.\, Lithonia\, GA\, 30058\, United States
GEO:33.7038088;-84.1193421
X-APPLE-STRUCTURED-LOCATION;VALUE=URI;X-ADDRESS=First Baptist Church 6616 Hillandale Dr. Lithonia GA 30058 United States;X-APPLE-RADIUS=500;X-TITLE=6616 Hillandale Dr.:geo:-84.1193421,33.7038088
END:VEVENT
BEGIN:VEVENT
DTSTART;TZID=UTC:20220810T193000
DTEND;TZID=UTC:20220810T203000
DTSTAMP:20260423T034156
CREATED:20170816T215603Z
LAST-MODIFIED:20260204T132116Z
UID:10004472-1660159800-1660163400@fbclithonia.org
SUMMARY:Choir Practice
DESCRIPTION:
URL:https://fbclithonia.org/event/choir-practice/2022-08-10/
LOCATION:First Baptist Church\, 6616 Hillandale Dr.\, Lithonia\, GA\, 30058\, United States
GEO:33.7038088;-84.1193421
X-APPLE-STRUCTURED-LOCATION;VALUE=URI;X-ADDRESS=First Baptist Church 6616 Hillandale Dr. Lithonia GA 30058 United States;X-APPLE-RADIUS=500;X-TITLE=6616 Hillandale Dr.:geo:-84.1193421,33.7038088
END:VEVENT
BEGIN:VEVENT
DTSTART;TZID=UTC:20220810T181500
DTEND;TZID=UTC:20220810T191500
DTSTAMP:20260423T034156
CREATED:20231009T173321Z
LAST-MODIFIED:20260204T125112Z
UID:10002233-1660155300-1660158900@fbclithonia.org
SUMMARY:Adult Prayer & Bible Study
DESCRIPTION:
URL:https://fbclithonia.org/event/adult-prayer-bible-study-2/2022-08-10/
LOCATION:First Baptist Church\, 6616 Hillandale Dr.\, Lithonia\, GA\, 30058\, United States
GEO:33.7038088;-84.1193421
X-APPLE-STRUCTURED-LOCATION;VALUE=URI;X-ADDRESS=First Baptist Church 6616 Hillandale Dr. Lithonia GA 30058 United States;X-APPLE-RADIUS=500;X-TITLE=6616 Hillandale Dr.:geo:-84.1193421,33.7038088
END:VEVENT
BEGIN:VEVENT
DTSTART;TZID=UTC:20220810T180000
DTEND;TZID=UTC:20220810T191500
DTSTAMP:20260423T034156
CREATED:20170816T212350Z
LAST-MODIFIED:20260204T131821Z
UID:10004098-1660154400-1660158900@fbclithonia.org
SUMMARY:Youth Group
DESCRIPTION:For students in 7th grade and up
URL:https://fbclithonia.org/event/youth-group/2022-08-10/
LOCATION:First Baptist Church\, 6616 Hillandale Dr.\, Lithonia\, GA\, 30058\, United States
GEO:33.7038088;-84.1193421
X-APPLE-STRUCTURED-LOCATION;VALUE=URI;X-ADDRESS=First Baptist Church 6616 Hillandale Dr. Lithonia GA 30058 United States;X-APPLE-RADIUS=500;X-TITLE=6616 Hillandale Dr.:geo:-84.1193421,33.7038088
END:VEVENT
END:VCALENDAR