BEGIN:VCALENDAR
VERSION:2.0
PRODID:-//FBC Lithonia - ECPv6.15.20//NONSGML v1.0//EN
CALSCALE:GREGORIAN
METHOD:PUBLISH
X-ORIGINAL-URL:https://fbclithonia.org
X-WR-CALDESC:Events for FBC Lithonia
REFRESH-INTERVAL;VALUE=DURATION:PT1H
X-Robots-Tag:noindex
X-PUBLISHED-TTL:PT1H
BEGIN:VTIMEZONE
TZID:UTC
BEGIN:STANDARD
TZOFFSETFROM:+0000
TZOFFSETTO:+0000
TZNAME:UTC
DTSTART:20210101T000000
END:STANDARD
END:VTIMEZONE
BEGIN:VEVENT
DTSTART;TZID=UTC:20221113T103000
DTEND;TZID=UTC:20221113T120000
DTSTAMP:20260423T042548
CREATED:20170816T211245Z
LAST-MODIFIED:20260204T125301Z
UID:10002619-1668335400-1668340800@fbclithonia.org
SUMMARY:Worship Service
DESCRIPTION:
URL:https://fbclithonia.org/event/worship-service/2022-11-13/
LOCATION:First Baptist Church\, 6616 Hillandale Dr.\, Lithonia\, GA\, 30058\, United States
ORGANIZER;CN="Robert Lindsay":MAILTO:pastorboblindsay@outlook.com
GEO:33.7038088;-84.1193421
X-APPLE-STRUCTURED-LOCATION;VALUE=URI;X-ADDRESS=First Baptist Church 6616 Hillandale Dr. Lithonia GA 30058 United States;X-APPLE-RADIUS=500;X-TITLE=6616 Hillandale Dr.:geo:-84.1193421,33.7038088
END:VEVENT
BEGIN:VEVENT
DTSTART;TZID=UTC:20221113T091500
DTEND;TZID=UTC:20221113T101500
DTSTAMP:20260423T042548
CREATED:20170816T211047Z
LAST-MODIFIED:20260204T130503Z
UID:10002991-1668330900-1668334500@fbclithonia.org
SUMMARY:Sunday School
DESCRIPTION:
URL:https://fbclithonia.org/event/sunday-school/2022-11-13/
LOCATION:First Baptist Church\, 6616 Hillandale Dr.\, Lithonia\, GA\, 30058\, United States
ORGANIZER;CN="Robert Lindsay":MAILTO:pastorboblindsay@outlook.com
GEO:33.7038088;-84.1193421
X-APPLE-STRUCTURED-LOCATION;VALUE=URI;X-ADDRESS=First Baptist Church 6616 Hillandale Dr. Lithonia GA 30058 United States;X-APPLE-RADIUS=500;X-TITLE=6616 Hillandale Dr.:geo:-84.1193421,33.7038088
END:VEVENT
BEGIN:VEVENT
DTSTART;TZID=UTC:20221112T103000
DTEND;TZID=UTC:20221112T123000
DTSTAMP:20260423T042548
CREATED:20170816T213638Z
LAST-MODIFIED:20260204T124637Z
UID:10001951-1668249000-1668256200@fbclithonia.org
SUMMARY:WMU Active Baptist Women
DESCRIPTION:For mature women
URL:https://fbclithonia.org/event/wmu-active-baptist-women/2022-11-12/
LOCATION:First Baptist Church\, 6616 Hillandale Dr.\, Lithonia\, GA\, 30058\, United States
GEO:33.7038088;-84.1193421
X-APPLE-STRUCTURED-LOCATION;VALUE=URI;X-ADDRESS=First Baptist Church 6616 Hillandale Dr. Lithonia GA 30058 United States;X-APPLE-RADIUS=500;X-TITLE=6616 Hillandale Dr.:geo:-84.1193421,33.7038088
END:VEVENT
BEGIN:VEVENT
DTSTART;TZID=UTC:20221109T193000
DTEND;TZID=UTC:20221109T203000
DTSTAMP:20260423T042548
CREATED:20170816T215603Z
LAST-MODIFIED:20260204T132116Z
UID:10004485-1668022200-1668025800@fbclithonia.org
SUMMARY:Choir Practice
DESCRIPTION:
URL:https://fbclithonia.org/event/choir-practice/2022-11-09/
LOCATION:First Baptist Church\, 6616 Hillandale Dr.\, Lithonia\, GA\, 30058\, United States
GEO:33.7038088;-84.1193421
X-APPLE-STRUCTURED-LOCATION;VALUE=URI;X-ADDRESS=First Baptist Church 6616 Hillandale Dr. Lithonia GA 30058 United States;X-APPLE-RADIUS=500;X-TITLE=6616 Hillandale Dr.:geo:-84.1193421,33.7038088
END:VEVENT
BEGIN:VEVENT
DTSTART;TZID=UTC:20221109T181500
DTEND;TZID=UTC:20221109T191500
DTSTAMP:20260423T042549
CREATED:20231009T173321Z
LAST-MODIFIED:20260204T125112Z
UID:10002246-1668017700-1668021300@fbclithonia.org
SUMMARY:Adult Prayer & Bible Study
DESCRIPTION:
URL:https://fbclithonia.org/event/adult-prayer-bible-study-2/2022-11-09/
LOCATION:First Baptist Church\, 6616 Hillandale Dr.\, Lithonia\, GA\, 30058\, United States
GEO:33.7038088;-84.1193421
X-APPLE-STRUCTURED-LOCATION;VALUE=URI;X-ADDRESS=First Baptist Church 6616 Hillandale Dr. Lithonia GA 30058 United States;X-APPLE-RADIUS=500;X-TITLE=6616 Hillandale Dr.:geo:-84.1193421,33.7038088
END:VEVENT
BEGIN:VEVENT
DTSTART;TZID=UTC:20221109T180000
DTEND;TZID=UTC:20221109T191500
DTSTAMP:20260423T042549
CREATED:20170816T212350Z
LAST-MODIFIED:20260204T131821Z
UID:10004111-1668016800-1668021300@fbclithonia.org
SUMMARY:Youth Group
DESCRIPTION:For students in 7th grade and up
URL:https://fbclithonia.org/event/youth-group/2022-11-09/
LOCATION:First Baptist Church\, 6616 Hillandale Dr.\, Lithonia\, GA\, 30058\, United States
GEO:33.7038088;-84.1193421
X-APPLE-STRUCTURED-LOCATION;VALUE=URI;X-ADDRESS=First Baptist Church 6616 Hillandale Dr. Lithonia GA 30058 United States;X-APPLE-RADIUS=500;X-TITLE=6616 Hillandale Dr.:geo:-84.1193421,33.7038088
END:VEVENT
BEGIN:VEVENT
DTSTART;TZID=UTC:20221109T180000
DTEND;TZID=UTC:20221109T191500
DTSTAMP:20260423T042549
CREATED:20170816T211854Z
LAST-MODIFIED:20260204T131702Z
UID:10003738-1668016800-1668021300@fbclithonia.org
SUMMARY:Team Kids
DESCRIPTION:For kids in 1st-6th grades
URL:https://fbclithonia.org/event/team-kids/2022-11-09/
LOCATION:First Baptist Church\, 6616 Hillandale Dr.\, Lithonia\, GA\, 30058\, United States
GEO:33.7038088;-84.1193421
X-APPLE-STRUCTURED-LOCATION;VALUE=URI;X-ADDRESS=First Baptist Church 6616 Hillandale Dr. Lithonia GA 30058 United States;X-APPLE-RADIUS=500;X-TITLE=6616 Hillandale Dr.:geo:-84.1193421,33.7038088
END:VEVENT
BEGIN:VEVENT
DTSTART;TZID=UTC:20221109T103000
DTEND;TZID=UTC:20221109T113000
DTSTAMP:20260423T042549
CREATED:20170816T212741Z
LAST-MODIFIED:20260204T131120Z
UID:10003365-1667989800-1667993400@fbclithonia.org
SUMMARY:Adult Prayer & Bible Study
DESCRIPTION:
URL:https://fbclithonia.org/event/adult-prayer-bible-study/2022-11-09/
LOCATION:First Baptist Church\, 6616 Hillandale Dr.\, Lithonia\, GA\, 30058\, United States
GEO:33.7038088;-84.1193421
X-APPLE-STRUCTURED-LOCATION;VALUE=URI;X-ADDRESS=First Baptist Church 6616 Hillandale Dr. Lithonia GA 30058 United States;X-APPLE-RADIUS=500;X-TITLE=6616 Hillandale Dr.:geo:-84.1193421,33.7038088
END:VEVENT
BEGIN:VEVENT
DTSTART;TZID=UTC:20221108T103000
DTEND;TZID=UTC:20221108T123000
DTSTAMP:20260423T042549
CREATED:20170816T214937Z
LAST-MODIFIED:20260204T120014Z
UID:10001535-1667903400-1667910600@fbclithonia.org
SUMMARY:WMU Dayspring Baptist Women
DESCRIPTION:For senior adult women
URL:https://fbclithonia.org/event/wmu-dayspring-baptist-women/2022-11-08/
LOCATION:Yellow Brick House\, 6903 Main St.\, Lithonia\, GA\, 30058\, United States
GEO:33.7096255;-84.1080099
X-APPLE-STRUCTURED-LOCATION;VALUE=URI;X-ADDRESS=Yellow Brick House 6903 Main St. Lithonia GA 30058 United States;X-APPLE-RADIUS=500;X-TITLE=6903 Main St.:geo:-84.1080099,33.7096255
END:VEVENT
BEGIN:VEVENT
DTSTART;TZID=UTC:20221106T103000
DTEND;TZID=UTC:20221106T120000
DTSTAMP:20260423T042549
CREATED:20170816T211245Z
LAST-MODIFIED:20260204T125301Z
UID:10002618-1667730600-1667736000@fbclithonia.org
SUMMARY:Worship Service
DESCRIPTION:
URL:https://fbclithonia.org/event/worship-service/2022-11-06/
LOCATION:First Baptist Church\, 6616 Hillandale Dr.\, Lithonia\, GA\, 30058\, United States
ORGANIZER;CN="Robert Lindsay":MAILTO:pastorboblindsay@outlook.com
GEO:33.7038088;-84.1193421
X-APPLE-STRUCTURED-LOCATION;VALUE=URI;X-ADDRESS=First Baptist Church 6616 Hillandale Dr. Lithonia GA 30058 United States;X-APPLE-RADIUS=500;X-TITLE=6616 Hillandale Dr.:geo:-84.1193421,33.7038088
END:VEVENT
BEGIN:VEVENT
DTSTART;TZID=UTC:20221106T091500
DTEND;TZID=UTC:20221106T101500
DTSTAMP:20260423T042549
CREATED:20170816T211047Z
LAST-MODIFIED:20260204T130503Z
UID:10002990-1667726100-1667729700@fbclithonia.org
SUMMARY:Sunday School
DESCRIPTION:
URL:https://fbclithonia.org/event/sunday-school/2022-11-06/
LOCATION:First Baptist Church\, 6616 Hillandale Dr.\, Lithonia\, GA\, 30058\, United States
ORGANIZER;CN="Robert Lindsay":MAILTO:pastorboblindsay@outlook.com
GEO:33.7038088;-84.1193421
X-APPLE-STRUCTURED-LOCATION;VALUE=URI;X-ADDRESS=First Baptist Church 6616 Hillandale Dr. Lithonia GA 30058 United States;X-APPLE-RADIUS=500;X-TITLE=6616 Hillandale Dr.:geo:-84.1193421,33.7038088
END:VEVENT
BEGIN:VEVENT
DTSTART;TZID=UTC:20221102T193000
DTEND;TZID=UTC:20221102T203000
DTSTAMP:20260423T042549
CREATED:20170816T215603Z
LAST-MODIFIED:20260204T132116Z
UID:10004484-1667417400-1667421000@fbclithonia.org
SUMMARY:Choir Practice
DESCRIPTION:
URL:https://fbclithonia.org/event/choir-practice/2022-11-02/
LOCATION:First Baptist Church\, 6616 Hillandale Dr.\, Lithonia\, GA\, 30058\, United States
GEO:33.7038088;-84.1193421
X-APPLE-STRUCTURED-LOCATION;VALUE=URI;X-ADDRESS=First Baptist Church 6616 Hillandale Dr. Lithonia GA 30058 United States;X-APPLE-RADIUS=500;X-TITLE=6616 Hillandale Dr.:geo:-84.1193421,33.7038088
END:VEVENT
BEGIN:VEVENT
DTSTART;TZID=UTC:20221102T181500
DTEND;TZID=UTC:20221102T191500
DTSTAMP:20260423T042549
CREATED:20231009T173321Z
LAST-MODIFIED:20260204T125112Z
UID:10002245-1667412900-1667416500@fbclithonia.org
SUMMARY:Adult Prayer & Bible Study
DESCRIPTION:
URL:https://fbclithonia.org/event/adult-prayer-bible-study-2/2022-11-02/
LOCATION:First Baptist Church\, 6616 Hillandale Dr.\, Lithonia\, GA\, 30058\, United States
GEO:33.7038088;-84.1193421
X-APPLE-STRUCTURED-LOCATION;VALUE=URI;X-ADDRESS=First Baptist Church 6616 Hillandale Dr. Lithonia GA 30058 United States;X-APPLE-RADIUS=500;X-TITLE=6616 Hillandale Dr.:geo:-84.1193421,33.7038088
END:VEVENT
BEGIN:VEVENT
DTSTART;TZID=UTC:20221102T180000
DTEND;TZID=UTC:20221102T191500
DTSTAMP:20260423T042549
CREATED:20170816T212350Z
LAST-MODIFIED:20260204T131821Z
UID:10004110-1667412000-1667416500@fbclithonia.org
SUMMARY:Youth Group
DESCRIPTION:For students in 7th grade and up
URL:https://fbclithonia.org/event/youth-group/2022-11-02/
LOCATION:First Baptist Church\, 6616 Hillandale Dr.\, Lithonia\, GA\, 30058\, United States
GEO:33.7038088;-84.1193421
X-APPLE-STRUCTURED-LOCATION;VALUE=URI;X-ADDRESS=First Baptist Church 6616 Hillandale Dr. Lithonia GA 30058 United States;X-APPLE-RADIUS=500;X-TITLE=6616 Hillandale Dr.:geo:-84.1193421,33.7038088
END:VEVENT
BEGIN:VEVENT
DTSTART;TZID=UTC:20221102T180000
DTEND;TZID=UTC:20221102T191500
DTSTAMP:20260423T042549
CREATED:20170816T211854Z
LAST-MODIFIED:20260204T131702Z
UID:10003737-1667412000-1667416500@fbclithonia.org
SUMMARY:Team Kids
DESCRIPTION:For kids in 1st-6th grades
URL:https://fbclithonia.org/event/team-kids/2022-11-02/
LOCATION:First Baptist Church\, 6616 Hillandale Dr.\, Lithonia\, GA\, 30058\, United States
GEO:33.7038088;-84.1193421
X-APPLE-STRUCTURED-LOCATION;VALUE=URI;X-ADDRESS=First Baptist Church 6616 Hillandale Dr. Lithonia GA 30058 United States;X-APPLE-RADIUS=500;X-TITLE=6616 Hillandale Dr.:geo:-84.1193421,33.7038088
END:VEVENT
BEGIN:VEVENT
DTSTART;TZID=UTC:20221102T103000
DTEND;TZID=UTC:20221102T113000
DTSTAMP:20260423T042549
CREATED:20170816T212741Z
LAST-MODIFIED:20260204T131120Z
UID:10003364-1667385000-1667388600@fbclithonia.org
SUMMARY:Adult Prayer & Bible Study
DESCRIPTION:
URL:https://fbclithonia.org/event/adult-prayer-bible-study/2022-11-02/
LOCATION:First Baptist Church\, 6616 Hillandale Dr.\, Lithonia\, GA\, 30058\, United States
GEO:33.7038088;-84.1193421
X-APPLE-STRUCTURED-LOCATION;VALUE=URI;X-ADDRESS=First Baptist Church 6616 Hillandale Dr. Lithonia GA 30058 United States;X-APPLE-RADIUS=500;X-TITLE=6616 Hillandale Dr.:geo:-84.1193421,33.7038088
END:VEVENT
BEGIN:VEVENT
DTSTART;TZID=UTC:20221031T110000
DTEND;TZID=UTC:20221031T120000
DTSTAMP:20260423T042549
CREATED:20170817T014733Z
LAST-MODIFIED:20260204T112420Z
UID:10001440-1667214000-1667217600@fbclithonia.org
SUMMARY:Prayer Team Meeting
DESCRIPTION:
URL:https://fbclithonia.org/event/prayer-team-meeting/2022-10-31/
LOCATION:First Baptist Church\, 6616 Hillandale Dr.\, Lithonia\, GA\, 30058\, United States
GEO:33.7038088;-84.1193421
X-APPLE-STRUCTURED-LOCATION;VALUE=URI;X-ADDRESS=First Baptist Church 6616 Hillandale Dr. Lithonia GA 30058 United States;X-APPLE-RADIUS=500;X-TITLE=6616 Hillandale Dr.:geo:-84.1193421,33.7038088
END:VEVENT
BEGIN:VEVENT
DTSTART;TZID=UTC:20221030T103000
DTEND;TZID=UTC:20221030T120000
DTSTAMP:20260423T042549
CREATED:20170816T211245Z
LAST-MODIFIED:20260204T125301Z
UID:10002617-1667125800-1667131200@fbclithonia.org
SUMMARY:Worship Service
DESCRIPTION:
URL:https://fbclithonia.org/event/worship-service/2022-10-30/
LOCATION:First Baptist Church\, 6616 Hillandale Dr.\, Lithonia\, GA\, 30058\, United States
ORGANIZER;CN="Robert Lindsay":MAILTO:pastorboblindsay@outlook.com
GEO:33.7038088;-84.1193421
X-APPLE-STRUCTURED-LOCATION;VALUE=URI;X-ADDRESS=First Baptist Church 6616 Hillandale Dr. Lithonia GA 30058 United States;X-APPLE-RADIUS=500;X-TITLE=6616 Hillandale Dr.:geo:-84.1193421,33.7038088
END:VEVENT
BEGIN:VEVENT
DTSTART;TZID=UTC:20221030T091500
DTEND;TZID=UTC:20221030T101500
DTSTAMP:20260423T042549
CREATED:20170816T211047Z
LAST-MODIFIED:20260204T130503Z
UID:10002989-1667121300-1667124900@fbclithonia.org
SUMMARY:Sunday School
DESCRIPTION:
URL:https://fbclithonia.org/event/sunday-school/2022-10-30/
LOCATION:First Baptist Church\, 6616 Hillandale Dr.\, Lithonia\, GA\, 30058\, United States
ORGANIZER;CN="Robert Lindsay":MAILTO:pastorboblindsay@outlook.com
GEO:33.7038088;-84.1193421
X-APPLE-STRUCTURED-LOCATION;VALUE=URI;X-ADDRESS=First Baptist Church 6616 Hillandale Dr. Lithonia GA 30058 United States;X-APPLE-RADIUS=500;X-TITLE=6616 Hillandale Dr.:geo:-84.1193421,33.7038088
END:VEVENT
BEGIN:VEVENT
DTSTART;TZID=UTC:20221026T193000
DTEND;TZID=UTC:20221026T203000
DTSTAMP:20260423T042549
CREATED:20170816T215603Z
LAST-MODIFIED:20260204T132116Z
UID:10004483-1666812600-1666816200@fbclithonia.org
SUMMARY:Choir Practice
DESCRIPTION:
URL:https://fbclithonia.org/event/choir-practice/2022-10-26/
LOCATION:First Baptist Church\, 6616 Hillandale Dr.\, Lithonia\, GA\, 30058\, United States
GEO:33.7038088;-84.1193421
X-APPLE-STRUCTURED-LOCATION;VALUE=URI;X-ADDRESS=First Baptist Church 6616 Hillandale Dr. Lithonia GA 30058 United States;X-APPLE-RADIUS=500;X-TITLE=6616 Hillandale Dr.:geo:-84.1193421,33.7038088
END:VEVENT
BEGIN:VEVENT
DTSTART;TZID=UTC:20221026T181500
DTEND;TZID=UTC:20221026T191500
DTSTAMP:20260423T042549
CREATED:20231009T173321Z
LAST-MODIFIED:20260204T125112Z
UID:10002244-1666808100-1666811700@fbclithonia.org
SUMMARY:Adult Prayer & Bible Study
DESCRIPTION:
URL:https://fbclithonia.org/event/adult-prayer-bible-study-2/2022-10-26/
LOCATION:First Baptist Church\, 6616 Hillandale Dr.\, Lithonia\, GA\, 30058\, United States
GEO:33.7038088;-84.1193421
X-APPLE-STRUCTURED-LOCATION;VALUE=URI;X-ADDRESS=First Baptist Church 6616 Hillandale Dr. Lithonia GA 30058 United States;X-APPLE-RADIUS=500;X-TITLE=6616 Hillandale Dr.:geo:-84.1193421,33.7038088
END:VEVENT
BEGIN:VEVENT
DTSTART;TZID=UTC:20221026T180000
DTEND;TZID=UTC:20221026T191500
DTSTAMP:20260423T042549
CREATED:20170816T212350Z
LAST-MODIFIED:20260204T131821Z
UID:10004109-1666807200-1666811700@fbclithonia.org
SUMMARY:Youth Group
DESCRIPTION:For students in 7th grade and up
URL:https://fbclithonia.org/event/youth-group/2022-10-26/
LOCATION:First Baptist Church\, 6616 Hillandale Dr.\, Lithonia\, GA\, 30058\, United States
GEO:33.7038088;-84.1193421
X-APPLE-STRUCTURED-LOCATION;VALUE=URI;X-ADDRESS=First Baptist Church 6616 Hillandale Dr. Lithonia GA 30058 United States;X-APPLE-RADIUS=500;X-TITLE=6616 Hillandale Dr.:geo:-84.1193421,33.7038088
END:VEVENT
BEGIN:VEVENT
DTSTART;TZID=UTC:20221026T180000
DTEND;TZID=UTC:20221026T191500
DTSTAMP:20260423T042549
CREATED:20170816T211854Z
LAST-MODIFIED:20260204T131702Z
UID:10003736-1666807200-1666811700@fbclithonia.org
SUMMARY:Team Kids
DESCRIPTION:For kids in 1st-6th grades
URL:https://fbclithonia.org/event/team-kids/2022-10-26/
LOCATION:First Baptist Church\, 6616 Hillandale Dr.\, Lithonia\, GA\, 30058\, United States
GEO:33.7038088;-84.1193421
X-APPLE-STRUCTURED-LOCATION;VALUE=URI;X-ADDRESS=First Baptist Church 6616 Hillandale Dr. Lithonia GA 30058 United States;X-APPLE-RADIUS=500;X-TITLE=6616 Hillandale Dr.:geo:-84.1193421,33.7038088
END:VEVENT
BEGIN:VEVENT
DTSTART;TZID=UTC:20221026T103000
DTEND;TZID=UTC:20221026T113000
DTSTAMP:20260423T042549
CREATED:20170816T212741Z
LAST-MODIFIED:20260204T131120Z
UID:10003363-1666780200-1666783800@fbclithonia.org
SUMMARY:Adult Prayer & Bible Study
DESCRIPTION:
URL:https://fbclithonia.org/event/adult-prayer-bible-study/2022-10-26/
LOCATION:First Baptist Church\, 6616 Hillandale Dr.\, Lithonia\, GA\, 30058\, United States
GEO:33.7038088;-84.1193421
X-APPLE-STRUCTURED-LOCATION;VALUE=URI;X-ADDRESS=First Baptist Church 6616 Hillandale Dr. Lithonia GA 30058 United States;X-APPLE-RADIUS=500;X-TITLE=6616 Hillandale Dr.:geo:-84.1193421,33.7038088
END:VEVENT
BEGIN:VEVENT
DTSTART;TZID=UTC:20221023T103000
DTEND;TZID=UTC:20221023T120000
DTSTAMP:20260423T042549
CREATED:20170816T211245Z
LAST-MODIFIED:20260204T125301Z
UID:10002616-1666521000-1666526400@fbclithonia.org
SUMMARY:Worship Service
DESCRIPTION:
URL:https://fbclithonia.org/event/worship-service/2022-10-23/
LOCATION:First Baptist Church\, 6616 Hillandale Dr.\, Lithonia\, GA\, 30058\, United States
ORGANIZER;CN="Robert Lindsay":MAILTO:pastorboblindsay@outlook.com
GEO:33.7038088;-84.1193421
X-APPLE-STRUCTURED-LOCATION;VALUE=URI;X-ADDRESS=First Baptist Church 6616 Hillandale Dr. Lithonia GA 30058 United States;X-APPLE-RADIUS=500;X-TITLE=6616 Hillandale Dr.:geo:-84.1193421,33.7038088
END:VEVENT
BEGIN:VEVENT
DTSTART;TZID=UTC:20221023T091500
DTEND;TZID=UTC:20221023T101500
DTSTAMP:20260423T042549
CREATED:20170816T211047Z
LAST-MODIFIED:20260204T130503Z
UID:10002988-1666516500-1666520100@fbclithonia.org
SUMMARY:Sunday School
DESCRIPTION:
URL:https://fbclithonia.org/event/sunday-school/2022-10-23/
LOCATION:First Baptist Church\, 6616 Hillandale Dr.\, Lithonia\, GA\, 30058\, United States
ORGANIZER;CN="Robert Lindsay":MAILTO:pastorboblindsay@outlook.com
GEO:33.7038088;-84.1193421
X-APPLE-STRUCTURED-LOCATION;VALUE=URI;X-ADDRESS=First Baptist Church 6616 Hillandale Dr. Lithonia GA 30058 United States;X-APPLE-RADIUS=500;X-TITLE=6616 Hillandale Dr.:geo:-84.1193421,33.7038088
END:VEVENT
BEGIN:VEVENT
DTSTART;TZID=UTC:20221020T120000
DTEND;TZID=UTC:20221020T140000
DTSTAMP:20260423T042549
CREATED:20170909T223624Z
LAST-MODIFIED:20260204T111005Z
UID:10001324-1666267200-1666274400@fbclithonia.org
SUMMARY:Young At Heart
DESCRIPTION:We would like to invite you to come and be a part of a special ministry to those 55 and older. We have a great time fellow shipping around the tables\, playing games\, enjoying guest musicians\, or hearing from other interesting special talented people. Typically everyone who is able brings a covered dish recipe to share with the whole group. There is always bunches of laughter and fun with our friends. Everyone is welcome!!
URL:https://fbclithonia.org/event/young-at-heart-2021-01-21/2022-10-20/
LOCATION:First Baptist Church\, 6616 Hillandale Dr.\, Lithonia\, GA\, 30058\, United States
ATTACH;FMTTYPE=image/webp:https://fbclithonia.org/wp-content/uploads/2017/09/20181207_195233.webp
GEO:33.7038088;-84.1193421
X-APPLE-STRUCTURED-LOCATION;VALUE=URI;X-ADDRESS=First Baptist Church 6616 Hillandale Dr. Lithonia GA 30058 United States;X-APPLE-RADIUS=500;X-TITLE=6616 Hillandale Dr.:geo:-84.1193421,33.7038088
END:VEVENT
BEGIN:VEVENT
DTSTART;TZID=UTC:20221020T120000
DTEND;TZID=UTC:20221020T140000
DTSTAMP:20260423T042549
CREATED:20170909T223624Z
LAST-MODIFIED:20260204T111401Z
UID:10001382-1666267200-1666274400@fbclithonia.org
SUMMARY:Young At Heart
DESCRIPTION:We would like to invite you to come and be a part of a special ministry to those 55 and older. We have a great time fellow shipping around the tables\, playing games\, enjoying guest musicians\, or hearing from other interesting special talented people. Typically everyone who is able brings a covered dish recipe to share with the whole group. There is always bunches of laughter and fun with our friends. Everyone is welcome!!
URL:https://fbclithonia.org/event/young-at-heart/2022-10-20/
LOCATION:First Baptist Church\, 6616 Hillandale Dr.\, Lithonia\, GA\, 30058\, United States
ATTACH;FMTTYPE=image/webp:https://fbclithonia.org/wp-content/uploads/2017/09/20181207_195233.webp
GEO:33.7038088;-84.1193421
X-APPLE-STRUCTURED-LOCATION;VALUE=URI;X-ADDRESS=First Baptist Church 6616 Hillandale Dr. Lithonia GA 30058 United States;X-APPLE-RADIUS=500;X-TITLE=6616 Hillandale Dr.:geo:-84.1193421,33.7038088
END:VEVENT
BEGIN:VEVENT
DTSTART;TZID=UTC:20221019T193000
DTEND;TZID=UTC:20221019T203000
DTSTAMP:20260423T042549
CREATED:20170816T215603Z
LAST-MODIFIED:20260204T132116Z
UID:10004482-1666207800-1666211400@fbclithonia.org
SUMMARY:Choir Practice
DESCRIPTION:
URL:https://fbclithonia.org/event/choir-practice/2022-10-19/
LOCATION:First Baptist Church\, 6616 Hillandale Dr.\, Lithonia\, GA\, 30058\, United States
GEO:33.7038088;-84.1193421
X-APPLE-STRUCTURED-LOCATION;VALUE=URI;X-ADDRESS=First Baptist Church 6616 Hillandale Dr. Lithonia GA 30058 United States;X-APPLE-RADIUS=500;X-TITLE=6616 Hillandale Dr.:geo:-84.1193421,33.7038088
END:VEVENT
BEGIN:VEVENT
DTSTART;TZID=UTC:20221019T181500
DTEND;TZID=UTC:20221019T191500
DTSTAMP:20260423T042549
CREATED:20231009T173321Z
LAST-MODIFIED:20260204T125112Z
UID:10002243-1666203300-1666206900@fbclithonia.org
SUMMARY:Adult Prayer & Bible Study
DESCRIPTION:
URL:https://fbclithonia.org/event/adult-prayer-bible-study-2/2022-10-19/
LOCATION:First Baptist Church\, 6616 Hillandale Dr.\, Lithonia\, GA\, 30058\, United States
GEO:33.7038088;-84.1193421
X-APPLE-STRUCTURED-LOCATION;VALUE=URI;X-ADDRESS=First Baptist Church 6616 Hillandale Dr. Lithonia GA 30058 United States;X-APPLE-RADIUS=500;X-TITLE=6616 Hillandale Dr.:geo:-84.1193421,33.7038088
END:VEVENT
END:VCALENDAR