BEGIN:VCALENDAR
VERSION:2.0
PRODID:-//FBC Lithonia - ECPv6.15.20//NONSGML v1.0//EN
CALSCALE:GREGORIAN
METHOD:PUBLISH
X-ORIGINAL-URL:https://fbclithonia.org
X-WR-CALDESC:Events for FBC Lithonia
REFRESH-INTERVAL;VALUE=DURATION:PT1H
X-Robots-Tag:noindex
X-PUBLISHED-TTL:PT1H
BEGIN:VTIMEZONE
TZID:America/New_York
BEGIN:DAYLIGHT
TZOFFSETFROM:-0500
TZOFFSETTO:-0400
TZNAME:EDT
DTSTART:20240310T070000
END:DAYLIGHT
BEGIN:STANDARD
TZOFFSETFROM:-0400
TZOFFSETTO:-0500
TZNAME:EST
DTSTART:20241103T060000
END:STANDARD
BEGIN:DAYLIGHT
TZOFFSETFROM:-0500
TZOFFSETTO:-0400
TZNAME:EDT
DTSTART:20250309T070000
END:DAYLIGHT
BEGIN:STANDARD
TZOFFSETFROM:-0400
TZOFFSETTO:-0500
TZNAME:EST
DTSTART:20251102T060000
END:STANDARD
BEGIN:DAYLIGHT
TZOFFSETFROM:-0500
TZOFFSETTO:-0400
TZNAME:EDT
DTSTART:20260308T070000
END:DAYLIGHT
BEGIN:STANDARD
TZOFFSETFROM:-0400
TZOFFSETTO:-0500
TZNAME:EST
DTSTART:20261101T060000
END:STANDARD
END:VTIMEZONE
BEGIN:VEVENT
DTSTART;TZID=America/New_York:20251119T180000
DTEND;TZID=America/New_York:20251119T193000
DTSTAMP:20260421T060333
CREATED:20260203T162316Z
LAST-MODIFIED:20260203T162649Z
UID:10000670-1763575200-1763580600@fbclithonia.org
SUMMARY:Wednesday Family Night
DESCRIPTION:Wednesday Family Night will be focusing on the children and teens this last quarter of the year. We will have lite supper\, drinks\, interactive Bible stories\, memory verse challenges\, and a game to enjoy with your friends. If you need help with transportation\, make arrangements early at 770-482-8703
URL:https://fbclithonia.org/event/wednesday-family-night-restart-3/2025-11-19/
LOCATION:First Baptist Church\, 6616 Hillandale Dr.\, Lithonia\, GA\, 30058\, United States
CATEGORIES:Featured
ATTACH;FMTTYPE=image/webp:https://fbclithonia.org/wp-content/uploads/2024/08/Wed-Fam-Night.webp
GEO:33.7038088;-84.1193421
X-APPLE-STRUCTURED-LOCATION;VALUE=URI;X-ADDRESS=First Baptist Church 6616 Hillandale Dr. Lithonia GA 30058 United States;X-APPLE-RADIUS=500;X-TITLE=6616 Hillandale Dr.:geo:-84.1193421,33.7038088
END:VEVENT
BEGIN:VEVENT
DTSTART;TZID=America/New_York:20251120T150000
DTEND;TZID=America/New_York:20251120T180000
DTSTAMP:20260421T060333
CREATED:20241118T184508Z
LAST-MODIFIED:20260203T160928Z
UID:10000663-1763650800-1763661600@fbclithonia.org
SUMMARY:Drop Off Location\, O.C.C.
DESCRIPTION:First Baptist Lithonia has volunteered to be a Drop Off location for Operation Christmas Child shoe boxes. The week of drop off begins Monday\, November 17\, at 3pm and concludes on Monday\, November 24\, at 10:30am. Times for you to bring your shoe boxes vary slightly: Mon. -Fri. from 3pm-6pm\, except Wed. we close at 5pm.  :Sat. 10am-3pm; Sun. 1pm-3pm; and Mon. 8:30am-10:30am. Any questions about those times or directions call 770-482-8703
URL:https://fbclithonia.org/event/drop-off-location-o-c-c-2/2025-11-20/
LOCATION:GA
ATTACH;FMTTYPE=image/webp:https://fbclithonia.org/wp-content/uploads/2024/11/sam-oper.webp
END:VEVENT
BEGIN:VEVENT
DTSTART;TZID=America/New_York:20251122T100000
DTEND;TZID=America/New_York:20251122T150000
DTSTAMP:20260421T060333
CREATED:20251121T233908Z
LAST-MODIFIED:20260203T160156Z
UID:10000662-1763805600-1763823600@fbclithonia.org
SUMMARY:Drop Off Location\, O.C.C.
DESCRIPTION:First Baptist Lithonia has volunteered to be a Drop Off location for Operation Christmas Child shoe boxes. The week of drop off begins Monday\, November 17\, at 3pm and concludes on Monday\, November 24\, at 10:30am. Times for you to bring your shoe boxes vary slightly: Mon. -Fri. from 3pm-6pm\, except Wed. we close at 5pm.  :Sat. 10am-3pm; Sun. 1pm-3pm; and Mon. 8:30am-10:30am. Any questions about those times or directions call 770-482-8703
URL:https://fbclithonia.org/event/drop-off-location-o-c-c-2-2/
LOCATION:GA
ATTACH;FMTTYPE=image/webp:https://fbclithonia.org/wp-content/uploads/2024/11/sam-oper.webp
END:VEVENT
END:VCALENDAR