BEGIN:VCALENDAR
VERSION:2.0
PRODID:-//FBC Lithonia - ECPv6.15.20//NONSGML v1.0//EN
CALSCALE:GREGORIAN
METHOD:PUBLISH
X-WR-CALNAME:FBC Lithonia
X-ORIGINAL-URL:https://fbclithonia.org
X-WR-CALDESC:Events for FBC Lithonia
REFRESH-INTERVAL;VALUE=DURATION:PT1H
X-Robots-Tag:noindex
X-PUBLISHED-TTL:PT1H
BEGIN:VTIMEZONE
TZID:UTC
BEGIN:STANDARD
TZOFFSETFROM:+0000
TZOFFSETTO:+0000
TZNAME:UTC
DTSTART:20230101T000000
END:STANDARD
END:VTIMEZONE
BEGIN:VEVENT
DTSTART;TZID=UTC:20240825T091500
DTEND;TZID=UTC:20240825T101500
DTSTAMP:20260421T060138
CREATED:20170816T211047Z
LAST-MODIFIED:20260204T130503Z
UID:10003084-1724577300-1724580900@fbclithonia.org
SUMMARY:Sunday School
DESCRIPTION:
URL:https://fbclithonia.org/event/sunday-school/2024-08-25/
LOCATION:First Baptist Church\, 6616 Hillandale Dr.\, Lithonia\, GA\, 30058\, United States
ORGANIZER;CN="Robert Lindsay":MAILTO:pastorboblindsay@outlook.com
GEO:33.7038088;-84.1193421
X-APPLE-STRUCTURED-LOCATION;VALUE=URI;X-ADDRESS=First Baptist Church 6616 Hillandale Dr. Lithonia GA 30058 United States;X-APPLE-RADIUS=500;X-TITLE=6616 Hillandale Dr.:geo:-84.1193421,33.7038088
END:VEVENT
BEGIN:VEVENT
DTSTART;TZID=UTC:20240818T103000
DTEND;TZID=UTC:20240818T120000
DTSTAMP:20260421T060138
CREATED:20260204T110221Z
LAST-MODIFIED:20260204T110359Z
UID:10001294-1723977000-1723982400@fbclithonia.org
SUMMARY:Worship Service
DESCRIPTION:
URL:https://fbclithonia.org/event/worship-service-2023-02-05-2/2024-08-18/
LOCATION:First Baptist Church\, 6616 Hillandale Dr.\, Lithonia\, GA\, 30058\, United States
ORGANIZER;CN="Robert Lindsay":MAILTO:pastorboblindsay@outlook.com
GEO:33.7038088;-84.1193421
X-APPLE-STRUCTURED-LOCATION;VALUE=URI;X-ADDRESS=First Baptist Church 6616 Hillandale Dr. Lithonia GA 30058 United States;X-APPLE-RADIUS=500;X-TITLE=6616 Hillandale Dr.:geo:-84.1193421,33.7038088
END:VEVENT
BEGIN:VEVENT
DTSTART;TZID=UTC:20240818T103000
DTEND;TZID=UTC:20240818T120000
DTSTAMP:20260421T060138
CREATED:20170816T211245Z
LAST-MODIFIED:20260204T125301Z
UID:10002710-1723977000-1723982400@fbclithonia.org
SUMMARY:Worship Service
DESCRIPTION:
URL:https://fbclithonia.org/event/worship-service/2024-08-18/
LOCATION:First Baptist Church\, 6616 Hillandale Dr.\, Lithonia\, GA\, 30058\, United States
ORGANIZER;CN="Robert Lindsay":MAILTO:pastorboblindsay@outlook.com
GEO:33.7038088;-84.1193421
X-APPLE-STRUCTURED-LOCATION;VALUE=URI;X-ADDRESS=First Baptist Church 6616 Hillandale Dr. Lithonia GA 30058 United States;X-APPLE-RADIUS=500;X-TITLE=6616 Hillandale Dr.:geo:-84.1193421,33.7038088
END:VEVENT
BEGIN:VEVENT
DTSTART;TZID=UTC:20240818T091500
DTEND;TZID=UTC:20240818T101500
DTSTAMP:20260421T060138
CREATED:20170816T211047Z
LAST-MODIFIED:20260204T130503Z
UID:10003083-1723972500-1723976100@fbclithonia.org
SUMMARY:Sunday School
DESCRIPTION:
URL:https://fbclithonia.org/event/sunday-school/2024-08-18/
LOCATION:First Baptist Church\, 6616 Hillandale Dr.\, Lithonia\, GA\, 30058\, United States
ORGANIZER;CN="Robert Lindsay":MAILTO:pastorboblindsay@outlook.com
GEO:33.7038088;-84.1193421
X-APPLE-STRUCTURED-LOCATION;VALUE=URI;X-ADDRESS=First Baptist Church 6616 Hillandale Dr. Lithonia GA 30058 United States;X-APPLE-RADIUS=500;X-TITLE=6616 Hillandale Dr.:geo:-84.1193421,33.7038088
END:VEVENT
BEGIN:VEVENT
DTSTART;TZID=UTC:20240811T103000
DTEND;TZID=UTC:20240811T120000
DTSTAMP:20260421T060138
CREATED:20260204T110221Z
LAST-MODIFIED:20260204T110359Z
UID:10001293-1723372200-1723377600@fbclithonia.org
SUMMARY:Worship Service
DESCRIPTION:
URL:https://fbclithonia.org/event/worship-service-2023-02-05-2/2024-08-11/
LOCATION:First Baptist Church\, 6616 Hillandale Dr.\, Lithonia\, GA\, 30058\, United States
ORGANIZER;CN="Robert Lindsay":MAILTO:pastorboblindsay@outlook.com
GEO:33.7038088;-84.1193421
X-APPLE-STRUCTURED-LOCATION;VALUE=URI;X-ADDRESS=First Baptist Church 6616 Hillandale Dr. Lithonia GA 30058 United States;X-APPLE-RADIUS=500;X-TITLE=6616 Hillandale Dr.:geo:-84.1193421,33.7038088
END:VEVENT
BEGIN:VEVENT
DTSTART;TZID=UTC:20240811T103000
DTEND;TZID=UTC:20240811T120000
DTSTAMP:20260421T060138
CREATED:20170816T211245Z
LAST-MODIFIED:20260204T125301Z
UID:10002709-1723372200-1723377600@fbclithonia.org
SUMMARY:Worship Service
DESCRIPTION:
URL:https://fbclithonia.org/event/worship-service/2024-08-11/
LOCATION:First Baptist Church\, 6616 Hillandale Dr.\, Lithonia\, GA\, 30058\, United States
ORGANIZER;CN="Robert Lindsay":MAILTO:pastorboblindsay@outlook.com
GEO:33.7038088;-84.1193421
X-APPLE-STRUCTURED-LOCATION;VALUE=URI;X-ADDRESS=First Baptist Church 6616 Hillandale Dr. Lithonia GA 30058 United States;X-APPLE-RADIUS=500;X-TITLE=6616 Hillandale Dr.:geo:-84.1193421,33.7038088
END:VEVENT
BEGIN:VEVENT
DTSTART;TZID=UTC:20240811T091500
DTEND;TZID=UTC:20240811T101500
DTSTAMP:20260421T060138
CREATED:20170816T211047Z
LAST-MODIFIED:20260204T130503Z
UID:10003082-1723367700-1723371300@fbclithonia.org
SUMMARY:Sunday School
DESCRIPTION:
URL:https://fbclithonia.org/event/sunday-school/2024-08-11/
LOCATION:First Baptist Church\, 6616 Hillandale Dr.\, Lithonia\, GA\, 30058\, United States
ORGANIZER;CN="Robert Lindsay":MAILTO:pastorboblindsay@outlook.com
GEO:33.7038088;-84.1193421
X-APPLE-STRUCTURED-LOCATION;VALUE=URI;X-ADDRESS=First Baptist Church 6616 Hillandale Dr. Lithonia GA 30058 United States;X-APPLE-RADIUS=500;X-TITLE=6616 Hillandale Dr.:geo:-84.1193421,33.7038088
END:VEVENT
BEGIN:VEVENT
DTSTART;TZID=UTC:20240804T103000
DTEND;TZID=UTC:20240804T120000
DTSTAMP:20260421T060138
CREATED:20260204T110221Z
LAST-MODIFIED:20260204T110359Z
UID:10001292-1722767400-1722772800@fbclithonia.org
SUMMARY:Worship Service
DESCRIPTION:
URL:https://fbclithonia.org/event/worship-service-2023-02-05-2/2024-08-04/
LOCATION:First Baptist Church\, 6616 Hillandale Dr.\, Lithonia\, GA\, 30058\, United States
ORGANIZER;CN="Robert Lindsay":MAILTO:pastorboblindsay@outlook.com
GEO:33.7038088;-84.1193421
X-APPLE-STRUCTURED-LOCATION;VALUE=URI;X-ADDRESS=First Baptist Church 6616 Hillandale Dr. Lithonia GA 30058 United States;X-APPLE-RADIUS=500;X-TITLE=6616 Hillandale Dr.:geo:-84.1193421,33.7038088
END:VEVENT
BEGIN:VEVENT
DTSTART;TZID=UTC:20240804T103000
DTEND;TZID=UTC:20240804T120000
DTSTAMP:20260421T060138
CREATED:20170816T211245Z
LAST-MODIFIED:20260204T125301Z
UID:10002708-1722767400-1722772800@fbclithonia.org
SUMMARY:Worship Service
DESCRIPTION:
URL:https://fbclithonia.org/event/worship-service/2024-08-04/
LOCATION:First Baptist Church\, 6616 Hillandale Dr.\, Lithonia\, GA\, 30058\, United States
ORGANIZER;CN="Robert Lindsay":MAILTO:pastorboblindsay@outlook.com
GEO:33.7038088;-84.1193421
X-APPLE-STRUCTURED-LOCATION;VALUE=URI;X-ADDRESS=First Baptist Church 6616 Hillandale Dr. Lithonia GA 30058 United States;X-APPLE-RADIUS=500;X-TITLE=6616 Hillandale Dr.:geo:-84.1193421,33.7038088
END:VEVENT
BEGIN:VEVENT
DTSTART;TZID=UTC:20240804T091500
DTEND;TZID=UTC:20240804T101500
DTSTAMP:20260421T060138
CREATED:20170816T211047Z
LAST-MODIFIED:20260204T130503Z
UID:10003081-1722762900-1722766500@fbclithonia.org
SUMMARY:Sunday School
DESCRIPTION:
URL:https://fbclithonia.org/event/sunday-school/2024-08-04/
LOCATION:First Baptist Church\, 6616 Hillandale Dr.\, Lithonia\, GA\, 30058\, United States
ORGANIZER;CN="Robert Lindsay":MAILTO:pastorboblindsay@outlook.com
GEO:33.7038088;-84.1193421
X-APPLE-STRUCTURED-LOCATION;VALUE=URI;X-ADDRESS=First Baptist Church 6616 Hillandale Dr. Lithonia GA 30058 United States;X-APPLE-RADIUS=500;X-TITLE=6616 Hillandale Dr.:geo:-84.1193421,33.7038088
END:VEVENT
BEGIN:VEVENT
DTSTART;TZID=UTC:20240728T103000
DTEND;TZID=UTC:20240728T120000
DTSTAMP:20260421T060138
CREATED:20260204T110221Z
LAST-MODIFIED:20260204T110359Z
UID:10001291-1722162600-1722168000@fbclithonia.org
SUMMARY:Worship Service
DESCRIPTION:
URL:https://fbclithonia.org/event/worship-service-2023-02-05-2/2024-07-28/
LOCATION:First Baptist Church\, 6616 Hillandale Dr.\, Lithonia\, GA\, 30058\, United States
ORGANIZER;CN="Robert Lindsay":MAILTO:pastorboblindsay@outlook.com
GEO:33.7038088;-84.1193421
X-APPLE-STRUCTURED-LOCATION;VALUE=URI;X-ADDRESS=First Baptist Church 6616 Hillandale Dr. Lithonia GA 30058 United States;X-APPLE-RADIUS=500;X-TITLE=6616 Hillandale Dr.:geo:-84.1193421,33.7038088
END:VEVENT
BEGIN:VEVENT
DTSTART;TZID=UTC:20240728T103000
DTEND;TZID=UTC:20240728T120000
DTSTAMP:20260421T060138
CREATED:20170816T211245Z
LAST-MODIFIED:20260204T125301Z
UID:10002707-1722162600-1722168000@fbclithonia.org
SUMMARY:Worship Service
DESCRIPTION:
URL:https://fbclithonia.org/event/worship-service/2024-07-28/
LOCATION:First Baptist Church\, 6616 Hillandale Dr.\, Lithonia\, GA\, 30058\, United States
ORGANIZER;CN="Robert Lindsay":MAILTO:pastorboblindsay@outlook.com
GEO:33.7038088;-84.1193421
X-APPLE-STRUCTURED-LOCATION;VALUE=URI;X-ADDRESS=First Baptist Church 6616 Hillandale Dr. Lithonia GA 30058 United States;X-APPLE-RADIUS=500;X-TITLE=6616 Hillandale Dr.:geo:-84.1193421,33.7038088
END:VEVENT
BEGIN:VEVENT
DTSTART;TZID=UTC:20240728T091500
DTEND;TZID=UTC:20240728T101500
DTSTAMP:20260421T060138
CREATED:20170816T211047Z
LAST-MODIFIED:20260204T130503Z
UID:10003080-1722158100-1722161700@fbclithonia.org
SUMMARY:Sunday School
DESCRIPTION:
URL:https://fbclithonia.org/event/sunday-school/2024-07-28/
LOCATION:First Baptist Church\, 6616 Hillandale Dr.\, Lithonia\, GA\, 30058\, United States
ORGANIZER;CN="Robert Lindsay":MAILTO:pastorboblindsay@outlook.com
GEO:33.7038088;-84.1193421
X-APPLE-STRUCTURED-LOCATION;VALUE=URI;X-ADDRESS=First Baptist Church 6616 Hillandale Dr. Lithonia GA 30058 United States;X-APPLE-RADIUS=500;X-TITLE=6616 Hillandale Dr.:geo:-84.1193421,33.7038088
END:VEVENT
BEGIN:VEVENT
DTSTART;TZID=UTC:20240721T103000
DTEND;TZID=UTC:20240721T120000
DTSTAMP:20260421T060138
CREATED:20260204T110221Z
LAST-MODIFIED:20260204T110359Z
UID:10001290-1721557800-1721563200@fbclithonia.org
SUMMARY:Worship Service
DESCRIPTION:
URL:https://fbclithonia.org/event/worship-service-2023-02-05-2/2024-07-21/
LOCATION:First Baptist Church\, 6616 Hillandale Dr.\, Lithonia\, GA\, 30058\, United States
ORGANIZER;CN="Robert Lindsay":MAILTO:pastorboblindsay@outlook.com
GEO:33.7038088;-84.1193421
X-APPLE-STRUCTURED-LOCATION;VALUE=URI;X-ADDRESS=First Baptist Church 6616 Hillandale Dr. Lithonia GA 30058 United States;X-APPLE-RADIUS=500;X-TITLE=6616 Hillandale Dr.:geo:-84.1193421,33.7038088
END:VEVENT
BEGIN:VEVENT
DTSTART;TZID=UTC:20240721T103000
DTEND;TZID=UTC:20240721T120000
DTSTAMP:20260421T060138
CREATED:20170816T211245Z
LAST-MODIFIED:20260204T125301Z
UID:10002706-1721557800-1721563200@fbclithonia.org
SUMMARY:Worship Service
DESCRIPTION:
URL:https://fbclithonia.org/event/worship-service/2024-07-21/
LOCATION:First Baptist Church\, 6616 Hillandale Dr.\, Lithonia\, GA\, 30058\, United States
ORGANIZER;CN="Robert Lindsay":MAILTO:pastorboblindsay@outlook.com
GEO:33.7038088;-84.1193421
X-APPLE-STRUCTURED-LOCATION;VALUE=URI;X-ADDRESS=First Baptist Church 6616 Hillandale Dr. Lithonia GA 30058 United States;X-APPLE-RADIUS=500;X-TITLE=6616 Hillandale Dr.:geo:-84.1193421,33.7038088
END:VEVENT
BEGIN:VEVENT
DTSTART;TZID=UTC:20240721T091500
DTEND;TZID=UTC:20240721T101500
DTSTAMP:20260421T060138
CREATED:20170816T211047Z
LAST-MODIFIED:20260204T130503Z
UID:10003079-1721553300-1721556900@fbclithonia.org
SUMMARY:Sunday School
DESCRIPTION:
URL:https://fbclithonia.org/event/sunday-school/2024-07-21/
LOCATION:First Baptist Church\, 6616 Hillandale Dr.\, Lithonia\, GA\, 30058\, United States
ORGANIZER;CN="Robert Lindsay":MAILTO:pastorboblindsay@outlook.com
GEO:33.7038088;-84.1193421
X-APPLE-STRUCTURED-LOCATION;VALUE=URI;X-ADDRESS=First Baptist Church 6616 Hillandale Dr. Lithonia GA 30058 United States;X-APPLE-RADIUS=500;X-TITLE=6616 Hillandale Dr.:geo:-84.1193421,33.7038088
END:VEVENT
BEGIN:VEVENT
DTSTART;TZID=UTC:20240714T103000
DTEND;TZID=UTC:20240714T120000
DTSTAMP:20260421T060138
CREATED:20260204T110221Z
LAST-MODIFIED:20260204T110359Z
UID:10001289-1720953000-1720958400@fbclithonia.org
SUMMARY:Worship Service
DESCRIPTION:
URL:https://fbclithonia.org/event/worship-service-2023-02-05-2/2024-07-14/
LOCATION:First Baptist Church\, 6616 Hillandale Dr.\, Lithonia\, GA\, 30058\, United States
ORGANIZER;CN="Robert Lindsay":MAILTO:pastorboblindsay@outlook.com
GEO:33.7038088;-84.1193421
X-APPLE-STRUCTURED-LOCATION;VALUE=URI;X-ADDRESS=First Baptist Church 6616 Hillandale Dr. Lithonia GA 30058 United States;X-APPLE-RADIUS=500;X-TITLE=6616 Hillandale Dr.:geo:-84.1193421,33.7038088
END:VEVENT
BEGIN:VEVENT
DTSTART;TZID=UTC:20240714T103000
DTEND;TZID=UTC:20240714T120000
DTSTAMP:20260421T060138
CREATED:20170816T211245Z
LAST-MODIFIED:20260204T125301Z
UID:10002705-1720953000-1720958400@fbclithonia.org
SUMMARY:Worship Service
DESCRIPTION:
URL:https://fbclithonia.org/event/worship-service/2024-07-14/
LOCATION:First Baptist Church\, 6616 Hillandale Dr.\, Lithonia\, GA\, 30058\, United States
ORGANIZER;CN="Robert Lindsay":MAILTO:pastorboblindsay@outlook.com
GEO:33.7038088;-84.1193421
X-APPLE-STRUCTURED-LOCATION;VALUE=URI;X-ADDRESS=First Baptist Church 6616 Hillandale Dr. Lithonia GA 30058 United States;X-APPLE-RADIUS=500;X-TITLE=6616 Hillandale Dr.:geo:-84.1193421,33.7038088
END:VEVENT
BEGIN:VEVENT
DTSTART;TZID=UTC:20240714T091500
DTEND;TZID=UTC:20240714T101500
DTSTAMP:20260421T060138
CREATED:20170816T211047Z
LAST-MODIFIED:20260204T130503Z
UID:10003078-1720948500-1720952100@fbclithonia.org
SUMMARY:Sunday School
DESCRIPTION:
URL:https://fbclithonia.org/event/sunday-school/2024-07-14/
LOCATION:First Baptist Church\, 6616 Hillandale Dr.\, Lithonia\, GA\, 30058\, United States
ORGANIZER;CN="Robert Lindsay":MAILTO:pastorboblindsay@outlook.com
GEO:33.7038088;-84.1193421
X-APPLE-STRUCTURED-LOCATION;VALUE=URI;X-ADDRESS=First Baptist Church 6616 Hillandale Dr. Lithonia GA 30058 United States;X-APPLE-RADIUS=500;X-TITLE=6616 Hillandale Dr.:geo:-84.1193421,33.7038088
END:VEVENT
BEGIN:VEVENT
DTSTART;TZID=UTC:20240707T103000
DTEND;TZID=UTC:20240707T120000
DTSTAMP:20260421T060138
CREATED:20260204T110221Z
LAST-MODIFIED:20260204T110359Z
UID:10001288-1720348200-1720353600@fbclithonia.org
SUMMARY:Worship Service
DESCRIPTION:
URL:https://fbclithonia.org/event/worship-service-2023-02-05-2/2024-07-07/
LOCATION:First Baptist Church\, 6616 Hillandale Dr.\, Lithonia\, GA\, 30058\, United States
ORGANIZER;CN="Robert Lindsay":MAILTO:pastorboblindsay@outlook.com
GEO:33.7038088;-84.1193421
X-APPLE-STRUCTURED-LOCATION;VALUE=URI;X-ADDRESS=First Baptist Church 6616 Hillandale Dr. Lithonia GA 30058 United States;X-APPLE-RADIUS=500;X-TITLE=6616 Hillandale Dr.:geo:-84.1193421,33.7038088
END:VEVENT
BEGIN:VEVENT
DTSTART;TZID=UTC:20240707T103000
DTEND;TZID=UTC:20240707T120000
DTSTAMP:20260421T060138
CREATED:20170816T211245Z
LAST-MODIFIED:20260204T125301Z
UID:10002704-1720348200-1720353600@fbclithonia.org
SUMMARY:Worship Service
DESCRIPTION:
URL:https://fbclithonia.org/event/worship-service/2024-07-07/
LOCATION:First Baptist Church\, 6616 Hillandale Dr.\, Lithonia\, GA\, 30058\, United States
ORGANIZER;CN="Robert Lindsay":MAILTO:pastorboblindsay@outlook.com
GEO:33.7038088;-84.1193421
X-APPLE-STRUCTURED-LOCATION;VALUE=URI;X-ADDRESS=First Baptist Church 6616 Hillandale Dr. Lithonia GA 30058 United States;X-APPLE-RADIUS=500;X-TITLE=6616 Hillandale Dr.:geo:-84.1193421,33.7038088
END:VEVENT
BEGIN:VEVENT
DTSTART;TZID=UTC:20240707T091500
DTEND;TZID=UTC:20240707T101500
DTSTAMP:20260421T060138
CREATED:20170816T211047Z
LAST-MODIFIED:20260204T130503Z
UID:10003077-1720343700-1720347300@fbclithonia.org
SUMMARY:Sunday School
DESCRIPTION:
URL:https://fbclithonia.org/event/sunday-school/2024-07-07/
LOCATION:First Baptist Church\, 6616 Hillandale Dr.\, Lithonia\, GA\, 30058\, United States
ORGANIZER;CN="Robert Lindsay":MAILTO:pastorboblindsay@outlook.com
GEO:33.7038088;-84.1193421
X-APPLE-STRUCTURED-LOCATION;VALUE=URI;X-ADDRESS=First Baptist Church 6616 Hillandale Dr. Lithonia GA 30058 United States;X-APPLE-RADIUS=500;X-TITLE=6616 Hillandale Dr.:geo:-84.1193421,33.7038088
END:VEVENT
BEGIN:VEVENT
DTSTART;TZID=UTC:20240630T103000
DTEND;TZID=UTC:20240630T120000
DTSTAMP:20260421T060138
CREATED:20260204T110221Z
LAST-MODIFIED:20260204T110359Z
UID:10001287-1719743400-1719748800@fbclithonia.org
SUMMARY:Worship Service
DESCRIPTION:
URL:https://fbclithonia.org/event/worship-service-2023-02-05-2/2024-06-30/
LOCATION:First Baptist Church\, 6616 Hillandale Dr.\, Lithonia\, GA\, 30058\, United States
ORGANIZER;CN="Robert Lindsay":MAILTO:pastorboblindsay@outlook.com
GEO:33.7038088;-84.1193421
X-APPLE-STRUCTURED-LOCATION;VALUE=URI;X-ADDRESS=First Baptist Church 6616 Hillandale Dr. Lithonia GA 30058 United States;X-APPLE-RADIUS=500;X-TITLE=6616 Hillandale Dr.:geo:-84.1193421,33.7038088
END:VEVENT
BEGIN:VEVENT
DTSTART;TZID=UTC:20240630T103000
DTEND;TZID=UTC:20240630T120000
DTSTAMP:20260421T060138
CREATED:20170816T211245Z
LAST-MODIFIED:20260204T125301Z
UID:10002703-1719743400-1719748800@fbclithonia.org
SUMMARY:Worship Service
DESCRIPTION:
URL:https://fbclithonia.org/event/worship-service/2024-06-30/
LOCATION:First Baptist Church\, 6616 Hillandale Dr.\, Lithonia\, GA\, 30058\, United States
ORGANIZER;CN="Robert Lindsay":MAILTO:pastorboblindsay@outlook.com
GEO:33.7038088;-84.1193421
X-APPLE-STRUCTURED-LOCATION;VALUE=URI;X-ADDRESS=First Baptist Church 6616 Hillandale Dr. Lithonia GA 30058 United States;X-APPLE-RADIUS=500;X-TITLE=6616 Hillandale Dr.:geo:-84.1193421,33.7038088
END:VEVENT
BEGIN:VEVENT
DTSTART;TZID=UTC:20240630T091500
DTEND;TZID=UTC:20240630T101500
DTSTAMP:20260421T060138
CREATED:20170816T211047Z
LAST-MODIFIED:20260204T130503Z
UID:10003076-1719738900-1719742500@fbclithonia.org
SUMMARY:Sunday School
DESCRIPTION:
URL:https://fbclithonia.org/event/sunday-school/2024-06-30/
LOCATION:First Baptist Church\, 6616 Hillandale Dr.\, Lithonia\, GA\, 30058\, United States
ORGANIZER;CN="Robert Lindsay":MAILTO:pastorboblindsay@outlook.com
GEO:33.7038088;-84.1193421
X-APPLE-STRUCTURED-LOCATION;VALUE=URI;X-ADDRESS=First Baptist Church 6616 Hillandale Dr. Lithonia GA 30058 United States;X-APPLE-RADIUS=500;X-TITLE=6616 Hillandale Dr.:geo:-84.1193421,33.7038088
END:VEVENT
BEGIN:VEVENT
DTSTART;TZID=UTC:20240623T103000
DTEND;TZID=UTC:20240623T120000
DTSTAMP:20260421T060138
CREATED:20260204T110221Z
LAST-MODIFIED:20260204T110359Z
UID:10001286-1719138600-1719144000@fbclithonia.org
SUMMARY:Worship Service
DESCRIPTION:
URL:https://fbclithonia.org/event/worship-service-2023-02-05-2/2024-06-23/
LOCATION:First Baptist Church\, 6616 Hillandale Dr.\, Lithonia\, GA\, 30058\, United States
ORGANIZER;CN="Robert Lindsay":MAILTO:pastorboblindsay@outlook.com
GEO:33.7038088;-84.1193421
X-APPLE-STRUCTURED-LOCATION;VALUE=URI;X-ADDRESS=First Baptist Church 6616 Hillandale Dr. Lithonia GA 30058 United States;X-APPLE-RADIUS=500;X-TITLE=6616 Hillandale Dr.:geo:-84.1193421,33.7038088
END:VEVENT
BEGIN:VEVENT
DTSTART;TZID=UTC:20240623T103000
DTEND;TZID=UTC:20240623T120000
DTSTAMP:20260421T060138
CREATED:20170816T211245Z
LAST-MODIFIED:20260204T125301Z
UID:10002702-1719138600-1719144000@fbclithonia.org
SUMMARY:Worship Service
DESCRIPTION:
URL:https://fbclithonia.org/event/worship-service/2024-06-23/
LOCATION:First Baptist Church\, 6616 Hillandale Dr.\, Lithonia\, GA\, 30058\, United States
ORGANIZER;CN="Robert Lindsay":MAILTO:pastorboblindsay@outlook.com
GEO:33.7038088;-84.1193421
X-APPLE-STRUCTURED-LOCATION;VALUE=URI;X-ADDRESS=First Baptist Church 6616 Hillandale Dr. Lithonia GA 30058 United States;X-APPLE-RADIUS=500;X-TITLE=6616 Hillandale Dr.:geo:-84.1193421,33.7038088
END:VEVENT
BEGIN:VEVENT
DTSTART;TZID=UTC:20240623T091500
DTEND;TZID=UTC:20240623T101500
DTSTAMP:20260421T060138
CREATED:20170816T211047Z
LAST-MODIFIED:20260204T130503Z
UID:10003075-1719134100-1719137700@fbclithonia.org
SUMMARY:Sunday School
DESCRIPTION:
URL:https://fbclithonia.org/event/sunday-school/2024-06-23/
LOCATION:First Baptist Church\, 6616 Hillandale Dr.\, Lithonia\, GA\, 30058\, United States
ORGANIZER;CN="Robert Lindsay":MAILTO:pastorboblindsay@outlook.com
GEO:33.7038088;-84.1193421
X-APPLE-STRUCTURED-LOCATION;VALUE=URI;X-ADDRESS=First Baptist Church 6616 Hillandale Dr. Lithonia GA 30058 United States;X-APPLE-RADIUS=500;X-TITLE=6616 Hillandale Dr.:geo:-84.1193421,33.7038088
END:VEVENT
BEGIN:VEVENT
DTSTART;TZID=UTC:20240616T103000
DTEND;TZID=UTC:20240616T120000
DTSTAMP:20260421T060138
CREATED:20260204T110221Z
LAST-MODIFIED:20260204T110359Z
UID:10001285-1718533800-1718539200@fbclithonia.org
SUMMARY:Worship Service
DESCRIPTION:
URL:https://fbclithonia.org/event/worship-service-2023-02-05-2/2024-06-16/
LOCATION:First Baptist Church\, 6616 Hillandale Dr.\, Lithonia\, GA\, 30058\, United States
ORGANIZER;CN="Robert Lindsay":MAILTO:pastorboblindsay@outlook.com
GEO:33.7038088;-84.1193421
X-APPLE-STRUCTURED-LOCATION;VALUE=URI;X-ADDRESS=First Baptist Church 6616 Hillandale Dr. Lithonia GA 30058 United States;X-APPLE-RADIUS=500;X-TITLE=6616 Hillandale Dr.:geo:-84.1193421,33.7038088
END:VEVENT
BEGIN:VEVENT
DTSTART;TZID=UTC:20240616T103000
DTEND;TZID=UTC:20240616T120000
DTSTAMP:20260421T060138
CREATED:20170816T211245Z
LAST-MODIFIED:20260204T125301Z
UID:10002701-1718533800-1718539200@fbclithonia.org
SUMMARY:Worship Service
DESCRIPTION:
URL:https://fbclithonia.org/event/worship-service/2024-06-16/
LOCATION:First Baptist Church\, 6616 Hillandale Dr.\, Lithonia\, GA\, 30058\, United States
ORGANIZER;CN="Robert Lindsay":MAILTO:pastorboblindsay@outlook.com
GEO:33.7038088;-84.1193421
X-APPLE-STRUCTURED-LOCATION;VALUE=URI;X-ADDRESS=First Baptist Church 6616 Hillandale Dr. Lithonia GA 30058 United States;X-APPLE-RADIUS=500;X-TITLE=6616 Hillandale Dr.:geo:-84.1193421,33.7038088
END:VEVENT
END:VCALENDAR