BEGIN:VCALENDAR
VERSION:2.0
PRODID:-//FBC Lithonia - ECPv6.15.20//NONSGML v1.0//EN
CALSCALE:GREGORIAN
METHOD:PUBLISH
X-ORIGINAL-URL:https://fbclithonia.org
X-WR-CALDESC:Events for FBC Lithonia
REFRESH-INTERVAL;VALUE=DURATION:PT1H
X-Robots-Tag:noindex
X-PUBLISHED-TTL:PT1H
BEGIN:VTIMEZONE
TZID:UTC
BEGIN:STANDARD
TZOFFSETFROM:+0000
TZOFFSETTO:+0000
TZNAME:UTC
DTSTART:20180101T000000
END:STANDARD
END:VTIMEZONE
BEGIN:VEVENT
DTSTART;TZID=UTC:20220412T103000
DTEND;TZID=UTC:20220412T123000
DTSTAMP:20260421T033516
CREATED:20170816T214937Z
LAST-MODIFIED:20260204T120014Z
UID:10001528-1649759400-1649766600@fbclithonia.org
SUMMARY:WMU Dayspring Baptist Women
DESCRIPTION:For senior adult women
URL:https://fbclithonia.org/event/wmu-dayspring-baptist-women/2022-04-12/
LOCATION:Yellow Brick House\, 6903 Main St.\, Lithonia\, GA\, 30058\, United States
GEO:33.7096255;-84.1080099
X-APPLE-STRUCTURED-LOCATION;VALUE=URI;X-ADDRESS=Yellow Brick House 6903 Main St. Lithonia GA 30058 United States;X-APPLE-RADIUS=500;X-TITLE=6903 Main St.:geo:-84.1080099,33.7096255
END:VEVENT
BEGIN:VEVENT
DTSTART;TZID=UTC:20220308T103000
DTEND;TZID=UTC:20220308T123000
DTSTAMP:20260421T033516
CREATED:20170816T214937Z
LAST-MODIFIED:20260204T120014Z
UID:10001527-1646735400-1646742600@fbclithonia.org
SUMMARY:WMU Dayspring Baptist Women
DESCRIPTION:For senior adult women
URL:https://fbclithonia.org/event/wmu-dayspring-baptist-women/2022-03-08/
LOCATION:Yellow Brick House\, 6903 Main St.\, Lithonia\, GA\, 30058\, United States
GEO:33.7096255;-84.1080099
X-APPLE-STRUCTURED-LOCATION;VALUE=URI;X-ADDRESS=Yellow Brick House 6903 Main St. Lithonia GA 30058 United States;X-APPLE-RADIUS=500;X-TITLE=6903 Main St.:geo:-84.1080099,33.7096255
END:VEVENT
BEGIN:VEVENT
DTSTART;TZID=UTC:20220208T103000
DTEND;TZID=UTC:20220208T123000
DTSTAMP:20260421T033516
CREATED:20170816T214937Z
LAST-MODIFIED:20260204T120014Z
UID:10001526-1644316200-1644323400@fbclithonia.org
SUMMARY:WMU Dayspring Baptist Women
DESCRIPTION:For senior adult women
URL:https://fbclithonia.org/event/wmu-dayspring-baptist-women/2022-02-08/
LOCATION:Yellow Brick House\, 6903 Main St.\, Lithonia\, GA\, 30058\, United States
GEO:33.7096255;-84.1080099
X-APPLE-STRUCTURED-LOCATION;VALUE=URI;X-ADDRESS=Yellow Brick House 6903 Main St. Lithonia GA 30058 United States;X-APPLE-RADIUS=500;X-TITLE=6903 Main St.:geo:-84.1080099,33.7096255
END:VEVENT
BEGIN:VEVENT
DTSTART;TZID=UTC:20220111T103000
DTEND;TZID=UTC:20220111T123000
DTSTAMP:20260421T033516
CREATED:20170816T214937Z
LAST-MODIFIED:20260204T120014Z
UID:10001525-1641897000-1641904200@fbclithonia.org
SUMMARY:WMU Dayspring Baptist Women
DESCRIPTION:For senior adult women
URL:https://fbclithonia.org/event/wmu-dayspring-baptist-women/2022-01-11/
LOCATION:Yellow Brick House\, 6903 Main St.\, Lithonia\, GA\, 30058\, United States
GEO:33.7096255;-84.1080099
X-APPLE-STRUCTURED-LOCATION;VALUE=URI;X-ADDRESS=Yellow Brick House 6903 Main St. Lithonia GA 30058 United States;X-APPLE-RADIUS=500;X-TITLE=6903 Main St.:geo:-84.1080099,33.7096255
END:VEVENT
BEGIN:VEVENT
DTSTART;TZID=UTC:20211214T103000
DTEND;TZID=UTC:20211214T123000
DTSTAMP:20260421T033516
CREATED:20170816T214937Z
LAST-MODIFIED:20260204T120014Z
UID:10001524-1639477800-1639485000@fbclithonia.org
SUMMARY:WMU Dayspring Baptist Women
DESCRIPTION:For senior adult women
URL:https://fbclithonia.org/event/wmu-dayspring-baptist-women/2021-12-14/
LOCATION:Yellow Brick House\, 6903 Main St.\, Lithonia\, GA\, 30058\, United States
GEO:33.7096255;-84.1080099
X-APPLE-STRUCTURED-LOCATION;VALUE=URI;X-ADDRESS=Yellow Brick House 6903 Main St. Lithonia GA 30058 United States;X-APPLE-RADIUS=500;X-TITLE=6903 Main St.:geo:-84.1080099,33.7096255
END:VEVENT
BEGIN:VEVENT
DTSTART;TZID=UTC:20211109T103000
DTEND;TZID=UTC:20211109T123000
DTSTAMP:20260421T033516
CREATED:20170816T214937Z
LAST-MODIFIED:20260204T120014Z
UID:10001523-1636453800-1636461000@fbclithonia.org
SUMMARY:WMU Dayspring Baptist Women
DESCRIPTION:For senior adult women
URL:https://fbclithonia.org/event/wmu-dayspring-baptist-women/2021-11-09/
LOCATION:Yellow Brick House\, 6903 Main St.\, Lithonia\, GA\, 30058\, United States
GEO:33.7096255;-84.1080099
X-APPLE-STRUCTURED-LOCATION;VALUE=URI;X-ADDRESS=Yellow Brick House 6903 Main St. Lithonia GA 30058 United States;X-APPLE-RADIUS=500;X-TITLE=6903 Main St.:geo:-84.1080099,33.7096255
END:VEVENT
BEGIN:VEVENT
DTSTART;TZID=UTC:20211012T103000
DTEND;TZID=UTC:20211012T123000
DTSTAMP:20260421T033516
CREATED:20170816T214937Z
LAST-MODIFIED:20260204T120014Z
UID:10001522-1634034600-1634041800@fbclithonia.org
SUMMARY:WMU Dayspring Baptist Women
DESCRIPTION:For senior adult women
URL:https://fbclithonia.org/event/wmu-dayspring-baptist-women/2021-10-12/
LOCATION:Yellow Brick House\, 6903 Main St.\, Lithonia\, GA\, 30058\, United States
GEO:33.7096255;-84.1080099
X-APPLE-STRUCTURED-LOCATION;VALUE=URI;X-ADDRESS=Yellow Brick House 6903 Main St. Lithonia GA 30058 United States;X-APPLE-RADIUS=500;X-TITLE=6903 Main St.:geo:-84.1080099,33.7096255
END:VEVENT
BEGIN:VEVENT
DTSTART;TZID=UTC:20210914T103000
DTEND;TZID=UTC:20210914T123000
DTSTAMP:20260421T033516
CREATED:20170816T214937Z
LAST-MODIFIED:20260204T120014Z
UID:10001521-1631615400-1631622600@fbclithonia.org
SUMMARY:WMU Dayspring Baptist Women
DESCRIPTION:For senior adult women
URL:https://fbclithonia.org/event/wmu-dayspring-baptist-women/2021-09-14/
LOCATION:Yellow Brick House\, 6903 Main St.\, Lithonia\, GA\, 30058\, United States
GEO:33.7096255;-84.1080099
X-APPLE-STRUCTURED-LOCATION;VALUE=URI;X-ADDRESS=Yellow Brick House 6903 Main St. Lithonia GA 30058 United States;X-APPLE-RADIUS=500;X-TITLE=6903 Main St.:geo:-84.1080099,33.7096255
END:VEVENT
BEGIN:VEVENT
DTSTART;TZID=UTC:20210810T103000
DTEND;TZID=UTC:20210810T123000
DTSTAMP:20260421T033516
CREATED:20170816T214937Z
LAST-MODIFIED:20260204T120014Z
UID:10001520-1628591400-1628598600@fbclithonia.org
SUMMARY:WMU Dayspring Baptist Women
DESCRIPTION:For senior adult women
URL:https://fbclithonia.org/event/wmu-dayspring-baptist-women/2021-08-10/
LOCATION:Yellow Brick House\, 6903 Main St.\, Lithonia\, GA\, 30058\, United States
GEO:33.7096255;-84.1080099
X-APPLE-STRUCTURED-LOCATION;VALUE=URI;X-ADDRESS=Yellow Brick House 6903 Main St. Lithonia GA 30058 United States;X-APPLE-RADIUS=500;X-TITLE=6903 Main St.:geo:-84.1080099,33.7096255
END:VEVENT
BEGIN:VEVENT
DTSTART;TZID=UTC:20210713T103000
DTEND;TZID=UTC:20210713T123000
DTSTAMP:20260421T033516
CREATED:20170816T214937Z
LAST-MODIFIED:20260204T120014Z
UID:10001519-1626172200-1626179400@fbclithonia.org
SUMMARY:WMU Dayspring Baptist Women
DESCRIPTION:For senior adult women
URL:https://fbclithonia.org/event/wmu-dayspring-baptist-women/2021-07-13/
LOCATION:Yellow Brick House\, 6903 Main St.\, Lithonia\, GA\, 30058\, United States
GEO:33.7096255;-84.1080099
X-APPLE-STRUCTURED-LOCATION;VALUE=URI;X-ADDRESS=Yellow Brick House 6903 Main St. Lithonia GA 30058 United States;X-APPLE-RADIUS=500;X-TITLE=6903 Main St.:geo:-84.1080099,33.7096255
END:VEVENT
BEGIN:VEVENT
DTSTART;TZID=UTC:20210608T103000
DTEND;TZID=UTC:20210608T123000
DTSTAMP:20260421T033516
CREATED:20170816T214937Z
LAST-MODIFIED:20260204T120014Z
UID:10001518-1623148200-1623155400@fbclithonia.org
SUMMARY:WMU Dayspring Baptist Women
DESCRIPTION:For senior adult women
URL:https://fbclithonia.org/event/wmu-dayspring-baptist-women/2021-06-08/
LOCATION:Yellow Brick House\, 6903 Main St.\, Lithonia\, GA\, 30058\, United States
GEO:33.7096255;-84.1080099
X-APPLE-STRUCTURED-LOCATION;VALUE=URI;X-ADDRESS=Yellow Brick House 6903 Main St. Lithonia GA 30058 United States;X-APPLE-RADIUS=500;X-TITLE=6903 Main St.:geo:-84.1080099,33.7096255
END:VEVENT
BEGIN:VEVENT
DTSTART;TZID=UTC:20210511T103000
DTEND;TZID=UTC:20210511T123000
DTSTAMP:20260421T033516
CREATED:20170816T214937Z
LAST-MODIFIED:20260204T120014Z
UID:10001517-1620729000-1620736200@fbclithonia.org
SUMMARY:WMU Dayspring Baptist Women
DESCRIPTION:For senior adult women
URL:https://fbclithonia.org/event/wmu-dayspring-baptist-women/2021-05-11/
LOCATION:Yellow Brick House\, 6903 Main St.\, Lithonia\, GA\, 30058\, United States
GEO:33.7096255;-84.1080099
X-APPLE-STRUCTURED-LOCATION;VALUE=URI;X-ADDRESS=Yellow Brick House 6903 Main St. Lithonia GA 30058 United States;X-APPLE-RADIUS=500;X-TITLE=6903 Main St.:geo:-84.1080099,33.7096255
END:VEVENT
BEGIN:VEVENT
DTSTART;TZID=UTC:20210413T103000
DTEND;TZID=UTC:20210413T123000
DTSTAMP:20260421T033516
CREATED:20170816T214937Z
LAST-MODIFIED:20260204T120014Z
UID:10001516-1618309800-1618317000@fbclithonia.org
SUMMARY:WMU Dayspring Baptist Women
DESCRIPTION:For senior adult women
URL:https://fbclithonia.org/event/wmu-dayspring-baptist-women/2021-04-13/
LOCATION:Yellow Brick House\, 6903 Main St.\, Lithonia\, GA\, 30058\, United States
GEO:33.7096255;-84.1080099
X-APPLE-STRUCTURED-LOCATION;VALUE=URI;X-ADDRESS=Yellow Brick House 6903 Main St. Lithonia GA 30058 United States;X-APPLE-RADIUS=500;X-TITLE=6903 Main St.:geo:-84.1080099,33.7096255
END:VEVENT
BEGIN:VEVENT
DTSTART;TZID=UTC:20210309T103000
DTEND;TZID=UTC:20210309T123000
DTSTAMP:20260421T033516
CREATED:20170816T214937Z
LAST-MODIFIED:20260204T120014Z
UID:10001515-1615285800-1615293000@fbclithonia.org
SUMMARY:WMU Dayspring Baptist Women
DESCRIPTION:For senior adult women
URL:https://fbclithonia.org/event/wmu-dayspring-baptist-women/2021-03-09/
LOCATION:Yellow Brick House\, 6903 Main St.\, Lithonia\, GA\, 30058\, United States
GEO:33.7096255;-84.1080099
X-APPLE-STRUCTURED-LOCATION;VALUE=URI;X-ADDRESS=Yellow Brick House 6903 Main St. Lithonia GA 30058 United States;X-APPLE-RADIUS=500;X-TITLE=6903 Main St.:geo:-84.1080099,33.7096255
END:VEVENT
BEGIN:VEVENT
DTSTART;TZID=UTC:20210209T103000
DTEND;TZID=UTC:20210209T123000
DTSTAMP:20260421T033516
CREATED:20170816T214937Z
LAST-MODIFIED:20260204T120014Z
UID:10001514-1612866600-1612873800@fbclithonia.org
SUMMARY:WMU Dayspring Baptist Women
DESCRIPTION:For senior adult women
URL:https://fbclithonia.org/event/wmu-dayspring-baptist-women/2021-02-09/
LOCATION:Yellow Brick House\, 6903 Main St.\, Lithonia\, GA\, 30058\, United States
GEO:33.7096255;-84.1080099
X-APPLE-STRUCTURED-LOCATION;VALUE=URI;X-ADDRESS=Yellow Brick House 6903 Main St. Lithonia GA 30058 United States;X-APPLE-RADIUS=500;X-TITLE=6903 Main St.:geo:-84.1080099,33.7096255
END:VEVENT
BEGIN:VEVENT
DTSTART;TZID=UTC:20210112T103000
DTEND;TZID=UTC:20210112T123000
DTSTAMP:20260421T033516
CREATED:20170816T214937Z
LAST-MODIFIED:20260204T120014Z
UID:10001513-1610447400-1610454600@fbclithonia.org
SUMMARY:WMU Dayspring Baptist Women
DESCRIPTION:For senior adult women
URL:https://fbclithonia.org/event/wmu-dayspring-baptist-women/2021-01-12/
LOCATION:Yellow Brick House\, 6903 Main St.\, Lithonia\, GA\, 30058\, United States
GEO:33.7096255;-84.1080099
X-APPLE-STRUCTURED-LOCATION;VALUE=URI;X-ADDRESS=Yellow Brick House 6903 Main St. Lithonia GA 30058 United States;X-APPLE-RADIUS=500;X-TITLE=6903 Main St.:geo:-84.1080099,33.7096255
END:VEVENT
BEGIN:VEVENT
DTSTART;TZID=UTC:20201208T103000
DTEND;TZID=UTC:20201208T123000
DTSTAMP:20260421T033516
CREATED:20170816T214937Z
LAST-MODIFIED:20260204T120014Z
UID:10001512-1607423400-1607430600@fbclithonia.org
SUMMARY:WMU Dayspring Baptist Women
DESCRIPTION:For senior adult women
URL:https://fbclithonia.org/event/wmu-dayspring-baptist-women/2020-12-08/
LOCATION:Yellow Brick House\, 6903 Main St.\, Lithonia\, GA\, 30058\, United States
GEO:33.7096255;-84.1080099
X-APPLE-STRUCTURED-LOCATION;VALUE=URI;X-ADDRESS=Yellow Brick House 6903 Main St. Lithonia GA 30058 United States;X-APPLE-RADIUS=500;X-TITLE=6903 Main St.:geo:-84.1080099,33.7096255
END:VEVENT
BEGIN:VEVENT
DTSTART;TZID=UTC:20201110T103000
DTEND;TZID=UTC:20201110T123000
DTSTAMP:20260421T033516
CREATED:20170816T214937Z
LAST-MODIFIED:20260204T120014Z
UID:10001511-1605004200-1605011400@fbclithonia.org
SUMMARY:WMU Dayspring Baptist Women
DESCRIPTION:For senior adult women
URL:https://fbclithonia.org/event/wmu-dayspring-baptist-women/2020-11-10/
LOCATION:Yellow Brick House\, 6903 Main St.\, Lithonia\, GA\, 30058\, United States
GEO:33.7096255;-84.1080099
X-APPLE-STRUCTURED-LOCATION;VALUE=URI;X-ADDRESS=Yellow Brick House 6903 Main St. Lithonia GA 30058 United States;X-APPLE-RADIUS=500;X-TITLE=6903 Main St.:geo:-84.1080099,33.7096255
END:VEVENT
BEGIN:VEVENT
DTSTART;TZID=UTC:20201013T103000
DTEND;TZID=UTC:20201013T123000
DTSTAMP:20260421T033516
CREATED:20170816T214937Z
LAST-MODIFIED:20260204T120014Z
UID:10001510-1602585000-1602592200@fbclithonia.org
SUMMARY:WMU Dayspring Baptist Women
DESCRIPTION:For senior adult women
URL:https://fbclithonia.org/event/wmu-dayspring-baptist-women/2020-10-13/
LOCATION:Yellow Brick House\, 6903 Main St.\, Lithonia\, GA\, 30058\, United States
GEO:33.7096255;-84.1080099
X-APPLE-STRUCTURED-LOCATION;VALUE=URI;X-ADDRESS=Yellow Brick House 6903 Main St. Lithonia GA 30058 United States;X-APPLE-RADIUS=500;X-TITLE=6903 Main St.:geo:-84.1080099,33.7096255
END:VEVENT
BEGIN:VEVENT
DTSTART;TZID=UTC:20200908T103000
DTEND;TZID=UTC:20200908T123000
DTSTAMP:20260421T033516
CREATED:20170816T214937Z
LAST-MODIFIED:20260204T120014Z
UID:10001509-1599561000-1599568200@fbclithonia.org
SUMMARY:WMU Dayspring Baptist Women
DESCRIPTION:For senior adult women
URL:https://fbclithonia.org/event/wmu-dayspring-baptist-women/2020-09-08/
LOCATION:Yellow Brick House\, 6903 Main St.\, Lithonia\, GA\, 30058\, United States
GEO:33.7096255;-84.1080099
X-APPLE-STRUCTURED-LOCATION;VALUE=URI;X-ADDRESS=Yellow Brick House 6903 Main St. Lithonia GA 30058 United States;X-APPLE-RADIUS=500;X-TITLE=6903 Main St.:geo:-84.1080099,33.7096255
END:VEVENT
BEGIN:VEVENT
DTSTART;TZID=UTC:20200811T103000
DTEND;TZID=UTC:20200811T123000
DTSTAMP:20260421T033516
CREATED:20170816T214937Z
LAST-MODIFIED:20260204T120014Z
UID:10001508-1597141800-1597149000@fbclithonia.org
SUMMARY:WMU Dayspring Baptist Women
DESCRIPTION:For senior adult women
URL:https://fbclithonia.org/event/wmu-dayspring-baptist-women/2020-08-11/
LOCATION:Yellow Brick House\, 6903 Main St.\, Lithonia\, GA\, 30058\, United States
GEO:33.7096255;-84.1080099
X-APPLE-STRUCTURED-LOCATION;VALUE=URI;X-ADDRESS=Yellow Brick House 6903 Main St. Lithonia GA 30058 United States;X-APPLE-RADIUS=500;X-TITLE=6903 Main St.:geo:-84.1080099,33.7096255
END:VEVENT
BEGIN:VEVENT
DTSTART;TZID=UTC:20200714T103000
DTEND;TZID=UTC:20200714T123000
DTSTAMP:20260421T033516
CREATED:20170816T214937Z
LAST-MODIFIED:20260204T120014Z
UID:10001507-1594722600-1594729800@fbclithonia.org
SUMMARY:WMU Dayspring Baptist Women
DESCRIPTION:For senior adult women
URL:https://fbclithonia.org/event/wmu-dayspring-baptist-women/2020-07-14/
LOCATION:Yellow Brick House\, 6903 Main St.\, Lithonia\, GA\, 30058\, United States
GEO:33.7096255;-84.1080099
X-APPLE-STRUCTURED-LOCATION;VALUE=URI;X-ADDRESS=Yellow Brick House 6903 Main St. Lithonia GA 30058 United States;X-APPLE-RADIUS=500;X-TITLE=6903 Main St.:geo:-84.1080099,33.7096255
END:VEVENT
BEGIN:VEVENT
DTSTART;TZID=UTC:20200609T103000
DTEND;TZID=UTC:20200609T123000
DTSTAMP:20260421T033516
CREATED:20170816T214937Z
LAST-MODIFIED:20260204T120014Z
UID:10001506-1591698600-1591705800@fbclithonia.org
SUMMARY:WMU Dayspring Baptist Women
DESCRIPTION:For senior adult women
URL:https://fbclithonia.org/event/wmu-dayspring-baptist-women/2020-06-09/
LOCATION:Yellow Brick House\, 6903 Main St.\, Lithonia\, GA\, 30058\, United States
GEO:33.7096255;-84.1080099
X-APPLE-STRUCTURED-LOCATION;VALUE=URI;X-ADDRESS=Yellow Brick House 6903 Main St. Lithonia GA 30058 United States;X-APPLE-RADIUS=500;X-TITLE=6903 Main St.:geo:-84.1080099,33.7096255
END:VEVENT
BEGIN:VEVENT
DTSTART;TZID=UTC:20200512T103000
DTEND;TZID=UTC:20200512T123000
DTSTAMP:20260421T033516
CREATED:20170816T214937Z
LAST-MODIFIED:20260204T120014Z
UID:10001505-1589279400-1589286600@fbclithonia.org
SUMMARY:WMU Dayspring Baptist Women
DESCRIPTION:For senior adult women
URL:https://fbclithonia.org/event/wmu-dayspring-baptist-women/2020-05-12/
LOCATION:Yellow Brick House\, 6903 Main St.\, Lithonia\, GA\, 30058\, United States
GEO:33.7096255;-84.1080099
X-APPLE-STRUCTURED-LOCATION;VALUE=URI;X-ADDRESS=Yellow Brick House 6903 Main St. Lithonia GA 30058 United States;X-APPLE-RADIUS=500;X-TITLE=6903 Main St.:geo:-84.1080099,33.7096255
END:VEVENT
BEGIN:VEVENT
DTSTART;TZID=UTC:20200414T103000
DTEND;TZID=UTC:20200414T123000
DTSTAMP:20260421T033516
CREATED:20170816T214937Z
LAST-MODIFIED:20260204T120014Z
UID:10001504-1586860200-1586867400@fbclithonia.org
SUMMARY:WMU Dayspring Baptist Women
DESCRIPTION:For senior adult women
URL:https://fbclithonia.org/event/wmu-dayspring-baptist-women/2020-04-14/
LOCATION:Yellow Brick House\, 6903 Main St.\, Lithonia\, GA\, 30058\, United States
GEO:33.7096255;-84.1080099
X-APPLE-STRUCTURED-LOCATION;VALUE=URI;X-ADDRESS=Yellow Brick House 6903 Main St. Lithonia GA 30058 United States;X-APPLE-RADIUS=500;X-TITLE=6903 Main St.:geo:-84.1080099,33.7096255
END:VEVENT
BEGIN:VEVENT
DTSTART;TZID=UTC:20200310T103000
DTEND;TZID=UTC:20200310T123000
DTSTAMP:20260421T033516
CREATED:20170816T214937Z
LAST-MODIFIED:20260204T120014Z
UID:10001503-1583836200-1583843400@fbclithonia.org
SUMMARY:WMU Dayspring Baptist Women
DESCRIPTION:For senior adult women
URL:https://fbclithonia.org/event/wmu-dayspring-baptist-women/2020-03-10/
LOCATION:Yellow Brick House\, 6903 Main St.\, Lithonia\, GA\, 30058\, United States
GEO:33.7096255;-84.1080099
X-APPLE-STRUCTURED-LOCATION;VALUE=URI;X-ADDRESS=Yellow Brick House 6903 Main St. Lithonia GA 30058 United States;X-APPLE-RADIUS=500;X-TITLE=6903 Main St.:geo:-84.1080099,33.7096255
END:VEVENT
BEGIN:VEVENT
DTSTART;TZID=UTC:20200211T103000
DTEND;TZID=UTC:20200211T123000
DTSTAMP:20260421T033516
CREATED:20170816T214937Z
LAST-MODIFIED:20260204T120014Z
UID:10001502-1581417000-1581424200@fbclithonia.org
SUMMARY:WMU Dayspring Baptist Women
DESCRIPTION:For senior adult women
URL:https://fbclithonia.org/event/wmu-dayspring-baptist-women/2020-02-11/
LOCATION:Yellow Brick House\, 6903 Main St.\, Lithonia\, GA\, 30058\, United States
GEO:33.7096255;-84.1080099
X-APPLE-STRUCTURED-LOCATION;VALUE=URI;X-ADDRESS=Yellow Brick House 6903 Main St. Lithonia GA 30058 United States;X-APPLE-RADIUS=500;X-TITLE=6903 Main St.:geo:-84.1080099,33.7096255
END:VEVENT
BEGIN:VEVENT
DTSTART;TZID=UTC:20200114T103000
DTEND;TZID=UTC:20200114T123000
DTSTAMP:20260421T033516
CREATED:20170816T214937Z
LAST-MODIFIED:20260204T120014Z
UID:10001501-1578997800-1579005000@fbclithonia.org
SUMMARY:WMU Dayspring Baptist Women
DESCRIPTION:For senior adult women
URL:https://fbclithonia.org/event/wmu-dayspring-baptist-women/2020-01-14/
LOCATION:Yellow Brick House\, 6903 Main St.\, Lithonia\, GA\, 30058\, United States
GEO:33.7096255;-84.1080099
X-APPLE-STRUCTURED-LOCATION;VALUE=URI;X-ADDRESS=Yellow Brick House 6903 Main St. Lithonia GA 30058 United States;X-APPLE-RADIUS=500;X-TITLE=6903 Main St.:geo:-84.1080099,33.7096255
END:VEVENT
BEGIN:VEVENT
DTSTART;TZID=UTC:20191210T103000
DTEND;TZID=UTC:20191210T123000
DTSTAMP:20260421T033516
CREATED:20170816T214937Z
LAST-MODIFIED:20260204T120014Z
UID:10001500-1575973800-1575981000@fbclithonia.org
SUMMARY:WMU Dayspring Baptist Women
DESCRIPTION:For senior adult women
URL:https://fbclithonia.org/event/wmu-dayspring-baptist-women/2019-12-10/
LOCATION:Yellow Brick House\, 6903 Main St.\, Lithonia\, GA\, 30058\, United States
GEO:33.7096255;-84.1080099
X-APPLE-STRUCTURED-LOCATION;VALUE=URI;X-ADDRESS=Yellow Brick House 6903 Main St. Lithonia GA 30058 United States;X-APPLE-RADIUS=500;X-TITLE=6903 Main St.:geo:-84.1080099,33.7096255
END:VEVENT
BEGIN:VEVENT
DTSTART;TZID=UTC:20191112T103000
DTEND;TZID=UTC:20191112T123000
DTSTAMP:20260421T033516
CREATED:20170816T214937Z
LAST-MODIFIED:20260204T120014Z
UID:10001499-1573554600-1573561800@fbclithonia.org
SUMMARY:WMU Dayspring Baptist Women
DESCRIPTION:For senior adult women
URL:https://fbclithonia.org/event/wmu-dayspring-baptist-women/2019-11-12/
LOCATION:Yellow Brick House\, 6903 Main St.\, Lithonia\, GA\, 30058\, United States
GEO:33.7096255;-84.1080099
X-APPLE-STRUCTURED-LOCATION;VALUE=URI;X-ADDRESS=Yellow Brick House 6903 Main St. Lithonia GA 30058 United States;X-APPLE-RADIUS=500;X-TITLE=6903 Main St.:geo:-84.1080099,33.7096255
END:VEVENT
END:VCALENDAR